Workbook

Sheet INSTRUCTION
A1: Comment utiliser le fichier :
A2: 1. Aller dans l'onglet concours
A3: 2. Modifier seulement le nom des concours
A4: 3. Procéder à la rentrée des données
A5: Toutes les cellules grises ne devraient PAS être modifiées car elle contiennent des formules.
A6: 4.Évitez de remplir la dernière ligne de chaque tableau. Si il vous manque de lignes, sélectionnez la dernière ligne au complet (en cliquant sur le chiffre à gauche associé), faites clique-droit sur le chiffre de la ligne sélectionnez "Copier". Puis refaites clique-droit sur le chiffre de la même ligne et sélectionner "Insérer les cellules copiées". Comme ça les formules vont se suivre.
A10: 5. Pour masquer des lignes vides, sélectionnez les lignes au complet vides, faites clique-droit sur le chiffre de la ligne et sélectionner "Masquer".
A11: Pour les afficher, faites le même procéder et cliquez sur "Afficher". Magie, ça fonctionne aussi avec les colonnes !
A12: Je vous recommande de faire cette opération avant l'impression pour évitez d'imprimer un fichier avec plein de cellules vides
A13: Également, comme le fichier est gros, je recommande de Masquer les colonnes des concours n'ayant pas encore eu lieu.
A14: 6. Pour imprimer le document en PDF, sélectionnez "Imprimer le classeur entier". Indiquez la page 3 dans la première case
A15: Et indiquez la page max dans la deuxième case (ex: 5 ou plus)
A16: S'assurer de sélectionner en dernier "Ajuster toute les colonnes à…"

Sheet Concours
A1: Concours
A2: 1 | B2: Bromont 16-17 mai 2026
A3: 2 | B3: Géronimo 27-28 juin 2026
A4: 3 | B4: Équilibre 18-19 juillet 2026
A5: 4 | B5: Domaine Avalon 8-9 août 2026
A6: 5 | B6: Royale 22-23 août 2026
A7: 6 | B7: Bromont Finale 5-6 septembre 2026

Sheet Initiation
A1: #AERE | B1: Prénom | C1: Cavalier | D1: Cheval | E1: Cumulatif | F1: Rang | G1: Rang Gala | H1: =VLOOKUP(1,Concours!$A$2:$B$6,2,FALSE) -> Bromont 16-17 mai 2026 | R1: =VLOOKUP(2,Concours!$A$2:$B$6,2,FALSE) -> Géronimo 27-28 juin 2026 | AB1: =VLOOKUP(3,Concours!$A$2:$B$6,2,FALSE) -> Équilibre 18-19 juillet 2026 | AL1: =VLOOKUP(4,Concours!$A$2:$B$6,2,FALSE) -> Domaine Avalon 8-9 août 2026 | AV1: =Concours!B6 -> Royale 22-23 août 2026 | BF1: =Concours!B7 -> Bromont Finale 5-6 septembre 2026
A2: Initiation Poney | H2: Reprise 1 | I2: Nbr de cavalier | J2: 1 | K2: Reprise 2 | L2: Nbr de cavalier | M2: 1 | N2: Reprise 3 | O2: Nbr de cavalier | P2: 1 | Q2: TOTAL POINT | R2: Reprise 1 | S2: Nbr de cavalier | T2: 1 | U2: Reprise 2 | V2: Nbr de cavalier | W2: 1 | X2: Reprise 3 | Y2: Nbr de cavalier | Z2: 1 | AA2: TOTAL POINT | AB2: Reprise 1 | AC2: Nbr de cavalier | AD2: 3 | AE2: Reprise 2 | AF2: Nbr de cavalier | AG2: 3 | AH2: Reprise 3 | AI2: Nbr de cavalier | AJ2: 3 | AK2: TOTAL POINT | AL2: Reprise 1 | AM2: Nbr de cavalier | AN2: 1 | AO2: Reprise 2 | AP2: Nbr de cavalier | AQ2: 1 | AR2: Reprise 3 | AS2: Nbr de cavalier | AT2: 1 | AU2: TOTAL POINT | AV2: Reprise 1 | AW2: Nbr de cavalier | AX2: 2 | AY2: Reprise 2 | AZ2: Nbr de cavalier | BA2: 2 | BB2: Reprise 3 | BC2: Nbr de cavalier | BD2: 2 | BE2: TOTAL POINT | BF2: Reprise 1 | BG2: Nbr de cavalier | BH2: 3 | BI2: Reprise 2 | BJ2: Nbr de cavalier | BK2: 2 | BL2: Reprise 3 | BM2: Nbr de cavalier | BN2: 3 | BO2: TOTAL POINT
H3: Résultats | I3: Position | J3: Points | K3: Résultats | L3: Position | M3: Points | N3: Résultats | O3: Position | P3: Points | R3: Résultats | S3: Position | T3: Points | U3: Résultats | V3: Position | W3: Points | X3: Résultats | Y3: Position | Z3: Points | AB3: Résultats | AC3: Position | AD3: Points | AE3: Résultats | AF3: Position | AG3: Points | AH3: Résultats | AI3: Position | AJ3: Points | AL3: Résultats | AM3: Position | AN3: Points | AO3: Résultats | AP3: Position | AQ3: Points | AR3: Résultats | AS3: Position | AT3: Points | AV3: Résultats | AW3: Position | AX3: Points | AY3: Résultats | AZ3: Position | BA3: Points | BB3: Résultats | BC3: Position | BD3: Points | BF3: Résultats | BG3: Position | BH3: Points | BI3: Résultats | BJ3: Position | BK3: Points | BL3: Résultats | BM3: Position | BN3: Points
B4: Éliane | C4: Boudreau | D4: Lilas | E4: =Q4+AA4++AK4+AU4+BO4+BE4 -> 52 | F4: =IF(E4=0,"",RANK(E4,E$4:E$9,0)) -> 3 | G4: =IF(F4=1,"Or",IF(F4=2,"Argent",IF(F4=3,"Bronze",""))) -> Bronze | H4: 66.562 | I4: =IF(H4=0,"",RANK(H4,H$4:H$9,0)) -> 1 | J4: =IF(I4="",0,VLOOKUP(I4,Pointage[#All],2,FALSE)*J$2) -> 6 | K4: 63.437 | L4: =IF(K4=0,"",RANK(K4,K$4:K$9,0)) -> 1 | M4: =IF(L4="",0,VLOOKUP(L4,Pointage[#All],2,FALSE)*M$2) -> 6 | N4: 64750 | O4: =IF(N4=0,"",RANK(N4,N$4:N$9,0)) -> 1 | P4: =IF(O4="",0,VLOOKUP(O4,Pointage[#All],2,FALSE)*P$2) -> 6 | Q4: =IF(J4="","",J4+M4+P4) -> 18 | S4: =IF(R4=0,"",RANK(R4,R$4:R$9,0)) | T4: =IF(S4="",0,VLOOKUP(S4,Pointage[#All],2,FALSE)*T$2) -> 0 | V4: =IF(U4=0,"",RANK(U4,U$4:U$9,0)) | W4: =IF(V4="",0,VLOOKUP(V4,Pointage[#All],2,FALSE)*W$2) -> 0 | Y4: =IF(X4=0,"",RANK(X4,X$4:X$9,0)) | Z4: =IF(Y4="",0,VLOOKUP(Y4,Pointage[#All],2,FALSE)*Z$2) -> 0 | AA4: =IF(T4="","",T4+W4+Z4) -> 0 | AC4: =IF(AB4=0,"",RANK(AB4,AB$4:AB$9,0)) | AD4: =IF(AC4="",0,VLOOKUP(AC4,Pointage[#All],2,FALSE)*AD$2) -> 0 | AF4: =IF(AE4=0,"",RANK(AE4,AE$4:AE$9,0)) | AG4: =IF(AF4="",0,VLOOKUP(AF4,Pointage[#All],2,FALSE)*AG$2) -> 0 | AI4: =IF(AH4=0,"",RANK(AH4,AH$4:AH$9,0)) | AJ4: =IF(AI4="",0,VLOOKUP(AI4,Pointage[#All],2,FALSE)*AJ$2) -> 0 | AK4: =IF(AD4="","",AD4+AG4+AJ4) -> 0 | AM4: =IF(AL4=0,"",RANK(AL4,AL$4:AL$9,0)) | AN4: =IF(AM4="",0,VLOOKUP(AM4,Pointage[#All],2,FALSE)*AN$2) -> 0 | AP4: =IF(AO4=0,"",RANK(AO4,AO$4:AO$9,0)) | AQ4: =IF(AP4="",0,VLOOKUP(AP4,Pointage[#All],2,FALSE)*AQ$2) -> 0 | AS4: =IF(AR4=0,"",RANK(AR4,AR$4:AR$9,0)) | AT4: =IF(AS4="",0,VLOOKUP(AS4,Pointage[#All],2,FALSE)*AT$2) -> 0 | AU4: =IF(AN4="","",AN4+AQ4+AT4) -> 0 | AV4: 67.5 | AW4: =IF(AV4=0,"",RANK(AV4,AV$4:AV$9,0)) -> 2 | AX4: =IF(AW4="",0,VLOOKUP(AW4,Pointage[#All],2,FALSE)*AX$2) -> 10 | AY4: 65.9 | AZ4: =IF(AY4=0,"",RANK(AY4,AY$4:AY$9,0)) -> 1 | BA4: =IF(AZ4="",0,VLOOKUP(AZ4,Pointage[#All],2,FALSE)*BA$2) -> 12 | BB4: 64.25 | BC4: =IF(BB4=0,"",RANK(BB4,BB$4:BB$9,0)) -> 1 | BD4: =IF(BC4="",0,VLOOKUP(BC4,Pointage[#All],2,FALSE)*BD$2) -> 12 | BE4: =IF(AX4="","",AX4+BA4+BD4) -> 34 | BG4: =IF(BF4=0,"",RANK(BF4,BF$4:BF$9,0)) | BH4: =IF(BG4="",0,VLOOKUP(BG4,Pointage[#All],2,FALSE)*BH$2) -> 0 | BJ4: =IF(BI4=0,"",RANK(BI4,BI$4:BI$9,0)) | BK4: =IF(BJ4="",0,VLOOKUP(BJ4,Pointage[#All],2,FALSE)*BK$2) -> 0 | BM4: =IF(BL4=0,"",RANK(BL4,BL$4:BL$9,0)) | BN4: =IF(BM4="",0,VLOOKUP(BM4,Pointage[#All],2,FALSE)*BN$2) -> 0 | BO4: =IF(BH4="","",BH4+BK4+BN4)*1.25 -> 0
B5: Elia | C5: Forgues | D5: Odette | E5: =Q5+AA5++AK5+AU5+BO5+BE5 -> 95 | F5: =IF(E5=0,"",RANK(E5,E$4:E$9,0)) -> 1 | G5: =IF(F5=1,"Or",IF(F5=2,"Argent",IF(F5=3,"Bronze",""))) -> Or | I5: =IF(H5=0,"",RANK(H5,H$4:H$9,0)) | J5: =IF(I5="",0,VLOOKUP(I5,Pointage[#All],2,FALSE)*J$2) -> 0 | L5: =IF(K5=0,"",RANK(K5,K$4:K$9,0)) | M5: =IF(L5="",0,VLOOKUP(L5,Pointage[#All],2,FALSE)*M$2) -> 0 | O5: =IF(N5=0,"",RANK(N5,N$4:N$9,0)) | P5: =IF(O5="",0,VLOOKUP(O5,Pointage[#All],2,FALSE)*P$2) -> 0 | Q5: =IF(J5="","",J5+M5+P5) -> 0 | R5: 0 | S5: =IF(R5=0,"",RANK(R5,R$4:R$9,0)) | T5: =IF(S5="",0,VLOOKUP(S5,Pointage[#All],2,FALSE)*T$2) -> 0 | U5: 65.31 | V5: =IF(U5=0,"",RANK(U5,U$4:U$9,0)) -> 1 | W5: =IF(V5="",0,VLOOKUP(V5,Pointage[#All],2,FALSE)*W$2) -> 6 | X5: 59.5 | Y5: =IF(X5=0,"",RANK(X5,X$4:X$9,0)) -> 1 | Z5: =IF(Y5="",0,VLOOKUP(Y5,Pointage[#All],2,FALSE)*Z$2) -> 6 | AA5: =IF(T5="","",T5+W5+Z5) -> 12 | AB5: 66.25 | AC5: 2 | AD5: =IF(AC5="",0,VLOOKUP(AC5,Pointage[#All],2,FALSE)*AD$2) -> 15 | AE5: 68.75 | AF5: =IF(AE5=0,"",RANK(AE5,AE$4:AE$9,0)) -> 1 | AG5: =IF(AF5="",0,VLOOKUP(AF5,Pointage[#All],2,FALSE)*AG$2) -> 18 | AH5: 67 | AI5: =IF(AH5=0,"",RANK(AH5,AH$4:AH$9,0)) -> 1 | AJ5: =IF(AI5="",0,VLOOKUP(AI5,Pointage[#All],2,FALSE)*AJ$2) -> 18 | AK5: =IF(AD5="","",AD5+AG5+AJ5) -> 51 | AM5: =IF(AL5=0,"",RANK(AL5,AL$4:AL$9,0)) | AN5: =IF(AM5="",0,VLOOKUP(AM5,Pointage[#All],2,FALSE)*AN$2) -> 0 | AP5: =IF(AO5=0,"",RANK(AO5,AO$4:AO$9,0)) | AQ5: =IF(AP5="",0,VLOOKUP(AP5,Pointage[#All],2,FALSE)*AQ$2) -> 0 | AS5: =IF(AR5=0,"",RANK(AR5,AR$4:AR$9,0)) | AT5: =IF(AS5="",0,VLOOKUP(AS5,Pointage[#All],2,FALSE)*AT$2) -> 0 | AU5: =IF(AN5="","",AN5+AQ5+AT5) -> 0 | AV5: 72.5 | AW5: =IF(AV5=0,"",RANK(AV5,AV$4:AV$9,0)) -> 1 | AX5: =IF(AW5="",0,VLOOKUP(AW5,Pointage[#All],2,FALSE)*AX$2) -> 12 | AY5: 65.62 | AZ5: =IF(AY5=0,"",RANK(AY5,AY$4:AY$9,0)) -> 2 | BA5: =IF(AZ5="",0,VLOOKUP(AZ5,Pointage[#All],2,FALSE)*BA$2) -> 10 | BB5: 63.25 | BC5: =IF(BB5=0,"",RANK(BB5,BB$4:BB$9,0)) -> 2 | BD5: =IF(BC5="",0,VLOOKUP(BC5,Pointage[#All],2,FALSE)*BD$2) -> 10 | BE5: =IF(AX5="","",AX5+BA5+BD5) -> 32 | BG5: =IF(BF5=0,"",RANK(BF5,BF$4:BF$9,0)) | BH5: =IF(BG5="",0,VLOOKUP(BG5,Pointage[#All],2,FALSE)*BH$2) -> 0 | BJ5: =IF(BI5=0,"",RANK(BI5,BI$4:BI$9,0)) | BK5: =IF(BJ5="",0,VLOOKUP(BJ5,Pointage[#All],2,FALSE)*BK$2) -> 0 | BM5: =IF(BL5=0,"",RANK(BL5,BL$4:BL$9,0)) | BN5: =IF(BM5="",0,VLOOKUP(BM5,Pointage[#All],2,FALSE)*BN$2) -> 0 | BO5: =IF(BH5="","",BH5+BK5+BN5)*1.25 -> 0
B6: Élizabeth | C6: Ducharme | D6: Charlot | E6: =Q6+AA6++AK6+AU6+BO6+BE6 -> 74.25 | F6: =IF(E6=0,"",RANK(E6,E$4:E$9,0)) -> 2 | G6: =IF(F6=1,"Or",IF(F6=2,"Argent",IF(F6=3,"Bronze",""))) -> Argent | I6: =IF(H6=0,"",RANK(H6,H$4:H$9,0)) | J6: =IF(I6="",0,VLOOKUP(I6,Pointage[#All],2,FALSE)*J$2) -> 0 | L6: =IF(K6=0,"",RANK(K6,K$4:K$9,0)) | M6: =IF(L6="",0,VLOOKUP(L6,Pointage[#All],2,FALSE)*M$2) -> 0 | O6: =IF(N6=0,"",RANK(N6,N$4:N$9,0)) | P6: =IF(O6="",0,VLOOKUP(O6,Pointage[#All],2,FALSE)*P$2) -> 0 | Q6: =IF(J6="","",J6+M6+P6) -> 0 | S6: =IF(R6=0,"",RANK(R6,R$4:R$9,0)) | T6: =IF(S6="",0,VLOOKUP(S6,Pointage[#All],2,FALSE)*T$2) -> 0 | V6: =IF(U6=0,"",RANK(U6,U$4:U$9,0)) | W6: =IF(V6="",0,VLOOKUP(V6,Pointage[#All],2,FALSE)*W$2) -> 0 | Y6: =IF(X6=0,"",RANK(X6,X$4:X$9,0)) | Z6: =IF(Y6="",0,VLOOKUP(Y6,Pointage[#All],2,FALSE)*Z$2) -> 0 | AA6: =IF(T6="","",T6+W6+Z6) -> 0 | AC6: =IF(AB6=0,"",RANK(AB6,AB$4:AB$9,0)) | AD6: =IF(AC6="",0,VLOOKUP(AC6,Pointage[#All],2,FALSE)*AD$2) -> 0 | AF6: =IF(AE6=0,"",RANK(AE6,AE$4:AE$9,0)) | AG6: =IF(AF6="",0,VLOOKUP(AF6,Pointage[#All],2,FALSE)*AG$2) -> 0 | AI6: =IF(AH6=0,"",RANK(AH6,AH$4:AH$9,0)) | AJ6: =IF(AI6="",0,VLOOKUP(AI6,Pointage[#All],2,FALSE)*AJ$2) -> 0 | AK6: =IF(AD6="","",AD6+AG6+AJ6) -> 0 | AL6: 64.69 | AM6: =IF(AL6=0,"",RANK(AL6,AL$4:AL$9,0)) -> 1 | AN6: =IF(AM6="",0,VLOOKUP(AM6,Pointage[#All],2,FALSE)*AN$2) -> 6 | AO6: 62.81 | AP6: =IF(AO6=0,"",RANK(AO6,AO$4:AO$9,0)) -> 1 | AQ6: =IF(AP6="",0,VLOOKUP(AP6,Pointage[#All],2,FALSE)*AQ$2) -> 6 | AR6: 62.25 | AS6: =IF(AR6=0,"",RANK(AR6,AR$4:AR$9,0)) -> 1 | AT6: =IF(AS6="",0,VLOOKUP(AS6,Pointage[#All],2,FALSE)*AT$2) -> 6 | AU6: =IF(AN6="","",AN6+AQ6+AT6) -> 18 | AW6: =IF(AV6=0,"",RANK(AV6,AV$4:AV$9,0)) | AX6: =IF(AW6="",0,VLOOKUP(AW6,Pointage[#All],2,FALSE)*AX$2) -> 0 | AZ6: =IF(AY6=0,"",RANK(AY6,AY$4:AY$9,0)) | BA6: =IF(AZ6="",0,VLOOKUP(AZ6,Pointage[#All],2,FALSE)*BA$2) -> 0 | BC6: =IF(BB6=0,"",RANK(BB6,BB$4:BB$9,0)) | BD6: =IF(BC6="",0,VLOOKUP(BC6,Pointage[#All],2,FALSE)*BD$2) -> 0 | BE6: =IF(AX6="","",AX6+BA6+BD6) -> 0 | BF6: 68.437 | BG6: =IF(BF6=0,"",RANK(BF6,BF$4:BF$9,0)) -> 2 | BH6: =IF(BG6="",0,VLOOKUP(BG6,Pointage[#All],2,FALSE)*BH$2) -> 15 | BI6: 74.062 | BJ6: =IF(BI6=0,"",RANK(BI6,BI$4:BI$9,0)) -> 1 | BK6: =IF(BJ6="",0,VLOOKUP(BJ6,Pointage[#All],2,FALSE)*BK$2) -> 12 | BL6: 65.5 | BM6: =IF(BL6=0,"",RANK(BL6,BL$4:BL$9,0)) -> 1 | BN6: =IF(BM6="",0,VLOOKUP(BM6,Pointage[#All],2,FALSE)*BN$2) -> 18 | BO6: =IF(BH6="","",BH6+BK6+BN6)*1.25 -> 56.25
B7: Sofia | C7: Keuremtjes | D7: Pickles | E7: =Q7+AA7++AK7+AU7+BO7 -> 41.25 | F7: =IF(E7=0,"",RANK(E7,E$4:E$9,0)) -> 5 | G7: =IF(F7=1,"Or",IF(F7=2,"Argent",IF(F7=3,"Bronze",""))) | I7: =IF(H7=0,"",RANK(H7,H$4:H$9,0)) | J7: =IF(I7="",0,VLOOKUP(I7,Pointage[#All],2,FALSE)*J$2) -> 0 | L7: =IF(K7=0,"",RANK(K7,K$4:K$9,0)) | M7: =IF(L7="",0,VLOOKUP(L7,Pointage[#All],2,FALSE)*M$2) -> 0 | O7: =IF(N7=0,"",RANK(N7,N$4:N$9,0)) | P7: =IF(O7="",0,VLOOKUP(O7,Pointage[#All],2,FALSE)*P$2) -> 0 | Q7: =IF(J7="","",J7+M7+P7) -> 0 | S7: =IF(R7=0,"",RANK(R7,R$4:R$9,0)) | T7: =IF(S7="",0,VLOOKUP(S7,Pointage[#All],2,FALSE)*T$2) -> 0 | V7: =IF(U7=0,"",RANK(U7,U$4:U$9,0)) | W7: =IF(V7="",0,VLOOKUP(V7,Pointage[#All],2,FALSE)*W$2) -> 0 | Y7: =IF(X7=0,"",RANK(X7,X$4:X$9,0)) | Z7: =IF(Y7="",0,VLOOKUP(Y7,Pointage[#All],2,FALSE)*Z$2) -> 0 | AA7: =IF(T7="","",T7+W7+Z7) -> 0 | AC7: =IF(AB7=0,"",RANK(AB7,AB$4:AB$9,0)) | AD7: =IF(AC7="",0,VLOOKUP(AC7,Pointage[#All],2,FALSE)*AD$2) -> 0 | AF7: =IF(AE7=0,"",RANK(AE7,AE$4:AE$9,0)) | AG7: =IF(AF7="",0,VLOOKUP(AF7,Pointage[#All],2,FALSE)*AG$2) -> 0 | AI7: =IF(AH7=0,"",RANK(AH7,AH$4:AH$9,0)) | AJ7: =IF(AI7="",0,VLOOKUP(AI7,Pointage[#All],2,FALSE)*AJ$2) -> 0 | AK7: =IF(AD7="","",AD7+AG7+AJ7) -> 0 | AM7: =IF(AL7=0,"",RANK(AL7,AL$4:AL$9,0)) | AN7: =IF(AM7="",0,VLOOKUP(AM7,Pointage[#All],2,FALSE)*AN$2) -> 0 | AP7: =IF(AO7=0,"",RANK(AO7,AO$4:AO$9,0)) | AQ7: =IF(AP7="",0,VLOOKUP(AP7,Pointage[#All],2,FALSE)*AQ$2) -> 0 | AS7: =IF(AR7=0,"",RANK(AR7,AR$4:AR$9,0)) | AT7: =IF(AS7="",0,VLOOKUP(AS7,Pointage[#All],2,FALSE)*AT$2) -> 0 | AU7: =IF(AN7="","",AN7+AQ7+AT7) -> 0 | AW7: =IF(AV7=0,"",RANK(AV7,AV$4:AV$9,0)) | AX7: =IF(AW7="",0,VLOOKUP(AW7,Pointage[#All],2,FALSE)*AX$2) -> 0 | AZ7: =IF(AY7=0,"",RANK(AY7,AY$4:AY$9,0)) | BA7: =IF(AZ7="",0,VLOOKUP(AZ7,Pointage[#All],2,FALSE)*BA$2) -> 0 | BC7: =IF(BB7=0,"",RANK(BB7,BB$4:BB$9,0)) | BD7: =IF(BC7="",0,VLOOKUP(BC7,Pointage[#All],2,FALSE)*BD$2) -> 0 | BE7: =IF(AX7="","",AX7+BA7+BD7) -> 0 | BF7: 70 | BG7: =IF(BF7=0,"",RANK(BF7,BF$4:BF$9,0)) -> 1 | BH7: =IF(BG7="",0,VLOOKUP(BG7,Pointage[#All],2,FALSE)*BH$2) -> 18 | BJ7: =IF(BI7=0,"",RANK(BI7,BI$4:BI$9,0)) | BK7: =IF(BJ7="",0,VLOOKUP(BJ7,Pointage[#All],2,FALSE)*BK$2) -> 0 | BL7: 64.75 | BM7: =IF(BL7=0,"",RANK(BL7,BL$4:BL$9,0)) -> 2 | BN7: =IF(BM7="",0,VLOOKUP(BM7,Pointage[#All],2,FALSE)*BN$2) -> 15 | BO7: =IF(BH7="","",BH7+BK7+BN7)*1.25 -> 41.25
B8: Juan Sebastian | C8: Dudoit | D8: Bv Sandpiper | E8: =Q8+AA8++AK8+AU8+BO8 -> 42.5 | F8: =IF(E8=0,"",RANK(E8,E$4:E$9,0)) -> 4 | G8: =IF(F8=1,"Or",IF(F8=2,"Argent",IF(F8=3,"Bronze",""))) | I8: =IF(H8=0,"",RANK(H8,H$4:H$9,0)) | J8: =IF(I8="",0,VLOOKUP(I8,Pointage[#All],2,FALSE)*J$2) -> 0 | L8: =IF(K8=0,"",RANK(K8,K$4:K$9,0)) | M8: =IF(L8="",0,VLOOKUP(L8,Pointage[#All],2,FALSE)*M$2) -> 0 | O8: =IF(N8=0,"",RANK(N8,N$4:N$9,0)) | P8: =IF(O8="",0,VLOOKUP(O8,Pointage[#All],2,FALSE)*P$2) -> 0 | Q8: =IF(J8="","",J8+M8+P8) -> 0 | S8: =IF(R8=0,"",RANK(R8,R$4:R$9,0)) | T8: =IF(S8="",0,VLOOKUP(S8,Pointage[#All],2,FALSE)*T$2) -> 0 | V8: =IF(U8=0,"",RANK(U8,U$4:U$9,0)) | W8: =IF(V8="",0,VLOOKUP(V8,Pointage[#All],2,FALSE)*W$2) -> 0 | Y8: =IF(X8=0,"",RANK(X8,X$4:X$9,0)) | Z8: =IF(Y8="",0,VLOOKUP(Y8,Pointage[#All],2,FALSE)*Z$2) -> 0 | AA8: =IF(T8="","",T8+W8+Z8) -> 0 | AC8: =IF(AB8=0,"",RANK(AB8,AB$4:AB$9,0)) | AD8: =IF(AC8="",0,VLOOKUP(AC8,Pointage[#All],2,FALSE)*AD$2) -> 0 | AF8: =IF(AE8=0,"",RANK(AE8,AE$4:AE$9,0)) | AG8: =IF(AF8="",0,VLOOKUP(AF8,Pointage[#All],2,FALSE)*AG$2) -> 0 | AI8: =IF(AH8=0,"",RANK(AH8,AH$4:AH$9,0)) | AJ8: =IF(AI8="",0,VLOOKUP(AI8,Pointage[#All],2,FALSE)*AJ$2) -> 0 | AK8: =IF(AD8="","",AD8+AG8+AJ8) -> 0 | AM8: =IF(AL8=0,"",RANK(AL8,AL$4:AL$9,0)) | AN8: =IF(AM8="",0,VLOOKUP(AM8,Pointage[#All],2,FALSE)*AN$2) -> 0 | AP8: =IF(AO8=0,"",RANK(AO8,AO$4:AO$9,0)) | AQ8: =IF(AP8="",0,VLOOKUP(AP8,Pointage[#All],2,FALSE)*AQ$2) -> 0 | AS8: =IF(AR8=0,"",RANK(AR8,AR$4:AR$9,0)) | AT8: =IF(AS8="",0,VLOOKUP(AS8,Pointage[#All],2,FALSE)*AT$2) -> 0 | AU8: =IF(AN8="","",AN8+AQ8+AT8) -> 0 | AW8: =IF(AV8=0,"",RANK(AV8,AV$4:AV$9,0)) | AX8: =IF(AW8="",0,VLOOKUP(AW8,Pointage[#All],2,FALSE)*AX$2) -> 0 | AZ8: =IF(AY8=0,"",RANK(AY8,AY$4:AY$9,0)) | BA8: =IF(AZ8="",0,VLOOKUP(AZ8,Pointage[#All],2,FALSE)*BA$2) -> 0 | BC8: =IF(BB8=0,"",RANK(BB8,BB$4:BB$9,0)) | BD8: =IF(BC8="",0,VLOOKUP(BC8,Pointage[#All],2,FALSE)*BD$2) -> 0 | BE8: =IF(AX8="","",AX8+BA8+BD8) -> 0 | BF8: 66.562 | BG8: =IF(BF8=0,"",RANK(BF8,BF$4:BF$9,0)) -> 3 | BH8: =IF(BG8="",0,VLOOKUP(BG8,Pointage[#All],2,FALSE)*BH$2) -> 12 | BI8: 64.375 | BJ8: =IF(BI8=0,"",RANK(BI8,BI$4:BI$9,0)) -> 2 | BK8: =IF(BJ8="",0,VLOOKUP(BJ8,Pointage[#All],2,FALSE)*BK$2) -> 10 | BL8: 63.75 | BM8: =IF(BL8=0,"",RANK(BL8,BL$4:BL$9,0)) -> 3 | BN8: =IF(BM8="",0,VLOOKUP(BM8,Pointage[#All],2,FALSE)*BN$2) -> 12 | BO8: =IF(BH8="","",BH8+BK8+BN8)*1.25 -> 42.5
E9: =Q9+AA9++AK9+AU9+BO9 -> 0 | F9: =IF(E9=0,"",RANK(E9,E$4:E$9,0)) | G9: =IF(F9=1,"Or",IF(F9=2,"Argent",IF(F9=3,"Bronze",""))) | I9: =IF(H9=0,"",RANK(H9,H$4:H$9,0)) | J9: =IF(I9="",0,VLOOKUP(I9,Pointage[#All],2,FALSE)*J$2) -> 0 | L9: =IF(K9=0,"",RANK(K9,K$4:K$9,0)) | M9: =IF(L9="",0,VLOOKUP(L9,Pointage[#All],2,FALSE)*M$2) -> 0 | O9: =IF(N9=0,"",RANK(N9,N$4:N$9,0)) | P9: =IF(O9="",0,VLOOKUP(O9,Pointage[#All],2,FALSE)*P$2) -> 0 | Q9: =IF(J9="","",J9+M9+P9) -> 0 | S9: =IF(R9=0,"",RANK(R9,R$4:R$9,0)) | T9: =IF(S9="",0,VLOOKUP(S9,Pointage[#All],2,FALSE)*T$2) -> 0 | V9: =IF(U9=0,"",RANK(U9,U$4:U$9,0)) | W9: =IF(V9="",0,VLOOKUP(V9,Pointage[#All],2,FALSE)*W$2) -> 0 | Y9: =IF(X9=0,"",RANK(X9,X$4:X$9,0)) | Z9: =IF(Y9="",0,VLOOKUP(Y9,Pointage[#All],2,FALSE)*Z$2) -> 0 | AA9: =IF(T9="","",T9+W9+Z9) -> 0 | AC9: =IF(AB9=0,"",RANK(AB9,AB$4:AB$9,0)) | AD9: =IF(AC9="",0,VLOOKUP(AC9,Pointage[#All],2,FALSE)*AD$2) -> 0 | AF9: =IF(AE9=0,"",RANK(AE9,AE$4:AE$9,0)) | AG9: =IF(AF9="",0,VLOOKUP(AF9,Pointage[#All],2,FALSE)*AG$2) -> 0 | AI9: =IF(AH9=0,"",RANK(AH9,AH$4:AH$9,0)) | AJ9: =IF(AI9="",0,VLOOKUP(AI9,Pointage[#All],2,FALSE)*AJ$2) -> 0 | AK9: =IF(AD9="","",AD9+AG9+AJ9) -> 0 | AM9: =IF(AL9=0,"",RANK(AL9,AL$4:AL$9,0)) | AN9: =IF(AM9="",0,VLOOKUP(AM9,Pointage[#All],2,FALSE)*AN$2) -> 0 | AP9: =IF(AO9=0,"",RANK(AO9,AO$4:AO$9,0)) | AQ9: =IF(AP9="",0,VLOOKUP(AP9,Pointage[#All],2,FALSE)*AQ$2) -> 0 | AS9: =IF(AR9=0,"",RANK(AR9,AR$4:AR$9,0)) | AT9: =IF(AS9="",0,VLOOKUP(AS9,Pointage[#All],2,FALSE)*AT$2) -> 0 | AU9: =IF(AN9="","",AN9+AQ9+AT9) -> 0 | AW9: =IF(AV9=0,"",RANK(AV9,AV$4:AV$9,0)) | AX9: =IF(AW9="",0,VLOOKUP(AW9,Pointage[#All],2,FALSE)*AX$2) -> 0 | AZ9: =IF(AY9=0,"",RANK(AY9,AY$4:AY$9,0)) | BA9: =IF(AZ9="",0,VLOOKUP(AZ9,Pointage[#All],2,FALSE)*BA$2) -> 0 | BC9: =IF(BB9=0,"",RANK(BB9,BB$4:BB$9,0)) | BD9: =IF(BC9="",0,VLOOKUP(BC9,Pointage[#All],2,FALSE)*BD$2) -> 0 | BE9: =IF(AX9="","",AX9+BA9+BD9) -> 0 | BG9: =IF(BF9=0,"",RANK(BF9,BF$4:BF$9,0)) | BH9: =IF(BG9="",0,VLOOKUP(BG9,Pointage[#All],2,FALSE)*BH$2) -> 0 | BJ9: =IF(BI9=0,"",RANK(BI9,BI$4:BI$9,0)) | BK9: =IF(BJ9="",0,VLOOKUP(BJ9,Pointage[#All],2,FALSE)*BK$2) -> 0 | BM9: =IF(BL9=0,"",RANK(BL9,BL$4:BL$9,0)) | BN9: =IF(BM9="",0,VLOOKUP(BM9,Pointage[#All],2,FALSE)*BN$2) -> 0 | BO9: =IF(BH9="","",BH9+BK9+BN9)*1.25 -> 0
A10: Initiation Junior | H10: Reprise 1 | I10: Nbr de cavalier | J10: 2 | K10: Reprise 2 | L10: Nbr de cavalier | M10: 2 | N10: Reprise 3 | O10: Nbr de cavalier | P10: 2 | Q10: TOTAL POINT | R10: Reprise 1 | S10: Nbr de cavalier | U10: Reprise 2 | V10: Nbr de cavalier | X10: Reprise 3 | Y10: Nbr de cavalier | AA10: TOTAL POINT | AB10: Reprise 1 | AC10: Nbr de cavalier | AD10: 3 | AE10: Reprise 2 | AF10: Nbr de cavalier | AG10: 3 | AH10: Reprise 3 | AI10: Nbr de cavalier | AJ10: 3 | AK10: TOTAL POINT | AL10: Reprise 1 | AM10: Nbr de cavalier | AN10: 2 | AO10: Reprise 2 | AP10: Nbr de cavalier | AQ10: 2 | AR10: Reprise 3 | AS10: Nbr de cavalier | AT10: 2 | AU10: TOTAL POINT | AV10: Reprise 1 | AW10: Nbr de cavalier | AX10: 3 | AY10: Reprise 2 | AZ10: Nbr de cavalier | BA10: 2 | BB10: Reprise 3 | BC10: Nbr de cavalier | BD10: 1 | BE10: TOTAL POINT | BF10: Reprise 1 | BG10: Nbr de cavalier | BH10: 3 | BI10: Reprise 2 | BJ10: Nbr de cavalier | BK10: 3 | BL10: Reprise 3 | BM10: Nbr de cavalier | BN10: 2 | BO10: TOTAL POINT
H11: Résultats | I11: Position | J11: Points | K11: Résultats | L11: Position | M11: Points | N11: Résultats | O11: Position | P11: Points | R11: Résultats | S11: Position | T11: Points | U11: Résultats | V11: Position | W11: Points | X11: Résultats | Y11: Position | Z11: Points | AB11: Résultats | AC11: Position | AD11: Points | AE11: Résultats | AF11: Position | AG11: Points | AH11: Résultats | AI11: Position | AJ11: Points | AL11: Résultats | AM11: Position | AN11: Points | AO11: Résultats | AP11: Position | AQ11: Points | AR11: Résultats | AS11: Position | AT11: Points | AV11: Résultats | AW11: Position | AX11: Points | AY11: Résultats | AZ11: Position | BA11: Points | BB11: Résultats | BC11: Position | BD11: Points | BF11: Résultats | BG11: Position | BH11: Points | BI11: Résultats | BJ11: Position | BK11: Points | BL11: Résultats | BM11: Position | BN11: Points
B12: Alexane | C12: Boulerice | D12: Just Call me Virgule | E12: =Q12+AA12++AK12+AU12+BO12+BE12 -> 203.25 | F12: =IF(E12=0,"",RANK(E12,E$12:E$17,0)) -> 1 | G12: =IF(F12=1,"Or",IF(F12=2,"Argent",IF(F12=3,"Bronze",""))) -> Or | H12: 63.125 | I12: =IF(H12=0,"",RANK(H12,H$12:H$17,0)) -> 1 | J12: =IF(I12="",0,VLOOKUP(I12,Pointage[#All],2,FALSE)*J$10) -> 12 | K12: 63.125 | L12: =IF(K12=0,"",RANK(K12,K$12:K$17,0)) -> 1 | M12: =IF(L12="",0,VLOOKUP(L12,Pointage[#All],2,FALSE)*M$10) -> 12 | N12: 64.75 | O12: =IF(N12=0,"",RANK(N12,N$12:N$17,0)) -> 1 | P12: =IF(O12="",0,VLOOKUP(O12,Pointage[#All],2,FALSE)*P$10) -> 12 | Q12: =IF(J12="","",J12+M12+P12) -> 36 | S12: =IF(R12=0,"",RANK(R12,R$12:R$17,0)) | T12: =IF(S12="",0,VLOOKUP(S12,Pointage[#All],2,FALSE)*T$10) -> 0 | V12: =IF(U12=0,"",RANK(U12,U$12:U$17,0)) | W12: =IF(V12="",0,VLOOKUP(V12,Pointage[#All],2,FALSE)*W$10) -> 0 | Y12: =IF(X12=0,"",RANK(X12,X$12:X$17,0)) | Z12: =IF(Y12="",0,VLOOKUP(Y12,Pointage[#All],2,FALSE)*Z$10) -> 0 | AA12: =IF(T12="","",T12+W12+Z12) -> 0 | AB12: 61.56 | AC12: 3 | AD12: =IF(AC12="",0,VLOOKUP(AC12,Pointage[#All],2,FALSE)*AD$10) -> 12 | AE12: 66.88 | AF12: 3 | AG12: =IF(AF12="",0,VLOOKUP(AF12,Pointage[#All],2,FALSE)*AG$10) -> 12 | AH12: 65.25 | AI12: 2 | AJ12: =IF(AI12="",0,VLOOKUP(AI12,Pointage[#All],2,FALSE)*AJ$10) -> 15 | AK12: =IF(AD12="","",AD12+AG12+AJ12) -> 39 | AL12: 70 | AM12: =IF(AL12=0,"",RANK(AL12,AL$12:AL$17,0)) -> 1 | AN12: =IF(AM12="",0,VLOOKUP(AM12,Pointage[#All],2,FALSE)*AN$10) -> 12 | AO12: 68.44 | AP12: =IF(AO12=0,"",RANK(AO12,AO$12:AO$17,0)) -> 1 | AQ12: =IF(AP12="",0,VLOOKUP(AP12,Pointage[#All],2,FALSE)*AQ$10) -> 12 | AR12: 62 | AS12: =IF(AR12=0,"",RANK(AR12,AR$12:AR$17,0)) -> 1 | AT12: =IF(AS12="",0,VLOOKUP(AS12,Pointage[#All],2,FALSE)*AT$10) -> 12 | AU12: =IF(AN12="","",AN12+AQ12+AT12) -> 36 | AV12: 61.875 | AW12: 1 | AX12: =IF(AW12="",0,VLOOKUP(AW12,Pointage[#All],2,FALSE)*AX$10) -> 18 | AY12: 69.68 | AZ12: =IF(AY12=0,"",RANK(AY12,AY$12:AY$17,0)) -> 1 | BA12: =IF(AZ12="",0,VLOOKUP(AZ12,Pointage[#All],2,FALSE)*BA$10) -> 12 | BB12: 69 | BC12: =IF(BB12=0,"",RANK(BB12,BB$12:BB$17,0)) -> 1 | BD12: =IF(BC12="",0,VLOOKUP(BC12,Pointage[#All],2,FALSE)*BD$10) -> 6 | BE12: =IF(AX12="","",AX12+BA12+BD12) -> 36 | BF12: 67.5 | BG12: =IF(BF12=0,"",RANK(BF12,BF$12:BF$17,0)) -> 2 | BH12: =IF(BG12="",0,VLOOKUP(BG12,Pointage[#All],2,FALSE)*BH$10) -> 15 | BI12: 74.375 | BJ12: =IF(BI12=0,"",RANK(BI12,BI$12:BI$17,0)) -> 1 | BK12: =IF(BJ12="",0,VLOOKUP(BJ12,Pointage[#All],2,FALSE)*BK$10) -> 18 | BL12: 75 | BM12: =IF(BL12=0,"",RANK(BL12,BL$12:BL$17,0)) -> 1 | BN12: =IF(BM12="",0,VLOOKUP(BM12,Pointage[#All],2,FALSE)*BN$10) -> 12 | BO12: =IF(BH12="","",BH12+BK12+BN12)*1.25 -> 56.25
B13: Béatrice | C13: Pontbriand | D13: Porto Bello | E13: =Q13+AA13++AK13+AU13+BO13+BE13 -> 158.75 | F13: =IF(E13=0,"",RANK(E13,E$12:E$17,0)) -> 2 | G13: =IF(F13=1,"Or",IF(F13=2,"Argent",IF(F13=3,"Bronze",""))) -> Argent | H13: 61.25 | I13: =IF(H13=0,"",RANK(H13,H$12:H$17,0)) -> 2 | J13: =IF(I13="",0,VLOOKUP(I13,Pointage[#All],2,FALSE)*J$10) -> 10 | K13: 59.375 | L13: =IF(K13=0,"",RANK(K13,K$12:K$17,0)) -> 2 | M13: =IF(L13="",0,VLOOKUP(L13,Pointage[#All],2,FALSE)*M$10) -> 10 | N13: 60 | O13: =IF(N13=0,"",RANK(N13,N$12:N$17,0)) -> 2 | P13: =IF(O13="",0,VLOOKUP(O13,Pointage[#All],2,FALSE)*P$10) -> 10 | Q13: =IF(J13="","",J13+M13+P13) -> 30 | S13: =IF(R13=0,"",RANK(R13,R$12:R$17,0)) | T13: =IF(S13="",0,VLOOKUP(S13,Pointage[#All],2,FALSE)*T$10) -> 0 | V13: =IF(U13=0,"",RANK(U13,U$12:U$17,0)) | W13: =IF(V13="",0,VLOOKUP(V13,Pointage[#All],2,FALSE)*W$10) -> 0 | Y13: =IF(X13=0,"",RANK(X13,X$12:X$17,0)) | Z13: =IF(Y13="",0,VLOOKUP(Y13,Pointage[#All],2,FALSE)*Z$10) -> 0 | AA13: =IF(T13="","",T13+W13+Z13) -> 0 | AB13: 66.88 | AC13: 1 | AD13: =IF(AC13="",0,VLOOKUP(AC13,Pointage[#All],2,FALSE)*AD$10) -> 18 | AE13: 67.19 | AF13: 2 | AG13: =IF(AF13="",0,VLOOKUP(AF13,Pointage[#All],2,FALSE)*AG$10) -> 15 | AH13: 64.5 | AI13: 3 | AJ13: =IF(AI13="",0,VLOOKUP(AI13,Pointage[#All],2,FALSE)*AJ$10) -> 12 | AK13: =IF(AD13="","",AD13+AG13+AJ13) -> 45 | AL13: 67.19 | AM13: =IF(AL13=0,"",RANK(AL13,AL$12:AL$17,0)) -> 2 | AN13: =IF(AM13="",0,VLOOKUP(AM13,Pointage[#All],2,FALSE)*AN$10) -> 10 | AO13: 62.5 | AP13: =IF(AO13=0,"",RANK(AO13,AO$12:AO$17,0)) -> 2 | AQ13: =IF(AP13="",0,VLOOKUP(AP13,Pointage[#All],2,FALSE)*AQ$10) -> 10 | AR13: 61.25 | AS13: =IF(AR13=0,"",RANK(AR13,AR$12:AR$17,0)) -> 2 | AT13: =IF(AS13="",0,VLOOKUP(AS13,Pointage[#All],2,FALSE)*AT$10) -> 10 | AU13: =IF(AN13="","",AN13+AQ13+AT13) -> 30 | AW13: =IF(AV13=0,"",RANK(AV13,AV$12:AV$17,0)) | AX13: =IF(AW13="",0,VLOOKUP(AW13,Pointage[#All],2,FALSE)*AX$10) -> 0 | AZ13: =IF(AY13=0,"",RANK(AY13,AY$12:AY$17,0)) | BA13: =IF(AZ13="",0,VLOOKUP(AZ13,Pointage[#All],2,FALSE)*BA$10) -> 0 | BC13: =IF(BB13=0,"",RANK(BB13,BB$12:BB$17,0)) | BD13: =IF(BC13="",0,VLOOKUP(BC13,Pointage[#All],2,FALSE)*BD$10) -> 0 | BE13: =IF(AX13="","",AX13+BA13+BD13) -> 0 | BF13: 73.125 | BG13: =IF(BF13=0,"",RANK(BF13,BF$12:BF$17,0)) -> 1 | BH13: =IF(BG13="",0,VLOOKUP(BG13,Pointage[#All],2,FALSE)*BH$10) -> 18 | BI13: 70.312 | BJ13: =IF(BI13=0,"",RANK(BI13,BI$12:BI$17,0)) -> 2 | BK13: =IF(BJ13="",0,VLOOKUP(BJ13,Pointage[#All],2,FALSE)*BK$10) -> 15 | BL13: 68 | BM13: =IF(BL13=0,"",RANK(BL13,BL$12:BL$17,0)) -> 2 | BN13: =IF(BM13="",0,VLOOKUP(BM13,Pointage[#All],2,FALSE)*BN$10) -> 10 | BO13: =IF(BH13="","",BH13+BK13+BN13)*1.25 -> 53.75
B14: Juliane | C14: Rouleau | D14: Pickolo | E14: =Q14+AA14++AK14+AU14+BO14+BE14 -> 48 | F14: =IF(E14=0,"",RANK(E14,E$12:E$17,0)) -> 3 | G14: =IF(F14=1,"Or",IF(F14=2,"Argent",IF(F14=3,"Bronze",""))) -> Bronze | I14: =IF(H14=0,"",RANK(H14,H$12:H$17,0)) | J14: =IF(I14="",0,VLOOKUP(I14,Pointage[#All],2,FALSE)*J$10) -> 0 | L14: =IF(K14=0,"",RANK(K14,K$12:K$17,0)) | M14: =IF(L14="",0,VLOOKUP(L14,Pointage[#All],2,FALSE)*M$10) -> 0 | O14: =IF(N14=0,"",RANK(N14,N$12:N$17,0)) | P14: =IF(O14="",0,VLOOKUP(O14,Pointage[#All],2,FALSE)*P$10) -> 0 | Q14: =IF(J14="","",J14+M14+P14) -> 0 | S14: =IF(R14=0,"",RANK(R14,R$12:R$17,0)) | T14: =IF(S14="",0,VLOOKUP(S14,Pointage[#All],2,FALSE)*T$10) -> 0 | V14: =IF(U14=0,"",RANK(U14,U$12:U$17,0)) | W14: =IF(V14="",0,VLOOKUP(V14,Pointage[#All],2,FALSE)*W$10) -> 0 | Y14: =IF(X14=0,"",RANK(X14,X$12:X$17,0)) | Z14: =IF(Y14="",0,VLOOKUP(Y14,Pointage[#All],2,FALSE)*Z$10) -> 0 | AA14: =IF(T14="","",T14+W14+Z14) -> 0 | AC14: =IF(AB14=0,"",RANK(AB14,AB$12:AB$17,0)) | AD14: =IF(AC14="",0,VLOOKUP(AC14,Pointage[#All],2,FALSE)*AD$10) -> 0 | AF14: =IF(AE14=0,"",RANK(AE14,AE$12:AE$17,0)) | AG14: =IF(AF14="",0,VLOOKUP(AF14,Pointage[#All],2,FALSE)*AG$10) -> 0 | AI14: =IF(AH14=0,"",RANK(AH14,AH$12:AH$17,0)) | AJ14: =IF(AI14="",0,VLOOKUP(AI14,Pointage[#All],2,FALSE)*AJ$10) -> 0 | AK14: =IF(AD14="","",AD14+AG14+AJ14) -> 0 | AM14: =IF(AL14=0,"",RANK(AL14,AL$12:AL$17,0)) | AN14: =IF(AM14="",0,VLOOKUP(AM14,Pointage[#All],2,FALSE)*AN$10) -> 0 | AP14: =IF(AO14=0,"",RANK(AO14,AO$12:AO$17,0)) | AQ14: =IF(AP14="",0,VLOOKUP(AP14,Pointage[#All],2,FALSE)*AQ$10) -> 0 | AS14: =IF(AR14=0,"",RANK(AR14,AR$12:AR$17,0)) | AT14: =IF(AS14="",0,VLOOKUP(AS14,Pointage[#All],2,FALSE)*AT$10) -> 0 | AU14: =IF(AN14="","",AN14+AQ14+AT14) -> 0 | AV14: 61.88 | AW14: =IF(AV14=0,"",RANK(AV14,AV$12:AV$17,0)) -> 1 | AX14: =IF(AW14="",0,VLOOKUP(AW14,Pointage[#All],2,FALSE)*AX$10) -> 18 | AZ14: =IF(AY14=0,"",RANK(AY14,AY$12:AY$17,0)) | BA14: =IF(AZ14="",0,VLOOKUP(AZ14,Pointage[#All],2,FALSE)*BA$10) -> 0 | BC14: =IF(BB14=0,"",RANK(BB14,BB$12:BB$17,0)) | BD14: =IF(BC14="",0,VLOOKUP(BC14,Pointage[#All],2,FALSE)*BD$10) -> 0 | BE14: =IF(AX14="","",AX14+BA14+BD14) -> 18 | BF14: 60.937 | BG14: =IF(BF14=0,"",RANK(BF14,BF$12:BF$17,0)) -> 3 | BH14: =IF(BG14="",0,VLOOKUP(BG14,Pointage[#All],2,FALSE)*BH$10) -> 12 | BI14: 55.937 | BJ14: 3 | BK14: =IF(BJ14="",0,VLOOKUP(BJ14,Pointage[#All],2,FALSE)*BK$10) -> 12 | BM14: =IF(BL14=0,"",RANK(BL14,BL$12:BL$17,0)) | BN14: =IF(BM14="",0,VLOOKUP(BM14,Pointage[#All],2,FALSE)*BN$10) -> 0 | BO14: =IF(BH14="","",BH14+BK14+BN14)*1.25 -> 30
B15: Jade | C15: Paré | D15: Croquette | E15: =Q15+AA15++AK15+AU15+BO15+BE15 -> 22 | F15: =IF(E15=0,"",RANK(E15,E$12:E$17,0)) -> 4 | G15: =IF(F15=1,"Or",IF(F15=2,"Argent",IF(F15=3,"Bronze",""))) | I15: =IF(H15=0,"",RANK(H15,H$12:H$17,0)) | J15: =IF(I15="",0,VLOOKUP(I15,Pointage[#All],2,FALSE)*J$10) -> 0 | L15: =IF(K15=0,"",RANK(K15,K$12:K$17,0)) | M15: =IF(L15="",0,VLOOKUP(L15,Pointage[#All],2,FALSE)*M$10) -> 0 | O15: =IF(N15=0,"",RANK(N15,N$12:N$17,0)) | P15: =IF(O15="",0,VLOOKUP(O15,Pointage[#All],2,FALSE)*P$10) -> 0 | Q15: =IF(J15="","",J15+M15+P15) -> 0 | S15: =IF(R15=0,"",RANK(R15,R$12:R$17,0)) | T15: =IF(S15="",0,VLOOKUP(S15,Pointage[#All],2,FALSE)*T$10) -> 0 | V15: =IF(U15=0,"",RANK(U15,U$12:U$17,0)) | W15: =IF(V15="",0,VLOOKUP(V15,Pointage[#All],2,FALSE)*W$10) -> 0 | Y15: =IF(X15=0,"",RANK(X15,X$12:X$17,0)) | Z15: =IF(Y15="",0,VLOOKUP(Y15,Pointage[#All],2,FALSE)*Z$10) -> 0 | AA15: =IF(T15="","",T15+W15+Z15) -> 0 | AC15: =IF(AB15=0,"",RANK(AB15,AB$12:AB$17,0)) | AD15: =IF(AC15="",0,VLOOKUP(AC15,Pointage[#All],2,FALSE)*AD$10) -> 0 | AF15: =IF(AE15=0,"",RANK(AE15,AE$12:AE$17,0)) | AG15: =IF(AF15="",0,VLOOKUP(AF15,Pointage[#All],2,FALSE)*AG$10) -> 0 | AI15: =IF(AH15=0,"",RANK(AH15,AH$12:AH$17,0)) | AJ15: =IF(AI15="",0,VLOOKUP(AI15,Pointage[#All],2,FALSE)*AJ$10) -> 0 | AK15: =IF(AD15="","",AD15+AG15+AJ15) -> 0 | AM15: =IF(AL15=0,"",RANK(AL15,AL$12:AL$17,0)) | AN15: =IF(AM15="",0,VLOOKUP(AM15,Pointage[#All],2,FALSE)*AN$10) -> 0 | AP15: =IF(AO15=0,"",RANK(AO15,AO$12:AO$17,0)) | AQ15: =IF(AP15="",0,VLOOKUP(AP15,Pointage[#All],2,FALSE)*AQ$10) -> 0 | AS15: =IF(AR15=0,"",RANK(AR15,AR$12:AR$17,0)) | AT15: =IF(AS15="",0,VLOOKUP(AS15,Pointage[#All],2,FALSE)*AT$10) -> 0 | AU15: =IF(AN15="","",AN15+AQ15+AT15) -> 0 | AV15: 56.25 | AW15: =IF(AV15=0,"",RANK(AV15,AV$12:AV$17,0)) -> 3 | AX15: =IF(AW15="",0,VLOOKUP(AW15,Pointage[#All],2,FALSE)*AX$10) -> 12 | AY15: 48.75 | AZ15: =IF(AY15=0,"",RANK(AY15,AY$12:AY$17,0)) -> 2 | BA15: =IF(AZ15="",0,VLOOKUP(AZ15,Pointage[#All],2,FALSE)*BA$10) -> 10 | BC15: =IF(BB15=0,"",RANK(BB15,BB$12:BB$17,0)) | BD15: =IF(BC15="",0,VLOOKUP(BC15,Pointage[#All],2,FALSE)*BD$10) -> 0 | BE15: =IF(AX15="","",AX15+BA15+BD15) -> 22 | BH15: =IF(BG15="",0,VLOOKUP(BG15,Pointage[#All],2,FALSE)*BH$10) -> 0 | BK15: =IF(BJ15="",0,VLOOKUP(BJ15,Pointage[#All],2,FALSE)*BK$10) -> 0 | BM15: =IF(BL15=0,"",RANK(BL15,BL$12:BL$17,0)) | BN15: =IF(BM15="",0,VLOOKUP(BM15,Pointage[#All],2,FALSE)*BN$10) -> 0 | BO15: =IF(BH15="","",BH15+BK15+BN15)*1.25 -> 0
E16: =Q16+AA16++AK16+AU16+BO16 -> 0 | F16: =IF(E16=0,"",RANK(E16,E$12:E$17,0)) | G16: =IF(F16=1,"Or",IF(F16=2,"Argent",IF(F16=3,"Bronze",""))) | I16: =IF(H16=0,"",RANK(H16,H$12:H$17,0)) | J16: =IF(I16="",0,VLOOKUP(I16,Pointage[#All],2,FALSE)*J$10) -> 0 | L16: =IF(K16=0,"",RANK(K16,K$12:K$17,0)) | M16: =IF(L16="",0,VLOOKUP(L16,Pointage[#All],2,FALSE)*M$10) -> 0 | O16: =IF(N16=0,"",RANK(N16,N$12:N$17,0)) | P16: =IF(O16="",0,VLOOKUP(O16,Pointage[#All],2,FALSE)*P$10) -> 0 | Q16: =IF(J16="","",J16+M16+P16) -> 0 | S16: =IF(R16=0,"",RANK(R16,R$12:R$17,0)) | T16: =IF(S16="",0,VLOOKUP(S16,Pointage[#All],2,FALSE)*T$10) -> 0 | V16: =IF(U16=0,"",RANK(U16,U$12:U$17,0)) | W16: =IF(V16="",0,VLOOKUP(V16,Pointage[#All],2,FALSE)*W$10) -> 0 | Y16: =IF(X16=0,"",RANK(X16,X$12:X$17,0)) | Z16: =IF(Y16="",0,VLOOKUP(Y16,Pointage[#All],2,FALSE)*Z$10) -> 0 | AA16: =IF(T16="","",T16+W16+Z16) -> 0 | AC16: =IF(AB16=0,"",RANK(AB16,AB$12:AB$17,0)) | AD16: =IF(AC16="",0,VLOOKUP(AC16,Pointage[#All],2,FALSE)*AD$10) -> 0 | AF16: =IF(AE16=0,"",RANK(AE16,AE$12:AE$17,0)) | AG16: =IF(AF16="",0,VLOOKUP(AF16,Pointage[#All],2,FALSE)*AG$10) -> 0 | AI16: =IF(AH16=0,"",RANK(AH16,AH$12:AH$17,0)) | AJ16: =IF(AI16="",0,VLOOKUP(AI16,Pointage[#All],2,FALSE)*AJ$10) -> 0 | AK16: =IF(AD16="","",AD16+AG16+AJ16) -> 0 | AM16: =IF(AL16=0,"",RANK(AL16,AL$12:AL$17,0)) | AN16: =IF(AM16="",0,VLOOKUP(AM16,Pointage[#All],2,FALSE)*AN$10) -> 0 | AP16: =IF(AO16=0,"",RANK(AO16,AO$12:AO$17,0)) | AQ16: =IF(AP16="",0,VLOOKUP(AP16,Pointage[#All],2,FALSE)*AQ$10) -> 0 | AS16: =IF(AR16=0,"",RANK(AR16,AR$12:AR$17,0)) | AT16: =IF(AS16="",0,VLOOKUP(AS16,Pointage[#All],2,FALSE)*AT$10) -> 0 | AU16: =IF(AN16="","",AN16+AQ16+AT16) -> 0 | AW16: =IF(AV16=0,"",RANK(AV16,AV$12:AV$17,0)) | AX16: =IF(AW16="",0,VLOOKUP(AW16,Pointage[#All],2,FALSE)*AX$10) -> 0 | AZ16: =IF(AY16=0,"",RANK(AY16,AY$12:AY$17,0)) | BA16: =IF(AZ16="",0,VLOOKUP(AZ16,Pointage[#All],2,FALSE)*BA$10) -> 0 | BC16: =IF(BB16=0,"",RANK(BB16,BB$12:BB$17,0)) | BD16: =IF(BC16="",0,VLOOKUP(BC16,Pointage[#All],2,FALSE)*BD$10) -> 0 | BE16: =IF(AX16="","",AX16+BA16+BD16) -> 0 | BH16: =IF(BG16="",0,VLOOKUP(BG16,Pointage[#All],2,FALSE)*BH$10) -> 0 | BK16: =IF(BJ16="",0,VLOOKUP(BJ16,Pointage[#All],2,FALSE)*BK$10) -> 0 | BM16: =IF(BL16=0,"",RANK(BL16,BL$12:BL$17,0)) | BN16: =IF(BM16="",0,VLOOKUP(BM16,Pointage[#All],2,FALSE)*BN$10) -> 0 | BO16: =IF(BH16="","",BH16+BK16+BN16)*1.25 -> 0
E17: =Q17+AA17++AK17+AU17+BO17 -> 0 | F17: =IF(E17=0,"",RANK(E17,E$12:E$17,0)) | G17: =IF(F17=1,"Or",IF(F17=2,"Argent",IF(F17=3,"Bronze",""))) | I17: =IF(H17=0,"",RANK(H17,H$12:H$17,0)) | J17: =IF(I17="",0,VLOOKUP(I17,Pointage[#All],2,FALSE)*J$10) -> 0 | L17: =IF(K17=0,"",RANK(K17,K$12:K$17,0)) | M17: =IF(L17="",0,VLOOKUP(L17,Pointage[#All],2,FALSE)*M$10) -> 0 | O17: =IF(N17=0,"",RANK(N17,N$12:N$17,0)) | P17: =IF(O17="",0,VLOOKUP(O17,Pointage[#All],2,FALSE)*P$10) -> 0 | Q17: =IF(J17="","",J17+M17+P17) -> 0 | S17: =IF(R17=0,"",RANK(R17,R$12:R$17,0)) | T17: =IF(S17="",0,VLOOKUP(S17,Pointage[#All],2,FALSE)*T$10) -> 0 | V17: =IF(U17=0,"",RANK(U17,U$12:U$17,0)) | W17: =IF(V17="",0,VLOOKUP(V17,Pointage[#All],2,FALSE)*W$10) -> 0 | Y17: =IF(X17=0,"",RANK(X17,X$12:X$17,0)) | Z17: =IF(Y17="",0,VLOOKUP(Y17,Pointage[#All],2,FALSE)*Z$10) -> 0 | AA17: =IF(T17="","",T17+W17+Z17) -> 0 | AC17: =IF(AB17=0,"",RANK(AB17,AB$12:AB$17,0)) | AD17: =IF(AC17="",0,VLOOKUP(AC17,Pointage[#All],2,FALSE)*AD$10) -> 0 | AF17: =IF(AE17=0,"",RANK(AE17,AE$12:AE$17,0)) | AG17: =IF(AF17="",0,VLOOKUP(AF17,Pointage[#All],2,FALSE)*AG$10) -> 0 | AI17: =IF(AH17=0,"",RANK(AH17,AH$12:AH$17,0)) | AJ17: =IF(AI17="",0,VLOOKUP(AI17,Pointage[#All],2,FALSE)*AJ$10) -> 0 | AK17: =IF(AD17="","",AD17+AG17+AJ17) -> 0 | AM17: =IF(AL17=0,"",RANK(AL17,AL$12:AL$17,0)) | AN17: =IF(AM17="",0,VLOOKUP(AM17,Pointage[#All],2,FALSE)*AN$10) -> 0 | AP17: =IF(AO17=0,"",RANK(AO17,AO$12:AO$17,0)) | AQ17: =IF(AP17="",0,VLOOKUP(AP17,Pointage[#All],2,FALSE)*AQ$10) -> 0 | AS17: =IF(AR17=0,"",RANK(AR17,AR$12:AR$17,0)) | AT17: =IF(AS17="",0,VLOOKUP(AS17,Pointage[#All],2,FALSE)*AT$10) -> 0 | AU17: =IF(AN17="","",AN17+AQ17+AT17) -> 0 | AW17: =IF(AV17=0,"",RANK(AV17,AV$12:AV$17,0)) | AX17: =IF(AW17="",0,VLOOKUP(AW17,Pointage[#All],2,FALSE)*AX$10) -> 0 | AZ17: =IF(AY17=0,"",RANK(AY17,AY$12:AY$17,0)) | BA17: =IF(AZ17="",0,VLOOKUP(AZ17,Pointage[#All],2,FALSE)*BA$10) -> 0 | BC17: =IF(BB17=0,"",RANK(BB17,BB$12:BB$17,0)) | BD17: =IF(BC17="",0,VLOOKUP(BC17,Pointage[#All],2,FALSE)*BD$10) -> 0 | BE17: =IF(AX17="","",AX17+BA17+BD17) -> 0 | BH17: =IF(BG17="",0,VLOOKUP(BG17,Pointage[#All],2,FALSE)*BH$10) -> 0 | BK17: =IF(BJ17="",0,VLOOKUP(BJ17,Pointage[#All],2,FALSE)*BK$10) -> 0 | BM17: =IF(BL17=0,"",RANK(BL17,BL$12:BL$17,0)) | BN17: =IF(BM17="",0,VLOOKUP(BM17,Pointage[#All],2,FALSE)*BN$10) -> 0 | BO17: =IF(BH17="","",BH17+BK17+BN17)*1.25 -> 0
A18: Initiation Adulte | H18: Reprise 1 | I18: Nbr de cavalier | J18: 1 | K18: Reprise 2 | L18: Nbr de cavalier | M18: 1 | N18: Reprise 3 | O18: Nbr de cavalier | P18: 1 | Q18: TOTAL POINT | R18: Reprise 1 | S18: Nbr de cavalier | U18: Reprise 2 | V18: Nbr de cavalier | X18: Reprise 3 | Y18: Nbr de cavalier | AA18: TOTAL POINT | AB18: Reprise 1 | AC18: Nbr de cavalier | AD18: 1 | AE18: Reprise 2 | AF18: Nbr de cavalier | AG18: 1 | AH18: Reprise 3 | AI18: Nbr de cavalier | AJ18: 1 | AK18: TOTAL POINT | AL18: Reprise 1 | AM18: Nbr de cavalier | AN18: 1 | AO18: Reprise 2 | AP18: Nbr de cavalier | AQ18: 1 | AR18: Reprise 3 | AS18: Nbr de cavalier | AT18: 1 | AU18: TOTAL POINT | AV18: Reprise 1 | AW18: Nbr de cavalier | AX18: 2 | AY18: Reprise 2 | AZ18: Nbr de cavalier | BA18: 2 | BB18: Reprise 3 | BC18: Nbr de cavalier | BD18: 1 | BE18: TOTAL POINT | BF18: Reprise 1 | BG18: Nbr de cavalier | BH18: 2 | BI18: Reprise 2 | BJ18: Nbr de cavalier | BK18: 2 | BL18: Reprise 3 | BM18: Nbr de cavalier | BN18: 2 | BO18: TOTAL POINT
H19: Résultats | I19: Position | J19: Points | K19: Résultats | L19: Position | M19: Points | N19: Résultats | O19: Position | P19: Points | R19: Résultats | S19: Position | T19: Points | U19: Résultats | V19: Position | W19: Points | X19: Résultats | Y19: Position | Z19: Points | AB19: Résultats | AC19: Position | AD19: Points | AE19: Résultats | AF19: Position | AG19: Points | AH19: Résultats | AI19: Position | AJ19: Points | AL19: Résultats | AM19: Position | AN19: Points | AO19: Résultats | AP19: Position | AQ19: Points | AR19: Résultats | AS19: Position | AT19: Points | AV19: Résultats | AW19: Position | AX19: Points | AY19: Résultats | AZ19: Position | BA19: Points | BB19: Résultats | BC19: Position | BD19: Points | BF19: Résultats | BG19: Position | BH19: Points | BI19: Résultats | BJ19: Position | BK19: Points | BL19: Résultats | BM19: Position | BN19: Points
B20: Megane | C20: Vaskelis | D20: Midnight Socks | E20: =Q20+AA20++AK20+AU20+BO20+BE20 -> 18 | F20: =IF(E20=0,"",RANK(E20,E$20:E$26,0)) -> 5 | G20: =IF(F20=1,"Or",IF(F20=2,"Argent",IF(F20=3,"Bronze",""))) | H20: 62.187 | I20: =IF(H20=0,"",RANK(H20,H$20:H$26,0)) -> 1 | J20: =IF(I20="",0,VLOOKUP(I20,Pointage[#All],2,FALSE)*J$18) -> 6 | K20: 60.937 | L20: =IF(K20=0,"",RANK(K20,K$20:K$26,0)) -> 1 | M20: =IF(L20="",0,VLOOKUP(L20,Pointage[#All],2,FALSE)*M$18) -> 6 | N20: 61.25 | O20: =IF(N20=0,"",RANK(N20,N$20:N$26,0)) -> 1 | P20: =IF(O20="",0,VLOOKUP(O20,Pointage[#All],2,FALSE)*P$18) -> 6 | Q20: =IF(J20="","",J20+M20+P20) -> 18 | S20: =IF(R20=0,"",RANK(R20,R$20:R$26,0)) | T20: =IF(S20="",0,VLOOKUP(S20,Pointage[#All],2,FALSE)*T$18) -> 0 | V20: =IF(U20=0,"",RANK(U20,U$20:U$26,0)) | W20: =IF(V20="",0,VLOOKUP(V20,Pointage[#All],2,FALSE)*W$18) -> 0 | Y20: =IF(X20=0,"",RANK(X20,X$20:X$26,0)) | Z20: =IF(Y20="",0,VLOOKUP(Y20,Pointage[#All],2,FALSE)*Z$18) -> 0 | AA20: =IF(T20="","",T20+W20+Z20) -> 0 | AC20: =IF(AB20=0,"",RANK(AB20,AB$20:AB$26,0)) | AD20: =IF(AC20="",0,VLOOKUP(AC20,Pointage[#All],2,FALSE)*AD$18) -> 0 | AF20: =IF(AE20=0,"",RANK(AE20,AE$20:AE$26,0)) | AG20: =IF(AF20="",0,VLOOKUP(AF20,Pointage[#All],2,FALSE)*AG$18) -> 0 | AI20: =IF(AH20=0,"",RANK(AH20,AH$20:AH$26,0)) | AJ20: =IF(AI20="",0,VLOOKUP(AI20,Pointage[#All],2,FALSE)*AJ$18) -> 0 | AK20: =IF(AD20="","",AD20+AG20+AJ20) -> 0 | AM20: =IF(AL20=0,"",RANK(AL20,AL$20:AL$26,0)) | AN20: =IF(AM20="",0,VLOOKUP(AM20,Pointage[#All],2,FALSE)*AN$18) -> 0 | AP20: =IF(AO20=0,"",RANK(AO20,AO$20:AO$26,0)) | AQ20: =IF(AP20="",0,VLOOKUP(AP20,Pointage[#All],2,FALSE)*AQ$18) -> 0 | AS20: =IF(AR20=0,"",RANK(AR20,AR$20:AR$26,0)) | AT20: =IF(AS20="",0,VLOOKUP(AS20,Pointage[#All],2,FALSE)*AT$18) -> 0 | AU20: =IF(AN20="","",AN20+AQ20+AT20) -> 0 | AW20: =IF(AV20=0,"",RANK(AV20,AV$20:AV$26,0)) | AX20: =IF(AW20="",0,VLOOKUP(AW20,Pointage[#All],2,FALSE)*AX$18) -> 0 | AZ20: =IF(AY20=0,"",RANK(AY20,AY$20:AY$26,0)) | BA20: =IF(AZ20="",0,VLOOKUP(AZ20,Pointage[#All],2,FALSE)*BA$18) -> 0 | BC20: =IF(BB20=0,"",RANK(BB20,BB$20:BB$26,0)) | BD20: =IF(BC20="",0,VLOOKUP(BC20,Pointage[#All],2,FALSE)*BD$18) -> 0 | BE20: =IF(AX20="","",AX20+BA20+BD20) -> 0 | BG20: =IF(BF20=0,"",RANK(BF20,BF$20:BF$26,0)) | BH20: =IF(BG20="",0,VLOOKUP(BG20,Pointage[#All],2,FALSE)*BH$18) -> 0 | BJ20: =IF(BI20=0,"",RANK(BI20,BI$20:BI$26,0)) | BK20: =IF(BJ20="",0,VLOOKUP(BJ20,Pointage[#All],2,FALSE)*BK$18) -> 0 | BM20: =IF(BL20=0,"",RANK(BL20,BL$20:BL$26,0)) | BN20: =IF(BM20="",0,VLOOKUP(BM20,Pointage[#All],2,FALSE)*BN$18) -> 0 | BO20: =IF(BH20="","",BH20+BK20+BN20)*1.25 -> 0
B21: Audrey-Ann | C21: Morin | D21: Calypso | E21: =Q21+AA21++AK21+AU21+BO21+BE21 -> 18 | F21: =IF(E21=0,"",RANK(E21,E$20:E$26,0)) -> 5 | G21: =IF(F21=1,"Or",IF(F21=2,"Argent",IF(F21=3,"Bronze",""))) | I21: =IF(H21=0,"",RANK(H21,H$20:H$26,0)) | J21: =IF(I21="",0,VLOOKUP(I21,Pointage[#All],2,FALSE)*J$18) -> 0 | L21: =IF(K21=0,"",RANK(K21,K$20:K$26,0)) | M21: =IF(L21="",0,VLOOKUP(L21,Pointage[#All],2,FALSE)*M$18) -> 0 | O21: =IF(N21=0,"",RANK(N21,N$20:N$26,0)) | P21: =IF(O21="",0,VLOOKUP(O21,Pointage[#All],2,FALSE)*P$18) -> 0 | Q21: =IF(J21="","",J21+M21+P21) -> 0 | S21: =IF(R21=0,"",RANK(R21,R$20:R$26,0)) | T21: =IF(S21="",0,VLOOKUP(S21,Pointage[#All],2,FALSE)*T$18) -> 0 | V21: =IF(U21=0,"",RANK(U21,U$20:U$26,0)) | W21: =IF(V21="",0,VLOOKUP(V21,Pointage[#All],2,FALSE)*W$18) -> 0 | Y21: =IF(X21=0,"",RANK(X21,X$20:X$26,0)) | Z21: =IF(Y21="",0,VLOOKUP(Y21,Pointage[#All],2,FALSE)*Z$18) -> 0 | AA21: =IF(T21="","",T21+W21+Z21) -> 0 | AB21: 65.31 | AC21: =IF(AB21=0,"",RANK(AB21,AB$20:AB$26,0)) -> 1 | AD21: =IF(AC21="",0,VLOOKUP(AC21,Pointage[#All],2,FALSE)*AD$18) -> 6 | AE21: 64.69 | AF21: =IF(AE21=0,"",RANK(AE21,AE$20:AE$26,0)) -> 1 | AG21: =IF(AF21="",0,VLOOKUP(AF21,Pointage[#All],2,FALSE)*AG$18) -> 6 | AH21: 60 | AI21: =IF(AH21=0,"",RANK(AH21,AH$20:AH$26,0)) -> 1 | AJ21: =IF(AI21="",0,VLOOKUP(AI21,Pointage[#All],2,FALSE)*AJ$18) -> 6 | AK21: =IF(AD21="","",AD21+AG21+AJ21) -> 18 | AM21: =IF(AL21=0,"",RANK(AL21,AL$20:AL$26,0)) | AN21: =IF(AM21="",0,VLOOKUP(AM21,Pointage[#All],2,FALSE)*AN$18) -> 0 | AP21: =IF(AO21=0,"",RANK(AO21,AO$20:AO$26,0)) | AQ21: =IF(AP21="",0,VLOOKUP(AP21,Pointage[#All],2,FALSE)*AQ$18) -> 0 | AS21: =IF(AR21=0,"",RANK(AR21,AR$20:AR$26,0)) | AT21: =IF(AS21="",0,VLOOKUP(AS21,Pointage[#All],2,FALSE)*AT$18) -> 0 | AU21: =IF(AN21="","",AN21+AQ21+AT21) -> 0 | AW21: =IF(AV21=0,"",RANK(AV21,AV$20:AV$26,0)) | AX21: =IF(AW21="",0,VLOOKUP(AW21,Pointage[#All],2,FALSE)*AX$18) -> 0 | AZ21: =IF(AY21=0,"",RANK(AY21,AY$20:AY$26,0)) | BA21: =IF(AZ21="",0,VLOOKUP(AZ21,Pointage[#All],2,FALSE)*BA$18) -> 0 | BC21: =IF(BB21=0,"",RANK(BB21,BB$20:BB$26,0)) | BD21: =IF(BC21="",0,VLOOKUP(BC21,Pointage[#All],2,FALSE)*BD$18) -> 0 | BE21: =IF(AX21="","",AX21+BA21+BD21) -> 0 | BG21: =IF(BF21=0,"",RANK(BF21,BF$20:BF$26,0)) | BH21: =IF(BG21="",0,VLOOKUP(BG21,Pointage[#All],2,FALSE)*BH$18) -> 0 | BJ21: =IF(BI21=0,"",RANK(BI21,BI$20:BI$26,0)) | BK21: =IF(BJ21="",0,VLOOKUP(BJ21,Pointage[#All],2,FALSE)*BK$18) -> 0 | BM21: =IF(BL21=0,"",RANK(BL21,BL$20:BL$26,0)) | BN21: =IF(BM21="",0,VLOOKUP(BM21,Pointage[#All],2,FALSE)*BN$18) -> 0 | BO21: =IF(BH21="","",BH21+BK21+BN21)*1.25 -> 0
B22: Véronique | C22: Corriveau | D22: Lockwood | E22: =Q22+AA22++AK22+AU22+BO22+BE22 -> 18 | F22: =IF(E22=0,"",RANK(E22,E$20:E$26,0)) -> 5 | G22: =IF(F22=1,"Or",IF(F22=2,"Argent",IF(F22=3,"Bronze",""))) | I22: =IF(H22=0,"",RANK(H22,H$20:H$26,0)) | J22: =IF(I22="",0,VLOOKUP(I22,Pointage[#All],2,FALSE)*J$18) -> 0 | L22: =IF(K22=0,"",RANK(K22,K$20:K$26,0)) | M22: =IF(L22="",0,VLOOKUP(L22,Pointage[#All],2,FALSE)*M$18) -> 0 | O22: =IF(N22=0,"",RANK(N22,N$20:N$26,0)) | P22: =IF(O22="",0,VLOOKUP(O22,Pointage[#All],2,FALSE)*P$18) -> 0 | Q22: =IF(J22="","",J22+M22+P22) -> 0 | S22: =IF(R22=0,"",RANK(R22,R$20:R$26,0)) | T22: =IF(S22="",0,VLOOKUP(S22,Pointage[#All],2,FALSE)*T$18) -> 0 | V22: =IF(U22=0,"",RANK(U22,U$20:U$26,0)) | W22: =IF(V22="",0,VLOOKUP(V22,Pointage[#All],2,FALSE)*W$18) -> 0 | Y22: =IF(X22=0,"",RANK(X22,X$20:X$26,0)) | Z22: =IF(Y22="",0,VLOOKUP(Y22,Pointage[#All],2,FALSE)*Z$18) -> 0 | AA22: =IF(T22="","",T22+W22+Z22) -> 0 | AC22: =IF(AB22=0,"",RANK(AB22,AB$20:AB$26,0)) | AD22: =IF(AC22="",0,VLOOKUP(AC22,Pointage[#All],2,FALSE)*AD$18) -> 0 | AF22: =IF(AE22=0,"",RANK(AE22,AE$20:AE$26,0)) | AG22: =IF(AF22="",0,VLOOKUP(AF22,Pointage[#All],2,FALSE)*AG$18) -> 0 | AI22: =IF(AH22=0,"",RANK(AH22,AH$20:AH$26,0)) | AJ22: =IF(AI22="",0,VLOOKUP(AI22,Pointage[#All],2,FALSE)*AJ$18) -> 0 | AK22: =IF(AD22="","",AD22+AG22+AJ22) -> 0 | AL22: 65.31 | AM22: =IF(AL22=0,"",RANK(AL22,AL$20:AL$26,0)) -> 1 | AN22: =IF(AM22="",0,VLOOKUP(AM22,Pointage[#All],2,FALSE)*AN$18) -> 6 | AO22: 66.25 | AP22: =IF(AO22=0,"",RANK(AO22,AO$20:AO$26,0)) -> 1 | AQ22: =IF(AP22="",0,VLOOKUP(AP22,Pointage[#All],2,FALSE)*AQ$18) -> 6 | AR22: 66.75 | AS22: =IF(AR22=0,"",RANK(AR22,AR$20:AR$26,0)) -> 1 | AT22: =IF(AS22="",0,VLOOKUP(AS22,Pointage[#All],2,FALSE)*AT$18) -> 6 | AU22: =IF(AN22="","",AN22+AQ22+AT22) -> 18 | AW22: =IF(AV22=0,"",RANK(AV22,AV$20:AV$26,0)) | AX22: =IF(AW22="",0,VLOOKUP(AW22,Pointage[#All],2,FALSE)*AX$18) -> 0 | AZ22: =IF(AY22=0,"",RANK(AY22,AY$20:AY$26,0)) | BA22: =IF(AZ22="",0,VLOOKUP(AZ22,Pointage[#All],2,FALSE)*BA$18) -> 0 | BC22: =IF(BB22=0,"",RANK(BB22,BB$20:BB$26,0)) | BD22: =IF(BC22="",0,VLOOKUP(BC22,Pointage[#All],2,FALSE)*BD$18) -> 0 | BE22: =IF(AX22="","",AX22+BA22+BD22) -> 0 | BG22: =IF(BF22=0,"",RANK(BF22,BF$20:BF$26,0)) | BH22: =IF(BG22="",0,VLOOKUP(BG22,Pointage[#All],2,FALSE)*BH$18) -> 0 | BJ22: =IF(BI22=0,"",RANK(BI22,BI$20:BI$26,0)) | BK22: =IF(BJ22="",0,VLOOKUP(BJ22,Pointage[#All],2,FALSE)*BK$18) -> 0 | BM22: =IF(BL22=0,"",RANK(BL22,BL$20:BL$26,0)) | BN22: =IF(BM22="",0,VLOOKUP(BM22,Pointage[#All],2,FALSE)*BN$18) -> 0 | BO22: =IF(BH22="","",BH22+BK22+BN22)*1.25 -> 0
B23: Jodianne | C23: Couture | D23: Jetdor D'Astra | E23: =Q23+AA23++AK23+AU23+BO23+BE23 -> 30 | F23: =IF(E23=0,"",RANK(E23,E$20:E$26,0)) -> 3 | G23: =IF(F23=1,"Or",IF(F23=2,"Argent",IF(F23=3,"Bronze",""))) -> Bronze | I23: =IF(H23=0,"",RANK(H23,H$20:H$26,0)) | J23: =IF(I23="",0,VLOOKUP(I23,Pointage[#All],2,FALSE)*J$18) -> 0 | L23: =IF(K23=0,"",RANK(K23,K$20:K$26,0)) | M23: =IF(L23="",0,VLOOKUP(L23,Pointage[#All],2,FALSE)*M$18) -> 0 | O23: =IF(N23=0,"",RANK(N23,N$20:N$26,0)) | P23: =IF(O23="",0,VLOOKUP(O23,Pointage[#All],2,FALSE)*P$18) -> 0 | Q23: =IF(J23="","",J23+M23+P23) -> 0 | S23: =IF(R23=0,"",RANK(R23,R$20:R$26,0)) | T23: =IF(S23="",0,VLOOKUP(S23,Pointage[#All],2,FALSE)*T$18) -> 0 | V23: =IF(U23=0,"",RANK(U23,U$20:U$26,0)) | W23: =IF(V23="",0,VLOOKUP(V23,Pointage[#All],2,FALSE)*W$18) -> 0 | Y23: =IF(X23=0,"",RANK(X23,X$20:X$26,0)) | Z23: =IF(Y23="",0,VLOOKUP(Y23,Pointage[#All],2,FALSE)*Z$18) -> 0 | AA23: =IF(T23="","",T23+W23+Z23) -> 0 | AC23: =IF(AB23=0,"",RANK(AB23,AB$20:AB$26,0)) | AD23: =IF(AC23="",0,VLOOKUP(AC23,Pointage[#All],2,FALSE)*AD$18) -> 0 | AF23: =IF(AE23=0,"",RANK(AE23,AE$20:AE$26,0)) | AG23: =IF(AF23="",0,VLOOKUP(AF23,Pointage[#All],2,FALSE)*AG$18) -> 0 | AI23: =IF(AH23=0,"",RANK(AH23,AH$20:AH$26,0)) | AJ23: =IF(AI23="",0,VLOOKUP(AI23,Pointage[#All],2,FALSE)*AJ$18) -> 0 | AK23: =IF(AD23="","",AD23+AG23+AJ23) -> 0 | AM23: =IF(AL23=0,"",RANK(AL23,AL$20:AL$26,0)) | AN23: =IF(AM23="",0,VLOOKUP(AM23,Pointage[#All],2,FALSE)*AN$18) -> 0 | AP23: =IF(AO23=0,"",RANK(AO23,AO$20:AO$26,0)) | AQ23: =IF(AP23="",0,VLOOKUP(AP23,Pointage[#All],2,FALSE)*AQ$18) -> 0 | AS23: =IF(AR23=0,"",RANK(AR23,AR$20:AR$26,0)) | AT23: =IF(AS23="",0,VLOOKUP(AS23,Pointage[#All],2,FALSE)*AT$18) -> 0 | AU23: =IF(AN23="","",AN23+AQ23+AT23) -> 0 | AV23: 66.25 | AW23: =IF(AV23=0,"",RANK(AV23,AV$20:AV$26,0)) -> 1 | AX23: =IF(AW23="",0,VLOOKUP(AW23,Pointage[#All],2,FALSE)*AX$18) -> 12 | AY23: 64.06 | AZ23: =IF(AY23=0,"",RANK(AY23,AY$20:AY$26,0)) -> 1 | BA23: =IF(AZ23="",0,VLOOKUP(AZ23,Pointage[#All],2,FALSE)*BA$18) -> 12 | BB23: 60.5 | BC23: =IF(BB23=0,"",RANK(BB23,BB$20:BB$26,0)) -> 1 | BD23: =IF(BC23="",0,VLOOKUP(BC23,Pointage[#All],2,FALSE)*BD$18) -> 6 | BE23: =IF(AX23="","",AX23+BA23+BD23) -> 30 | BG23: =IF(BF23=0,"",RANK(BF23,BF$20:BF$26,0)) | BH23: =IF(BG23="",0,VLOOKUP(BG23,Pointage[#All],2,FALSE)*BH$18) -> 0 | BJ23: =IF(BI23=0,"",RANK(BI23,BI$20:BI$26,0)) | BK23: =IF(BJ23="",0,VLOOKUP(BJ23,Pointage[#All],2,FALSE)*BK$18) -> 0 | BM23: =IF(BL23=0,"",RANK(BL23,BL$20:BL$26,0)) | BN23: =IF(BM23="",0,VLOOKUP(BM23,Pointage[#All],2,FALSE)*BN$18) -> 0 | BO23: =IF(BH23="","",BH23+BK23+BN23)*1.25 -> 0
B24: Marie-Chantal | C24: Spooner | D24: Croquette | E24: =Q24+AA24++AK24+AU24+BO24+BE24 -> 20 | F24: =IF(E24=0,"",RANK(E24,E$20:E$26,0)) -> 4 | G24: =IF(F24=1,"Or",IF(F24=2,"Argent",IF(F24=3,"Bronze",""))) | I24: =IF(H24=0,"",RANK(H24,H$20:H$26,0)) | J24: =IF(I24="",0,VLOOKUP(I24,Pointage[#All],2,FALSE)*J$18) -> 0 | L24: =IF(K24=0,"",RANK(K24,K$20:K$26,0)) | M24: =IF(L24="",0,VLOOKUP(L24,Pointage[#All],2,FALSE)*M$18) -> 0 | O24: =IF(N24=0,"",RANK(N24,N$20:N$26,0)) | P24: =IF(O24="",0,VLOOKUP(O24,Pointage[#All],2,FALSE)*P$18) -> 0 | Q24: =IF(J24="","",J24+M24+P24) -> 0 | S24: =IF(R24=0,"",RANK(R24,R$20:R$26,0)) | T24: =IF(S24="",0,VLOOKUP(S24,Pointage[#All],2,FALSE)*T$18) -> 0 | V24: =IF(U24=0,"",RANK(U24,U$20:U$26,0)) | W24: =IF(V24="",0,VLOOKUP(V24,Pointage[#All],2,FALSE)*W$18) -> 0 | Y24: =IF(X24=0,"",RANK(X24,X$20:X$26,0)) | Z24: =IF(Y24="",0,VLOOKUP(Y24,Pointage[#All],2,FALSE)*Z$18) -> 0 | AA24: =IF(T24="","",T24+W24+Z24) -> 0 | AC24: =IF(AB24=0,"",RANK(AB24,AB$20:AB$26,0)) | AD24: =IF(AC24="",0,VLOOKUP(AC24,Pointage[#All],2,FALSE)*AD$18) -> 0 | AF24: =IF(AE24=0,"",RANK(AE24,AE$20:AE$26,0)) | AG24: =IF(AF24="",0,VLOOKUP(AF24,Pointage[#All],2,FALSE)*AG$18) -> 0 | AI24: =IF(AH24=0,"",RANK(AH24,AH$20:AH$26,0)) | AJ24: =IF(AI24="",0,VLOOKUP(AI24,Pointage[#All],2,FALSE)*AJ$18) -> 0 | AK24: =IF(AD24="","",AD24+AG24+AJ24) -> 0 | AM24: =IF(AL24=0,"",RANK(AL24,AL$20:AL$26,0)) | AN24: =IF(AM24="",0,VLOOKUP(AM24,Pointage[#All],2,FALSE)*AN$18) -> 0 | AP24: =IF(AO24=0,"",RANK(AO24,AO$20:AO$26,0)) | AQ24: =IF(AP24="",0,VLOOKUP(AP24,Pointage[#All],2,FALSE)*AQ$18) -> 0 | AS24: =IF(AR24=0,"",RANK(AR24,AR$20:AR$26,0)) | AT24: =IF(AS24="",0,VLOOKUP(AS24,Pointage[#All],2,FALSE)*AT$18) -> 0 | AU24: =IF(AN24="","",AN24+AQ24+AT24) -> 0 | AV24: 51.88 | AW24: =IF(AV24=0,"",RANK(AV24,AV$20:AV$26,0)) -> 2 | AX24: =IF(AW24="",0,VLOOKUP(AW24,Pointage[#All],2,FALSE)*AX$18) -> 10 | AY24: 46.88 | AZ24: =IF(AY24=0,"",RANK(AY24,AY$20:AY$26,0)) -> 2 | BA24: =IF(AZ24="",0,VLOOKUP(AZ24,Pointage[#All],2,FALSE)*BA$18) -> 10 | BC24: =IF(BB24=0,"",RANK(BB24,BB$20:BB$26,0)) | BD24: =IF(BC24="",0,VLOOKUP(BC24,Pointage[#All],2,FALSE)*BD$18) -> 0 | BE24: =IF(AX24="","",AX24+BA24+BD24) -> 20 | BG24: =IF(BF24=0,"",RANK(BF24,BF$20:BF$26,0)) | BH24: =IF(BG24="",0,VLOOKUP(BG24,Pointage[#All],2,FALSE)*BH$18) -> 0 | BJ24: =IF(BI24=0,"",RANK(BI24,BI$20:BI$26,0)) | BK24: =IF(BJ24="",0,VLOOKUP(BJ24,Pointage[#All],2,FALSE)*BK$18) -> 0 | BM24: =IF(BL24=0,"",RANK(BL24,BL$20:BL$26,0)) | BN24: =IF(BM24="",0,VLOOKUP(BM24,Pointage[#All],2,FALSE)*BN$18) -> 0 | BO24: =IF(BH24="","",BH24+BK24+BN24)*1.25 -> 0
B25: Eve | C25: Fontain | D25: Weiser | E25: =Q25+AA25++AK25+AU25+BO25 -> 37.5 | F25: =IF(E25=0,"",RANK(E25,E$20:E$26,0)) -> 2 | G25: =IF(F25=1,"Or",IF(F25=2,"Argent",IF(F25=3,"Bronze",""))) -> Argent | I25: =IF(H25=0,"",RANK(H25,H$20:H$26,0)) | J25: =IF(I25="",0,VLOOKUP(I25,Pointage[#All],2,FALSE)*J$18) -> 0 | L25: =IF(K25=0,"",RANK(K25,K$20:K$26,0)) | M25: =IF(L25="",0,VLOOKUP(L25,Pointage[#All],2,FALSE)*M$18) -> 0 | O25: =IF(N25=0,"",RANK(N25,N$20:N$26,0)) | P25: =IF(O25="",0,VLOOKUP(O25,Pointage[#All],2,FALSE)*P$18) -> 0 | Q25: =IF(J25="","",J25+M25+P25) -> 0 | S25: =IF(R25=0,"",RANK(R25,R$20:R$26,0)) | T25: =IF(S25="",0,VLOOKUP(S25,Pointage[#All],2,FALSE)*T$18) -> 0 | V25: =IF(U25=0,"",RANK(U25,U$20:U$26,0)) | W25: =IF(V25="",0,VLOOKUP(V25,Pointage[#All],2,FALSE)*W$18) -> 0 | Y25: =IF(X25=0,"",RANK(X25,X$20:X$26,0)) | Z25: =IF(Y25="",0,VLOOKUP(Y25,Pointage[#All],2,FALSE)*Z$18) -> 0 | AA25: =IF(T25="","",T25+W25+Z25) -> 0 | AC25: =IF(AB25=0,"",RANK(AB25,AB$20:AB$26,0)) | AD25: =IF(AC25="",0,VLOOKUP(AC25,Pointage[#All],2,FALSE)*AD$18) -> 0 | AF25: =IF(AE25=0,"",RANK(AE25,AE$20:AE$26,0)) | AG25: =IF(AF25="",0,VLOOKUP(AF25,Pointage[#All],2,FALSE)*AG$18) -> 0 | AI25: =IF(AH25=0,"",RANK(AH25,AH$20:AH$26,0)) | AJ25: =IF(AI25="",0,VLOOKUP(AI25,Pointage[#All],2,FALSE)*AJ$18) -> 0 | AK25: =IF(AD25="","",AD25+AG25+AJ25) -> 0 | AM25: =IF(AL25=0,"",RANK(AL25,AL$20:AL$26,0)) | AN25: =IF(AM25="",0,VLOOKUP(AM25,Pointage[#All],2,FALSE)*AN$18) -> 0 | AP25: =IF(AO25=0,"",RANK(AO25,AO$20:AO$26,0)) | AQ25: =IF(AP25="",0,VLOOKUP(AP25,Pointage[#All],2,FALSE)*AQ$18) -> 0 | AS25: =IF(AR25=0,"",RANK(AR25,AR$20:AR$26,0)) | AT25: =IF(AS25="",0,VLOOKUP(AS25,Pointage[#All],2,FALSE)*AT$18) -> 0 | AU25: =IF(AN25="","",AN25+AQ25+AT25) -> 0 | AW25: =IF(AV25=0,"",RANK(AV25,AV$20:AV$26,0)) | AX25: =IF(AW25="",0,VLOOKUP(AW25,Pointage[#All],2,FALSE)*AX$18) -> 0 | AZ25: =IF(AY25=0,"",RANK(AY25,AY$20:AY$26,0)) | BA25: =IF(AZ25="",0,VLOOKUP(AZ25,Pointage[#All],2,FALSE)*BA$18) -> 0 | BC25: =IF(BB25=0,"",RANK(BB25,BB$20:BB$26,0)) | BD25: =IF(BC25="",0,VLOOKUP(BC25,Pointage[#All],2,FALSE)*BD$18) -> 0 | BE25: =IF(AX25="","",AX25+BA25+BD25) -> 0 | BF25: 61.562 | BG25: =IF(BF25=0,"",RANK(BF25,BF$20:BF$26,0)) -> 2 | BH25: =IF(BG25="",0,VLOOKUP(BG25,Pointage[#All],2,FALSE)*BH$18) -> 10 | BI25: 59.062 | BJ25: =IF(BI25=0,"",RANK(BI25,BI$20:BI$26,0)) -> 2 | BK25: =IF(BJ25="",0,VLOOKUP(BJ25,Pointage[#All],2,FALSE)*BK$18) -> 10 | BL25: 55 | BM25: =IF(BL25=0,"",RANK(BL25,BL$20:BL$26,0)) -> 2 | BN25: =IF(BM25="",0,VLOOKUP(BM25,Pointage[#All],2,FALSE)*BN$18) -> 10 | BO25: =IF(BH25="","",BH25+BK25+BN25)*1.25 -> 37.5
B26: France | C26: Allard | D26: George W | E26: =Q26+AA26++AK26+AU26+BO26 -> 45 | F26: =IF(E26=0,"",RANK(E26,E$20:E$26,0)) -> 1 | G26: =IF(F26=1,"Or",IF(F26=2,"Argent",IF(F26=3,"Bronze",""))) -> Or | I26: =IF(H26=0,"",RANK(H26,H$20:H$26,0)) | J26: =IF(I26="",0,VLOOKUP(I26,Pointage[#All],2,FALSE)*J$18) -> 0 | L26: =IF(K26=0,"",RANK(K26,K$20:K$26,0)) | M26: =IF(L26="",0,VLOOKUP(L26,Pointage[#All],2,FALSE)*M$18) -> 0 | O26: =IF(N26=0,"",RANK(N26,N$20:N$26,0)) | P26: =IF(O26="",0,VLOOKUP(O26,Pointage[#All],2,FALSE)*P$18) -> 0 | Q26: =IF(J26="","",J26+M26+P26) -> 0 | S26: =IF(R26=0,"",RANK(R26,R$20:R$26,0)) | T26: =IF(S26="",0,VLOOKUP(S26,Pointage[#All],2,FALSE)*T$18) -> 0 | V26: =IF(U26=0,"",RANK(U26,U$20:U$26,0)) | W26: =IF(V26="",0,VLOOKUP(V26,Pointage[#All],2,FALSE)*W$18) -> 0 | Y26: =IF(X26=0,"",RANK(X26,X$20:X$26,0)) | Z26: =IF(Y26="",0,VLOOKUP(Y26,Pointage[#All],2,FALSE)*Z$18) -> 0 | AA26: =IF(T26="","",T26+W26+Z26) -> 0 | AC26: =IF(AB26=0,"",RANK(AB26,AB$20:AB$26,0)) | AD26: =IF(AC26="",0,VLOOKUP(AC26,Pointage[#All],2,FALSE)*AD$18) -> 0 | AF26: =IF(AE26=0,"",RANK(AE26,AE$20:AE$26,0)) | AG26: =IF(AF26="",0,VLOOKUP(AF26,Pointage[#All],2,FALSE)*AG$18) -> 0 | AI26: =IF(AH26=0,"",RANK(AH26,AH$20:AH$26,0)) | AJ26: =IF(AI26="",0,VLOOKUP(AI26,Pointage[#All],2,FALSE)*AJ$18) -> 0 | AK26: =IF(AD26="","",AD26+AG26+AJ26) -> 0 | AM26: =IF(AL26=0,"",RANK(AL26,AL$20:AL$26,0)) | AN26: =IF(AM26="",0,VLOOKUP(AM26,Pointage[#All],2,FALSE)*AN$18) -> 0 | AP26: =IF(AO26=0,"",RANK(AO26,AO$20:AO$26,0)) | AQ26: =IF(AP26="",0,VLOOKUP(AP26,Pointage[#All],2,FALSE)*AQ$18) -> 0 | AS26: =IF(AR26=0,"",RANK(AR26,AR$20:AR$26,0)) | AT26: =IF(AS26="",0,VLOOKUP(AS26,Pointage[#All],2,FALSE)*AT$18) -> 0 | AU26: =IF(AN26="","",AN26+AQ26+AT26) -> 0 | AW26: =IF(AV26=0,"",RANK(AV26,AV$20:AV$26,0)) | AX26: =IF(AW26="",0,VLOOKUP(AW26,Pointage[#All],2,FALSE)*AX$18) -> 0 | AZ26: =IF(AY26=0,"",RANK(AY26,AY$20:AY$26,0)) | BA26: =IF(AZ26="",0,VLOOKUP(AZ26,Pointage[#All],2,FALSE)*BA$18) -> 0 | BC26: =IF(BB26=0,"",RANK(BB26,BB$20:BB$26,0)) | BD26: =IF(BC26="",0,VLOOKUP(BC26,Pointage[#All],2,FALSE)*BD$18) -> 0 | BE26: =IF(AX26="","",AX26+BA26+BD26) -> 0 | BF26: 68.75 | BG26: =IF(BF26=0,"",RANK(BF26,BF$20:BF$26,0)) -> 1 | BH26: =IF(BG26="",0,VLOOKUP(BG26,Pointage[#All],2,FALSE)*BH$18) -> 12 | BI26: 68.437 | BJ26: =IF(BI26=0,"",RANK(BI26,BI$20:BI$26,0)) -> 1 | BK26: =IF(BJ26="",0,VLOOKUP(BJ26,Pointage[#All],2,FALSE)*BK$18) -> 12 | BL26: 66.75 | BM26: =IF(BL26=0,"",RANK(BL26,BL$20:BL$26,0)) -> 1 | BN26: =IF(BM26="",0,VLOOKUP(BM26,Pointage[#All],2,FALSE)*BN$18) -> 12 | BO26: =IF(BH26="","",BH26+BK26+BN26)*1.25 -> 45
A27: Initiation Ouvert | H27: Reprise 1 | I27: Nbr de cavalier | K27: Reprise 2 | L27: Nbr de cavalier | N27: Reprise 3 | O27: Nbr de cavalier | Q27: TOTAL POINT | R27: Reprise 1 | S27: Nbr de cavalier | U27: Reprise 2 | V27: Nbr de cavalier | X27: Reprise 3 | Y27: Nbr de cavalier | AA27: TOTAL POINT | AB27: Reprise 1 | AC27: Nbr de cavalier | AE27: Reprise 2 | AF27: Nbr de cavalier | AH27: Reprise 3 | AI27: Nbr de cavalier | AK27: TOTAL POINT | AL27: Reprise 1 | AM27: Nbr de cavalier | AO27: Reprise 2 | AP27: Nbr de cavalier | AR27: Reprise 3 | AS27: Nbr de cavalier | AU27: TOTAL POINT | AV27: Reprise 1 | AW27: Nbr de cavalier | AY27: Reprise 2 | AZ27: Nbr de cavalier | BB27: Reprise 3 | BC27: Nbr de cavalier | BE27: TOTAL POINT | BF27: Reprise 1 | BG27: Nbr de cavalier | BI27: Reprise 2 | BJ27: Nbr de cavalier | BL27: Reprise 3 | BM27: Nbr de cavalier | BO27: TOTAL POINT
H28: Résultats | I28: Position | J28: Points | K28: Résultats | L28: Position | M28: Points | N28: Résultats | O28: Position | P28: Points | R28: Résultats | S28: Position | T28: Points | U28: Résultats | V28: Position | W28: Points | X28: Résultats | Y28: Position | Z28: Points | AB28: Résultats | AC28: Position | AD28: Points | AE28: Résultats | AF28: Position | AG28: Points | AH28: Résultats | AI28: Position | AJ28: Points | AL28: Résultats | AM28: Position | AN28: Points | AO28: Résultats | AP28: Position | AQ28: Points | AR28: Résultats | AS28: Position | AT28: Points | AV28: Résultats | AW28: Position | AX28: Points | AY28: Résultats | AZ28: Position | BA28: Points | BB28: Résultats | BC28: Position | BD28: Points | BF28: Résultats | BG28: Position | BH28: Points | BI28: Résultats | BJ28: Position | BK28: Points | BL28: Résultats | BM28: Position | BN28: Points
E29: =Q29+AA29++AK29+AU29+BO29 -> 0 | F29: =IF(E29=0,"",RANK(E29,E$29:E$32,0)) | I29: =IF(H29=0,"",RANK(H29,H$29:H$32,0)) | J29: =IF(I29="",0,VLOOKUP(I29,Pointage[#All],2,FALSE)*J$27) -> 0 | L29: =IF(K29=0,"",RANK(K29,K$29:K$32,0)) | M29: =IF(L29="",0,VLOOKUP(L29,Pointage[#All],2,FALSE)*M$27) -> 0 | O29: =IF(N29=0,"",RANK(N29,N$29:N$32,0)) | P29: =IF(O29="",0,VLOOKUP(O29,Pointage[#All],2,FALSE)*P$27) -> 0 | Q29: =IF(J29="","",J29+M29+P29) -> 0 | S29: =IF(R29=0,"",RANK(R29,R$29:R$32,0)) | T29: =IF(S29="",0,VLOOKUP(S29,Pointage[#All],2,FALSE)*T$27) -> 0 | V29: =IF(U29=0,"",RANK(U29,U$29:U$32,0)) | W29: =IF(V29="",0,VLOOKUP(V29,Pointage[#All],2,FALSE)*W$27) -> 0 | Y29: =IF(X29=0,"",RANK(X29,X$29:X$32,0)) | Z29: =IF(Y29="",0,VLOOKUP(Y29,Pointage[#All],2,FALSE)*Z$27) -> 0 | AA29: =IF(T29="","",T29+W29+Z29) -> 0 | AC29: =IF(AB29=0,"",RANK(AB29,AB$29:AB$32,0)) | AD29: =IF(AC29="",0,VLOOKUP(AC29,Pointage[#All],2,FALSE)*AD$27) -> 0 | AF29: =IF(AE29=0,"",RANK(AE29,AE$29:AE$32,0)) | AG29: =IF(AF29="",0,VLOOKUP(AF29,Pointage[#All],2,FALSE)*AG$27) -> 0 | AI29: =IF(AH29=0,"",RANK(AH29,AH$29:AH$32,0)) | AJ29: =IF(AI29="",0,VLOOKUP(AI29,Pointage[#All],2,FALSE)*AJ$27) -> 0 | AK29: =IF(AD29="","",AD29+AG29+AJ29) -> 0 | AM29: =IF(AL29=0,"",RANK(AL29,AL$29:AL$32,0)) | AN29: =IF(AM29="",0,VLOOKUP(AM29,Pointage[#All],2,FALSE)*AN$27) -> 0 | AP29: =IF(AO29=0,"",RANK(AO29,AO$29:AO$32,0)) | AQ29: =IF(AP29="",0,VLOOKUP(AP29,Pointage[#All],2,FALSE)*AQ$27) -> 0 | AS29: =IF(AR29=0,"",RANK(AR29,AR$29:AR$32,0)) | AT29: =IF(AS29="",0,VLOOKUP(AS29,Pointage[#All],2,FALSE)*AT$27) -> 0 | AU29: =IF(AN29="","",AN29+AQ29+AT29) -> 0 | AW29: =IF(AV29=0,"",RANK(AV29,AV$29:AV$32,0)) | AX29: =IF(AW29="",0,VLOOKUP(AW29,Pointage[#All],2,FALSE)*AX$27) -> 0 | AZ29: =IF(AY29=0,"",RANK(AY29,AY$29:AY$32,0)) | BA29: =IF(AZ29="",0,VLOOKUP(AZ29,Pointage[#All],2,FALSE)*BA$27) -> 0 | BC29: =IF(BB29=0,"",RANK(BB29,BB$29:BB$32,0)) | BD29: =IF(BC29="",0,VLOOKUP(BC29,Pointage[#All],2,FALSE)*BD$27) -> 0 | BE29: =IF(AX29="","",AX29+BA29+BD29) -> 0 | BG29: =IF(BF29=0,"",RANK(BF29,BF$29:BF$32,0)) | BH29: =IF(BG29="",0,VLOOKUP(BG29,Pointage[#All],2,FALSE)*BH$27) -> 0 | BJ29: =IF(BI29=0,"",RANK(BI29,BI$29:BI$32,0)) | BK29: =IF(BJ29="",0,VLOOKUP(BJ29,Pointage[#All],2,FALSE)*BK$27) -> 0 | BM29: =IF(BL29=0,"",RANK(BL29,BL$29:BL$32,0)) | BN29: =IF(BM29="",0,VLOOKUP(BM29,Pointage[#All],2,FALSE)*BN$27) -> 0 | BO29: =IF(BH29="","",BH29+BK29+BN29)*1.25 -> 0
E30: =Q30+AA30++AK30+AU30+BO30 -> 0 | F30: =IF(E30=0,"",RANK(E30,E$29:E$32,0)) | I30: =IF(H30=0,"",RANK(H30,H$29:H$32,0)) | J30: =IF(I30="",0,VLOOKUP(I30,Pointage[#All],2,FALSE)*J$27) -> 0 | L30: =IF(K30=0,"",RANK(K30,K$29:K$32,0)) | M30: =IF(L30="",0,VLOOKUP(L30,Pointage[#All],2,FALSE)*M$27) -> 0 | O30: =IF(N30=0,"",RANK(N30,N$29:N$32,0)) | P30: =IF(O30="",0,VLOOKUP(O30,Pointage[#All],2,FALSE)*P$27) -> 0 | Q30: =IF(J30="","",J30+M30+P30) -> 0 | S30: =IF(R30=0,"",RANK(R30,R$29:R$32,0)) | T30: =IF(S30="",0,VLOOKUP(S30,Pointage[#All],2,FALSE)*T$27) -> 0 | V30: =IF(U30=0,"",RANK(U30,U$29:U$32,0)) | W30: =IF(V30="",0,VLOOKUP(V30,Pointage[#All],2,FALSE)*W$27) -> 0 | Y30: =IF(X30=0,"",RANK(X30,X$29:X$32,0)) | Z30: =IF(Y30="",0,VLOOKUP(Y30,Pointage[#All],2,FALSE)*Z$27) -> 0 | AA30: =IF(T30="","",T30+W30+Z30) -> 0 | AC30: =IF(AB30=0,"",RANK(AB30,AB$29:AB$32,0)) | AD30: =IF(AC30="",0,VLOOKUP(AC30,Pointage[#All],2,FALSE)*AD$27) -> 0 | AF30: =IF(AE30=0,"",RANK(AE30,AE$29:AE$32,0)) | AG30: =IF(AF30="",0,VLOOKUP(AF30,Pointage[#All],2,FALSE)*AG$27) -> 0 | AI30: =IF(AH30=0,"",RANK(AH30,AH$29:AH$32,0)) | AJ30: =IF(AI30="",0,VLOOKUP(AI30,Pointage[#All],2,FALSE)*AJ$27) -> 0 | AK30: =IF(AD30="","",AD30+AG30+AJ30) -> 0 | AM30: =IF(AL30=0,"",RANK(AL30,AL$29:AL$32,0)) | AN30: =IF(AM30="",0,VLOOKUP(AM30,Pointage[#All],2,FALSE)*AN$27) -> 0 | AP30: =IF(AO30=0,"",RANK(AO30,AO$29:AO$32,0)) | AQ30: =IF(AP30="",0,VLOOKUP(AP30,Pointage[#All],2,FALSE)*AQ$27) -> 0 | AS30: =IF(AR30=0,"",RANK(AR30,AR$29:AR$32,0)) | AT30: =IF(AS30="",0,VLOOKUP(AS30,Pointage[#All],2,FALSE)*AT$27) -> 0 | AU30: =IF(AN30="","",AN30+AQ30+AT30) -> 0 | AW30: =IF(AV30=0,"",RANK(AV30,AV$29:AV$32,0)) | AX30: =IF(AW30="",0,VLOOKUP(AW30,Pointage[#All],2,FALSE)*AX$27) -> 0 | AZ30: =IF(AY30=0,"",RANK(AY30,AY$29:AY$32,0)) | BA30: =IF(AZ30="",0,VLOOKUP(AZ30,Pointage[#All],2,FALSE)*BA$27) -> 0 | BC30: =IF(BB30=0,"",RANK(BB30,BB$29:BB$32,0)) | BD30: =IF(BC30="",0,VLOOKUP(BC30,Pointage[#All],2,FALSE)*BD$27) -> 0 | BE30: =IF(AX30="","",AX30+BA30+BD30) -> 0 | BG30: =IF(BF30=0,"",RANK(BF30,BF$29:BF$32,0)) | BH30: =IF(BG30="",0,VLOOKUP(BG30,Pointage[#All],2,FALSE)*BH$27) -> 0 | BJ30: =IF(BI30=0,"",RANK(BI30,BI$29:BI$32,0)) | BK30: =IF(BJ30="",0,VLOOKUP(BJ30,Pointage[#All],2,FALSE)*BK$27) -> 0 | BM30: =IF(BL30=0,"",RANK(BL30,BL$29:BL$32,0)) | BN30: =IF(BM30="",0,VLOOKUP(BM30,Pointage[#All],2,FALSE)*BN$27) -> 0 | BO30: =IF(BH30="","",BH30+BK30+BN30)*1.25 -> 0
E31: =Q31+AA31++AK31+AU31+BO31 -> 0 | F31: =IF(E31=0,"",RANK(E31,E$29:E$32,0)) | I31: =IF(H31=0,"",RANK(H31,H$29:H$32,0)) | J31: =IF(I31="",0,VLOOKUP(I31,Pointage[#All],2,FALSE)*J$27) -> 0 | L31: =IF(K31=0,"",RANK(K31,K$29:K$32,0)) | M31: =IF(L31="",0,VLOOKUP(L31,Pointage[#All],2,FALSE)*M$27) -> 0 | O31: =IF(N31=0,"",RANK(N31,N$29:N$32,0)) | P31: =IF(O31="",0,VLOOKUP(O31,Pointage[#All],2,FALSE)*P$27) -> 0 | Q31: =IF(J31="","",J31+M31+P31) -> 0 | S31: =IF(R31=0,"",RANK(R31,R$29:R$32,0)) | T31: =IF(S31="",0,VLOOKUP(S31,Pointage[#All],2,FALSE)*T$27) -> 0 | V31: =IF(U31=0,"",RANK(U31,U$29:U$32,0)) | W31: =IF(V31="",0,VLOOKUP(V31,Pointage[#All],2,FALSE)*W$27) -> 0 | Y31: =IF(X31=0,"",RANK(X31,X$29:X$32,0)) | Z31: =IF(Y31="",0,VLOOKUP(Y31,Pointage[#All],2,FALSE)*Z$27) -> 0 | AA31: =IF(T31="","",T31+W31+Z31) -> 0 | AC31: =IF(AB31=0,"",RANK(AB31,AB$29:AB$32,0)) | AD31: =IF(AC31="",0,VLOOKUP(AC31,Pointage[#All],2,FALSE)*AD$27) -> 0 | AF31: =IF(AE31=0,"",RANK(AE31,AE$29:AE$32,0)) | AG31: =IF(AF31="",0,VLOOKUP(AF31,Pointage[#All],2,FALSE)*AG$27) -> 0 | AI31: =IF(AH31=0,"",RANK(AH31,AH$29:AH$32,0)) | AJ31: =IF(AI31="",0,VLOOKUP(AI31,Pointage[#All],2,FALSE)*AJ$27) -> 0 | AK31: =IF(AD31="","",AD31+AG31+AJ31) -> 0 | AM31: =IF(AL31=0,"",RANK(AL31,AL$29:AL$32,0)) | AN31: =IF(AM31="",0,VLOOKUP(AM31,Pointage[#All],2,FALSE)*AN$27) -> 0 | AP31: =IF(AO31=0,"",RANK(AO31,AO$29:AO$32,0)) | AQ31: =IF(AP31="",0,VLOOKUP(AP31,Pointage[#All],2,FALSE)*AQ$27) -> 0 | AS31: =IF(AR31=0,"",RANK(AR31,AR$29:AR$32,0)) | AT31: =IF(AS31="",0,VLOOKUP(AS31,Pointage[#All],2,FALSE)*AT$27) -> 0 | AU31: =IF(AN31="","",AN31+AQ31+AT31) -> 0 | AW31: =IF(AV31=0,"",RANK(AV31,AV$29:AV$32,0)) | AX31: =IF(AW31="",0,VLOOKUP(AW31,Pointage[#All],2,FALSE)*AX$27) -> 0 | AZ31: =IF(AY31=0,"",RANK(AY31,AY$29:AY$32,0)) | BA31: =IF(AZ31="",0,VLOOKUP(AZ31,Pointage[#All],2,FALSE)*BA$27) -> 0 | BC31: =IF(BB31=0,"",RANK(BB31,BB$29:BB$32,0)) | BD31: =IF(BC31="",0,VLOOKUP(BC31,Pointage[#All],2,FALSE)*BD$27) -> 0 | BE31: =IF(AX31="","",AX31+BA31+BD31) -> 0 | BG31: =IF(BF31=0,"",RANK(BF31,BF$29:BF$32,0)) | BH31: =IF(BG31="",0,VLOOKUP(BG31,Pointage[#All],2,FALSE)*BH$27) -> 0 | BJ31: =IF(BI31=0,"",RANK(BI31,BI$29:BI$32,0)) | BK31: =IF(BJ31="",0,VLOOKUP(BJ31,Pointage[#All],2,FALSE)*BK$27) -> 0 | BM31: =IF(BL31=0,"",RANK(BL31,BL$29:BL$32,0)) | BN31: =IF(BM31="",0,VLOOKUP(BM31,Pointage[#All],2,FALSE)*BN$27) -> 0 | BO31: =IF(BH31="","",BH31+BK31+BN31)*1.25 -> 0
E32: =Q32+AA32++AK32+AU32+BO32 -> 0 | F32: =IF(E32=0,"",RANK(E32,E$29:E$32,0)) | I32: =IF(H32=0,"",RANK(H32,H$29:H$32,0)) | J32: =IF(I32="",0,VLOOKUP(I32,Pointage[#All],2,FALSE)*J$27) -> 0 | L32: =IF(K32=0,"",RANK(K32,K$29:K$32,0)) | M32: =IF(L32="",0,VLOOKUP(L32,Pointage[#All],2,FALSE)*M$27) -> 0 | O32: =IF(N32=0,"",RANK(N32,N$29:N$32,0)) | P32: =IF(O32="",0,VLOOKUP(O32,Pointage[#All],2,FALSE)*P$27) -> 0 | Q32: =IF(J32="","",J32+M32+P32) -> 0 | S32: =IF(R32=0,"",RANK(R32,R$29:R$32,0)) | T32: =IF(S32="",0,VLOOKUP(S32,Pointage[#All],2,FALSE)*T$27) -> 0 | V32: =IF(U32=0,"",RANK(U32,U$29:U$32,0)) | W32: =IF(V32="",0,VLOOKUP(V32,Pointage[#All],2,FALSE)*W$27) -> 0 | Y32: =IF(X32=0,"",RANK(X32,X$29:X$32,0)) | Z32: =IF(Y32="",0,VLOOKUP(Y32,Pointage[#All],2,FALSE)*Z$27) -> 0 | AA32: =IF(T32="","",T32+W32+Z32) -> 0 | AC32: =IF(AB32=0,"",RANK(AB32,AB$29:AB$32,0)) | AD32: =IF(AC32="",0,VLOOKUP(AC32,Pointage[#All],2,FALSE)*AD$27) -> 0 | AF32: =IF(AE32=0,"",RANK(AE32,AE$29:AE$32,0)) | AG32: =IF(AF32="",0,VLOOKUP(AF32,Pointage[#All],2,FALSE)*AG$27) -> 0 | AI32: =IF(AH32=0,"",RANK(AH32,AH$29:AH$32,0)) | AJ32: =IF(AI32="",0,VLOOKUP(AI32,Pointage[#All],2,FALSE)*AJ$27) -> 0 | AK32: =IF(AD32="","",AD32+AG32+AJ32) -> 0 | AM32: =IF(AL32=0,"",RANK(AL32,AL$29:AL$32,0)) | AN32: =IF(AM32="",0,VLOOKUP(AM32,Pointage[#All],2,FALSE)*AN$27) -> 0 | AP32: =IF(AO32=0,"",RANK(AO32,AO$29:AO$32,0)) | AQ32: =IF(AP32="",0,VLOOKUP(AP32,Pointage[#All],2,FALSE)*AQ$27) -> 0 | AS32: =IF(AR32=0,"",RANK(AR32,AR$29:AR$32,0)) | AT32: =IF(AS32="",0,VLOOKUP(AS32,Pointage[#All],2,FALSE)*AT$27) -> 0 | AU32: =IF(AN32="","",AN32+AQ32+AT32) -> 0 | AW32: =IF(AV32=0,"",RANK(AV32,AV$29:AV$32,0)) | AX32: =IF(AW32="",0,VLOOKUP(AW32,Pointage[#All],2,FALSE)*AX$27) -> 0 | AZ32: =IF(AY32=0,"",RANK(AY32,AY$29:AY$32,0)) | BA32: =IF(AZ32="",0,VLOOKUP(AZ32,Pointage[#All],2,FALSE)*BA$27) -> 0 | BC32: =IF(BB32=0,"",RANK(BB32,BB$29:BB$32,0)) | BD32: =IF(BC32="",0,VLOOKUP(BC32,Pointage[#All],2,FALSE)*BD$27) -> 0 | BE32: =IF(AX32="","",AX32+BA32+BD32) -> 0 | BG32: =IF(BF32=0,"",RANK(BF32,BF$29:BF$32,0)) | BH32: =IF(BG32="",0,VLOOKUP(BG32,Pointage[#All],2,FALSE)*BH$27) -> 0 | BJ32: =IF(BI32=0,"",RANK(BI32,BI$29:BI$32,0)) | BK32: =IF(BJ32="",0,VLOOKUP(BJ32,Pointage[#All],2,FALSE)*BK$27) -> 0 | BM32: =IF(BL32=0,"",RANK(BL32,BL$29:BL$32,0)) | BN32: =IF(BM32="",0,VLOOKUP(BM32,Pointage[#All],2,FALSE)*BN$27) -> 0 | BO32: =IF(BH32="","",BH32+BK32+BN32)*1.25 -> 0

Sheet Entraînement
A1: #AERE | B1: Prénom | C1: Cavalier | D1: Cheval | E1: Cumulatif | F1: Rang | G1: Rang KUR | H1: Rang Gala | I1: =VLOOKUP(1,Concours!$A$2:$B$6,2,FALSE) -> Bromont 16-17 mai 2026 | V1: =VLOOKUP(2,Concours!$A$2:$B$6,2,FALSE) -> Géronimo 27-28 juin 2026 | AI1: =VLOOKUP(3,Concours!$A$2:$B$6,2,FALSE) -> Équilibre 18-19 juillet 2026 | AV1: =VLOOKUP(4,Concours!$A$2:$B$6,2,FALSE) -> Domaine Avalon 8-9 août 2026 | BI1: =Concours!B6 -> Royale 22-23 août 2026 | BS1: =Concours!B7 -> Bromont Finale 5-6 septembre 2026 | CC1: TOTAL SAISON KUR
A2: Entraînement Poney | I2: Reprise 1 | J2: Nbr de cavalier | K2: 1 | L2: Reprise 2 | M2: Nbr de cavalier | N2: 1 | O2: Reprise 3 | P2: Nbr de cavalier | R2: Kur | S2: Nbr de cavalier | T2: 5 | U2: TOTAL POINT | V2: Reprise 1 | W2: Nbr de cavalier | Y2: Reprise 2 | Z2: Nbr de cavalier | AA2: 1 | AB2: Reprise 3 | AC2: Nbr de cavalier | AD2: 1 | AE2: Kur | AF2: Nbr de cavalier | AG2: 2 | AH2: TOTAL POINT | AI2: Reprise 1 | AJ2: Nbr de cavalier | AK2: 1 | AL2: Reprise 2 | AM2: Nbr de cavalier | AN2: 1 | AO2: Reprise 3 | AP2: Nbr de cavalier | AQ2: 1 | AR2: Kur | AS2: Nbr de cavalier | AT2: 6 | AU2: TOTAL POINT | AV2: Reprise 1 | AW2: Nbr de cavalier | AY2: Reprise 2 | AZ2: Nbr de cavalier | BA2: 1 | BB2: Reprise 3 | BC2: Nbr de cavalier | BD2: 1 | BE2: Kur | BF2: Nbr de cavalier | BG2: 6 | BH2: TOTAL POINT | BI2: Reprise 2 | BJ2: Nbr de cavalier | BK2: 2 | BL2: Reprise 3 | BM2: Nbr de cavalier | BN2: 2 | BO2: Kur | BP2: Nbr de cavalier | BQ2: 4 | BR2: TOTAL POINT | BS2: Reprise 2 | BT2: Nbr de cavalier | BU2: 1 | BV2: Reprise 3 | BW2: Nbr de cavalier | BX2: 1 | BY2: Kur | BZ2: Nbr de cavalier | CA2: 6 | CB2: TOTAL POINT | CC2: TOTAL POINT
I3: Résultats | J3: Position | K3: Points | L3: Résultats | M3: Position | N3: Points | O3: Résultats | P3: Position | Q3: Points | R3: Résultats | S3: Position | T3: Points | V3: Résultats | W3: Position | X3: Points | Y3: Résultats | Z3: Position | AA3: Points | AB3: Résultats | AC3: Position | AD3: Points | AE3: Résultats | AF3: Position | AG3: Points | AI3: Résultats | AJ3: Position | AK3: Points | AL3: Résultats | AM3: Position | AN3: Points | AO3: Résultats | AP3: Position | AQ3: Points | AR3: Résultats | AS3: Position | AT3: Points | AV3: Résultats | AW3: Position | AX3: Points | AY3: Résultats | AZ3: Position | BA3: Points | BB3: Résultats | BC3: Position | BD3: Points | BE3: Résultats | BF3: Position | BG3: Points | BI3: Résultats | BJ3: Position | BK3: Points | BL3: Résultats | BM3: Position | BN3: Points | BO3: Résultats | BP3: Position | BQ3: Points | BS3: Résultats | BT3: Position | BU3: Points | BV3: Résultats | BW3: Position | BX3: Points | BY3: Résultats | BZ3: Position | CA3: Points
B4: Estelle | C4: Brousseau | D4: Lisy | E4: =U4+AH4++AU4+BH4+CB4+BR4 -> 154 | F4: =IF(E4=0,"",RANK(E4,E$4:E$7,0)) -> 1 | G4: =IF(CC4=0,"",RANK(CC4,CC$4:CC$41,0)) -> 3 | H4: =IF(F4=1,"Or",IF(F4=2,"Argent",IF(F4=3,"Bronze",""))) -> Or | I4: 63.461 | J4: =IF(I4=0,"",RANK(I4,I$4:I$7,0)) -> 1 | K4: =IF(J4="",0,VLOOKUP(J4,Pointage[#All],2,FALSE)*K$2) -> 6 | L4: 62.413 | M4: =IF(L4=0,"",RANK(L4,L$4:L$7,0)) -> 1 | N4: =IF(M4="",0,VLOOKUP(M4,Pointage[#All],2,FALSE)*N$2) -> 6 | P4: =IF(O4=0,"",RANK(O4,O$4:O$7,0)) | Q4: 0 | R4: 61.838 | S4: 4 | T4: =IF(S4="",0,VLOOKUP(S4,Pointage[#All],2,FALSE)*T$2) -> 15 | U4: =IF(K4="","",K4+N4+T4) -> 27 | W4: =IF(V4=0,"",RANK(V4,V$4:V$7,0)) | X4: =IF(W4="",0,VLOOKUP(W4,Pointage[#All],2,FALSE)*X$2) -> 0 | Y4: 63.79 | Z4: =IF(Y4=0,"",RANK(Y4,Y$4:Y$7,0)) -> 1 | AA4: =IF(Z4="",0,VLOOKUP(Z4,Pointage[#All],2,FALSE)*AA$2) -> 6 | AB4: 63.79 | AC4: =IF(AB4=0,"",RANK(AB4,AB$4:AB$7,0)) -> 1 | AD4: 0 | AE4: 62.2 | AF4: =IF(AE4=0,"",RANK(AE4,AE$4:AE$41,0)) -> 2 | AG4: =IF(AF4="",0,VLOOKUP(AF4,Pointage[#All],2,FALSE)*AG$2) -> 10 | AH4: =IF(X4="","",X4+AA4+AG4) -> 16 | AJ4: =IF(AI4=0,"",RANK(AI4,AI$4:AI$7,0)) | AK4: =IF(AJ4="",0,VLOOKUP(AJ4,Pointage[#All],2,FALSE)*AK$2) -> 0 | AL4: 63.79 | AM4: =IF(AL4=0,"",RANK(AL4,AL$4:AL$7,0)) -> 1 | AN4: =IF(AM4="",0,VLOOKUP(AM4,Pointage[#All],2,FALSE)*AN$2) -> 6 | AO4: 62.2 | AP4: =IF(AO4=0,"",RANK(AO4,AO$4:AO$7,0)) -> 1 | AQ4: =IF(AP4="",0,VLOOKUP(AP4,Pointage[#All],2,FALSE)*AQ$2) -> 6 | AR4: 65 | AS4: =IF(AR4=0,"",RANK(AR4,AR$4:AR$41,0)) -> 2 | AT4: =IF(AS4="",0,VLOOKUP(AS4,Pointage[#All],2,FALSE)*AT$2) -> 30 | AU4: =AK4+AN4+AS4 -> 8 | AW4: =IF(AV4=0,"",RANK(AV4,AV$4:AV$7,0)) | AX4: 0 | AY4: 58.103 | AZ4: =IF(AY4=0,"",RANK(AY4,AY$4:AY$7,0)) -> 1 | BA4: =IF(AZ4="",0,VLOOKUP(AZ4,Pointage[#All],2,FALSE)*BA$2) -> 6 | BB4: 61.4 | BC4: =IF(BB4=0,"",RANK(BB4,BB$4:BB$7,0)) -> 1 | BD4: =IF(BC4="",0,VLOOKUP(BC4,Pointage[#All],2,FALSE)*BD$2) -> 6 | BE4: 58.24 | BF4: =IF(BE4=0,"",RANK(BE4,BE$4:BE$41,0)) -> 6 | BG4: =IF(BF4="",0,VLOOKUP(BF4,Pointage[#All],2,FALSE)*BG$2) -> 6 | BH4: =IF(BA4="","",BA4+BD4+BG4) -> 18 | BI4: 64.8 | BJ4: =IF(BI4=0,"",RANK(BI4,BI$4:BI$7,0)) -> 1 | BK4: =IF(BJ4="",0,VLOOKUP(BJ4,Pointage[#All],2,FALSE)*BK$2) -> 12 | BL4: 64.4 | BM4: =IF(BL4=0,"",RANK(BL4,BL$4:BL$7,0)) -> 1 | BN4: =IF(BM4="",0,VLOOKUP(BM4,Pointage[#All],2,FALSE)*BN$2) -> 12 | BO4: 65.706 | BP4: =IF(BO4=0,"",RANK(BO4,BO$4:BO$41,0)) -> 3 | BQ4: =IF(BP4="",0,VLOOKUP(BP4,Pointage[#All],2,FALSE)*BQ$2) -> 16 | BR4: =IF(BK4="","",BK4+BN4+BQ4) -> 40 | BS4: 68.103 | BT4: =IF(BS4=0,"",RANK(BS4,BS$4:BS$7,0)) -> 1 | BU4: =IF(BT4="",0,VLOOKUP(BT4,Pointage[#All],2,FALSE)*BU$2) -> 6 | BV4: 64.6 | BW4: =IF(BV4=0,"",RANK(BV4,BV$4:BV$7,0)) -> 1 | BX4: =IF(BW4="",0,VLOOKUP(BW4,Pointage[#All],2,FALSE)*BX$2) -> 6 | BY4: 67.911 | BZ4: =IF(BY4=0,"",RANK(BY4,BY$4:BY$41,0)) -> 3 | CA4: =IF(BZ4="",0,VLOOKUP(BZ4,Pointage[#All],2,FALSE)*CA$2) -> 24 | CB4: =IF(BU4="","",BU4+BX4+CA4)*1.25 -> 45 | CC4: =T4+AG4+AT4+BG4+CA4*1.25+BQ4 -> 107
B5: Maïka | C5: Bombardier | D5: Inchallah | E5: =U5+AH5++AU5+BH5+CB5+BR5 -> 10 | F5: =IF(E5=0,"",RANK(E5,E$4:E$7,0)) -> 2 | G5: =IF(CC5=0,"",RANK(CC5,CC$4:CC$41,0)) | H5: =IF(F5=1,"Or",IF(F5=2,"Argent",IF(F5=3,"Bronze",""))) -> Argent | J5: =IF(I5=0,"",RANK(I5,I$4:I$7,0)) | K5: =IF(J5="",0,VLOOKUP(J5,Pointage[#All],2,FALSE)*K$2) -> 0 | M5: =IF(L5=0,"",RANK(L5,L$4:L$7,0)) | N5: =IF(M5="",0,VLOOKUP(M5,Pointage[#All],2,FALSE)*N$2) -> 0 | P5: =IF(O5=0,"",RANK(O5,O$4:O$7,0)) | Q5: 0 | S5: =IF(R5=0,"",RANK(R5,R$4:R$7,0)) | T5: =IF(S5="",0,VLOOKUP(S5,Pointage[#All],2,FALSE)*T$2) -> 0 | U5: =IF(K5="","",K5+N5+T5) -> 0 | W5: =IF(V5=0,"",RANK(V5,V$4:V$7,0)) | X5: =IF(W5="",0,VLOOKUP(W5,Pointage[#All],2,FALSE)*X$2) -> 0 | Z5: =IF(Y5=0,"",RANK(Y5,Y$4:Y$7,0)) | AA5: =IF(Z5="",0,VLOOKUP(Z5,Pointage[#All],2,FALSE)*AA$2) -> 0 | AC5: =IF(AB5=0,"",RANK(AB5,AB$4:AB$7,0)) | AD5: 0 | AF5: =IF(AE5=0,"",RANK(AE5,AE$4:AE$41,0)) | AG5: =IF(AF5="",0,VLOOKUP(AF5,Pointage[#All],2,FALSE)*AG$2) -> 0 | AH5: =IF(X5="","",X5+AA5+AG5) -> 0 | AJ5: =IF(AI5=0,"",RANK(AI5,AI$4:AI$7,0)) | AK5: =IF(AJ5="",0,VLOOKUP(AJ5,Pointage[#All],2,FALSE)*AK$2) -> 0 | AM5: =IF(AL5=0,"",RANK(AL5,AL$4:AL$7,0)) | AN5: =IF(AM5="",0,VLOOKUP(AM5,Pointage[#All],2,FALSE)*AN$2) -> 0 | AP5: =IF(AO5=0,"",RANK(AO5,AO$4:AO$7,0)) | AQ5: =IF(AP5="",0,VLOOKUP(AP5,Pointage[#All],2,FALSE)*AQ$2) -> 0 | AS5: =IF(AR5=0,"",RANK(AR5,AR$4:AR$41,0)) | AT5: =IF(AS5="",0,VLOOKUP(AS5,Pointage[#All],2,FALSE)*AT$2) -> 0 | AU5: =IF(AK5="","",AK5+AQ5+AT5) -> 0 | AW5: =IF(AV5=0,"",RANK(AV5,AV$4:AV$7,0)) | AX5: =IF(AW5="",0,VLOOKUP(AW5,Pointage[#All],2,FALSE)*AX$2) -> 0 | AZ5: =IF(AY5=0,"",RANK(AY5,AY$4:AY$7,0)) | BA5: =IF(AZ5="",0,VLOOKUP(AZ5,Pointage[#All],2,FALSE)*BA$2) -> 0 | BC5: =IF(BB5=0,"",RANK(BB5,BB$4:BB$7,0)) | BD5: 0 | BF5: =IF(BE5=0,"",RANK(BE5,BE$4:BE$41,0)) | BG5: =IF(BF5="",0,VLOOKUP(BF5,Pointage[#All],2,FALSE)*BG$2) -> 0 | BH5: =IF(BA5="","",BA5+BD5+BG5) -> 0 | BI5: 57.24 | BJ5: =IF(BI5=0,"",RANK(BI5,BI$4:BI$7,0)) -> 2 | BK5: =IF(BJ5="",0,VLOOKUP(BJ5,Pointage[#All],2,FALSE)*BK$2) -> 10 | BL5: 56.4 | BM5: =IF(BL5=0,"",RANK(BL5,BL$4:BL$7,0)) -> 2 | BN5: 0 | BP5: =IF(BO5=0,"",RANK(BO5,BO$4:BO$41,0)) | BQ5: =IF(BP5="",0,VLOOKUP(BP5,Pointage[#All],2,FALSE)*BQ$2) -> 0 | BR5: =IF(BK5="","",BK5+BN5+BQ5) -> 10 | BT5: =IF(BS5=0,"",RANK(BS5,BS$4:BS$7,0)) | BU5: =IF(BT5="",0,VLOOKUP(BT5,Pointage[#All],2,FALSE)*BU$2) -> 0 | BW5: =IF(BV5=0,"",RANK(BV5,BV$4:BV$7,0)) | BX5: =IF(BW5="",0,VLOOKUP(BW5,Pointage[#All],2,FALSE)*BX$2) -> 0 | BZ5: =IF(BY5=0,"",RANK(BY5,BY$4:BY$41,0)) | CA5: =IF(BZ5="",0,VLOOKUP(BZ5,Pointage[#All],2,FALSE)*CA$2) -> 0 | CB5: =IF(BU5="","",BU5+BX5+CA5)*1.25 -> 0 | CC5: =T5+AG5+AT5+BG5+CA5*1.25+BQ5 -> 0
E6: =U6+AH6++AU6+BH6+CB6 -> 0 | F6: =IF(E6=0,"",RANK(E6,E$4:E$7,0)) | G6: =IF(CC6=0,"",RANK(CC6,CC$4:CC$41,0)) | H6: =IF(F6=1,"Or",IF(F6=2,"Argent",IF(F6=3,"Bronze",""))) | J6: =IF(I6=0,"",RANK(I6,I$4:I$7,0)) | K6: =IF(J6="",0,VLOOKUP(J6,Pointage[#All],2,FALSE)*K$2) -> 0 | M6: =IF(L6=0,"",RANK(L6,L$4:L$7,0)) | N6: =IF(M6="",0,VLOOKUP(M6,Pointage[#All],2,FALSE)*N$2) -> 0 | P6: =IF(O6=0,"",RANK(O6,O$4:O$7,0)) | Q6: =IF(P6="",0,VLOOKUP(P6,Pointage[#All],2,FALSE)*Q$2) -> 0 | S6: =IF(R6=0,"",RANK(R6,R$4:R$7,0)) | T6: =IF(S6="",0,VLOOKUP(S6,Pointage[#All],2,FALSE)*T$2) -> 0 | U6: =IF(K6="","",K6+N6+T6) -> 0 | W6: =IF(V6=0,"",RANK(V6,V$4:V$7,0)) | X6: =IF(W6="",0,VLOOKUP(W6,Pointage[#All],2,FALSE)*X$2) -> 0 | Z6: =IF(Y6=0,"",RANK(Y6,Y$4:Y$7,0)) | AA6: =IF(Z6="",0,VLOOKUP(Z6,Pointage[#All],2,FALSE)*AA$2) -> 0 | AC6: =IF(AB6=0,"",RANK(AB6,AB$4:AB$7,0)) | AD6: =IF(AC6="",0,VLOOKUP(AC6,Pointage[#All],2,FALSE)*AD$2) -> 0 | AF6: =IF(AE6=0,"",RANK(AE6,AE$4:AE$41,0)) | AG6: =IF(AF6="",0,VLOOKUP(AF6,Pointage[#All],2,FALSE)*AG$2) -> 0 | AH6: =IF(X6="","",X6+AA6+AG6) -> 0 | AJ6: =IF(AI6=0,"",RANK(AI6,AI$4:AI$7,0)) | AK6: =IF(AJ6="",0,VLOOKUP(AJ6,Pointage[#All],2,FALSE)*AK$2) -> 0 | AM6: =IF(AL6=0,"",RANK(AL6,AL$4:AL$7,0)) | AN6: =IF(AM6="",0,VLOOKUP(AM6,Pointage[#All],2,FALSE)*AN$2) -> 0 | AP6: =IF(AO6=0,"",RANK(AO6,AO$4:AO$7,0)) | AQ6: =IF(AP6="",0,VLOOKUP(AP6,Pointage[#All],2,FALSE)*AQ$2) -> 0 | AS6: =IF(AR6=0,"",RANK(AR6,AR$4:AR$41,0)) | AT6: =IF(AS6="",0,VLOOKUP(AS6,Pointage[#All],2,FALSE)*AT$2) -> 0 | AU6: =IF(AK6="","",AK6+AQ6+AT6) -> 0 | AW6: =IF(AV6=0,"",RANK(AV6,AV$4:AV$7,0)) | AX6: =IF(AW6="",0,VLOOKUP(AW6,Pointage[#All],2,FALSE)*AX$2) -> 0 | AZ6: =IF(AY6=0,"",RANK(AY6,AY$4:AY$7,0)) | BA6: =IF(AZ6="",0,VLOOKUP(AZ6,Pointage[#All],2,FALSE)*BA$2) -> 0 | BC6: =IF(BB6=0,"",RANK(BB6,BB$4:BB$7,0)) | BD6: =IF(BC6="",0,VLOOKUP(BC6,Pointage[#All],2,FALSE)*BD$2) -> 0 | BF6: =IF(BE6=0,"",RANK(BE6,BE$4:BE$41,0)) | BG6: =IF(BF6="",0,VLOOKUP(BF6,Pointage[#All],2,FALSE)*BG$2) -> 0 | BH6: =IF(BA6="","",BA6+BD6+BG6) -> 0 | BJ6: =IF(BI6=0,"",RANK(BI6,BI$4:BI$7,0)) | BK6: =IF(BJ6="",0,VLOOKUP(BJ6,Pointage[#All],2,FALSE)*BK$2) -> 0 | BM6: =IF(BL6=0,"",RANK(BL6,BL$4:BL$7,0)) | BN6: =IF(BM6="",0,VLOOKUP(BM6,Pointage[#All],2,FALSE)*BN$2) -> 0 | BP6: =IF(BO6=0,"",RANK(BO6,BO$4:BO$41,0)) | BQ6: =IF(BP6="",0,VLOOKUP(BP6,Pointage[#All],2,FALSE)*BQ$2) -> 0 | BR6: =IF(BK6="","",BK6+BN6+BQ6) -> 0 | BT6: =IF(BS6=0,"",RANK(BS6,BS$4:BS$7,0)) | BU6: =IF(BT6="",0,VLOOKUP(BT6,Pointage[#All],2,FALSE)*BU$2) -> 0 | BW6: =IF(BV6=0,"",RANK(BV6,BV$4:BV$7,0)) | BX6: =IF(BW6="",0,VLOOKUP(BW6,Pointage[#All],2,FALSE)*BX$2) -> 0 | BZ6: =IF(BY6=0,"",RANK(BY6,BY$4:BY$41,0)) | CA6: =IF(BZ6="",0,VLOOKUP(BZ6,Pointage[#All],2,FALSE)*CA$2) -> 0 | CB6: =IF(BU6="","",BU6+BX6+CA6)*1.25 -> 0 | CC6: =T6+AG6+AT6+BG6+CA6*1.25+BQ6 -> 0
E7: =U7+AH7++AU7+BH7+CB7 -> 0 | F7: =IF(E7=0,"",RANK(E7,E$4:E$7,0)) | G7: =IF(CC7=0,"",RANK(CC7,CC$4:CC$41,0)) | H7: =IF(F7=1,"Or",IF(F7=2,"Argent",IF(F7=3,"Bronze",""))) | J7: =IF(I7=0,"",RANK(I7,I$4:I$7,0)) | K7: =IF(J7="",0,VLOOKUP(J7,Pointage[#All],2,FALSE)*K$2) -> 0 | M7: =IF(L7=0,"",RANK(L7,L$4:L$7,0)) | N7: =IF(M7="",0,VLOOKUP(M7,Pointage[#All],2,FALSE)*N$2) -> 0 | P7: =IF(O7=0,"",RANK(O7,O$4:O$7,0)) | Q7: 0 | S7: =IF(R7=0,"",RANK(R7,R$4:R$7,0)) | T7: =IF(S7="",0,VLOOKUP(S7,Pointage[#All],2,FALSE)*T$2) -> 0 | U7: =IF(K7="","",K7+N7+T7) -> 0 | W7: =IF(V7=0,"",RANK(V7,V$4:V$7,0)) | X7: =IF(W7="",0,VLOOKUP(W7,Pointage[#All],2,FALSE)*X$2) -> 0 | Z7: =IF(Y7=0,"",RANK(Y7,Y$4:Y$7,0)) | AA7: =IF(Z7="",0,VLOOKUP(Z7,Pointage[#All],2,FALSE)*AA$2) -> 0 | AC7: =IF(AB7=0,"",RANK(AB7,AB$4:AB$7,0)) | AD7: 0 | AF7: =IF(AE7=0,"",RANK(AE7,AE$4:AE$41,0)) | AG7: =IF(AF7="",0,VLOOKUP(AF7,Pointage[#All],2,FALSE)*AG$2) -> 0 | AH7: =IF(X7="","",X7+AA7+AG7) -> 0 | AJ7: =IF(AI7=0,"",RANK(AI7,AI$4:AI$7,0)) | AK7: =IF(AJ7="",0,VLOOKUP(AJ7,Pointage[#All],2,FALSE)*AK$2) -> 0 | AM7: =IF(AL7=0,"",RANK(AL7,AL$4:AL$7,0)) | AN7: =IF(AM7="",0,VLOOKUP(AM7,Pointage[#All],2,FALSE)*AN$2) -> 0 | AP7: =IF(AO7=0,"",RANK(AO7,AO$4:AO$7,0)) | AQ7: =IF(AP7="",0,VLOOKUP(AP7,Pointage[#All],2,FALSE)*AQ$2) -> 0 | AS7: =IF(AR7=0,"",RANK(AR7,AR$4:AR$41,0)) | AT7: =IF(AS7="",0,VLOOKUP(AS7,Pointage[#All],2,FALSE)*AT$2) -> 0 | AU7: =IF(AK7="","",AK7+AQ7+AT7) -> 0 | AW7: =IF(AV7=0,"",RANK(AV7,AV$4:AV$7,0)) | AX7: =IF(AW7="",0,VLOOKUP(AW7,Pointage[#All],2,FALSE)*AX$2) -> 0 | AZ7: =IF(AY7=0,"",RANK(AY7,AY$4:AY$7,0)) | BA7: =IF(AZ7="",0,VLOOKUP(AZ7,Pointage[#All],2,FALSE)*BA$2) -> 0 | BC7: =IF(BB7=0,"",RANK(BB7,BB$4:BB$7,0)) | BD7: =IF(BC7="",0,VLOOKUP(BC7,Pointage[#All],2,FALSE)*BD$2) -> 0 | BF7: =IF(BE7=0,"",RANK(BE7,BE$4:BE$41,0)) | BG7: =IF(BF7="",0,VLOOKUP(BF7,Pointage[#All],2,FALSE)*BG$2) -> 0 | BH7: =IF(BA7="","",BA7+BD7+BG7) -> 0 | BJ7: =IF(BI7=0,"",RANK(BI7,BI$4:BI$7,0)) | BK7: =IF(BJ7="",0,VLOOKUP(BJ7,Pointage[#All],2,FALSE)*BK$2) -> 0 | BM7: =IF(BL7=0,"",RANK(BL7,BL$4:BL$7,0)) | BN7: =IF(BM7="",0,VLOOKUP(BM7,Pointage[#All],2,FALSE)*BN$2) -> 0 | BP7: =IF(BO7=0,"",RANK(BO7,BO$4:BO$41,0)) | BQ7: =IF(BP7="",0,VLOOKUP(BP7,Pointage[#All],2,FALSE)*BQ$2) -> 0 | BR7: =IF(BK7="","",BK7+BN7+BQ7) -> 0 | BT7: =IF(BS7=0,"",RANK(BS7,BS$4:BS$7,0)) | BU7: =IF(BT7="",0,VLOOKUP(BT7,Pointage[#All],2,FALSE)*BU$2) -> 0 | BW7: =IF(BV7=0,"",RANK(BV7,BV$4:BV$7,0)) | BX7: =IF(BW7="",0,VLOOKUP(BW7,Pointage[#All],2,FALSE)*BX$2) -> 0 | BZ7: =IF(BY7=0,"",RANK(BY7,BY$4:BY$41,0)) | CA7: =IF(BZ7="",0,VLOOKUP(BZ7,Pointage[#All],2,FALSE)*CA$2) -> 0 | CB7: =IF(BU7="","",BU7+BX7+CA7)*1.25 -> 0 | CC7: =T7+AG7+AT7+BG7+CA7*1.25+BQ7 -> 0
A8: Entraînement Junior | I8: Reprise 1 | J8: Nbr de cavalier | K8: 4 | L8: Reprise 2 | M8: Nbr de cavalier | N8: 4 | O8: Reprise 3 | P8: Nbr de cavalier | Q8: 1 | R8: Kur | S8: Nbr de cavalier | T8: 5 | U8: TOTAL POINT | V8: Reprise 1 | W8: Nbr de cavalier | Y8: Reprise 2 | Z8: Nbr de cavalier | AB8: Reprise 3 | AC8: Nbr de cavalier | AE8: Kur | AF8: Nbr de cavalier | AH8: TOTAL POINT | AI8: Reprise 1 | AJ8: Nbr de cavalier | AK8: 4 | AL8: Reprise 2 | AM8: Nbr de cavalier | AN8: 5 | AO8: Reprise 3 | AP8: Nbr de cavalier | AQ8: 2 | AR8: Kur | AS8: Nbr de cavalier | AT8: 6 | AU8: TOTAL POINT | AV8: Reprise 1 | AW8: Nbr de cavalier | AY8: Reprise 2 | AZ8: Nbr de cavalier | BA8: 4 | BB8: Reprise 3 | BC8: Nbr de cavalier | BD8: 4 | BE8: Kur | BF8: Nbr de cavalier | BG8: 6 | BH8: TOTAL POINT | BI8: Reprise 2 | BJ8: Nbr de cavalier | BK8: 6 | BL8: Reprise 3 | BM8: Nbr de cavalier | BN8: 6 | BO8: Kur | BP8: Nbr de cavalier | BQ8: 4 | BR8: TOTAL POINT | BS8: Reprise 2 | BT8: Nbr de cavalier | BU8: 4 | BV8: Reprise 3 | BW8: Nbr de cavalier | BX8: 4 | BY8: Kur | BZ8: Nbr de cavalier | CA8: 6 | CB8: TOTAL POINT | CC8: TOTAL POINT
I9: Résultats | J9: Position | K9: Points | L9: Résultats | M9: Position | N9: Points | O9: Résultats | P9: Position | Q9: Points | R9: Résultats | S9: Position | T9: Points | V9: Résultats | W9: Position | X9: Points | Y9: Résultats | Z9: Position | AA9: Points | AB9: Résultats | AC9: Position | AD9: Points | AE9: Résultats | AF9: Position | AG9: Points | AI9: Résultats | AJ9: Position | AK9: Points | AL9: Résultats | AM9: Position | AN9: Points | AO9: Résultats | AP9: Position | AQ9: Points | AR9: Résultats | AS9: Position | AT9: Points | AV9: Résultats | AW9: Position | AX9: Points | AY9: Résultats | AZ9: Position | BA9: Points | BB9: Résultats | BC9: Position | BD9: Points | BE9: Résultats | BF9: Position | BG9: Points | BI9: Résultats | BJ9: Position | BK9: Points | BL9: Résultats | BM9: Position | BN9: Points | BO9: Résultats | BP9: Position | BQ9: Points | BS9: Résultats | BT9: Position | BU9: Points | BV9: Résultats | BW9: Position | BX9: Points | BY9: Résultats | BZ9: Position | CA9: Points
B10: Flavie | C10: Avignon Bourque | D10: Belami | E10: =U10+AH10++AU10+BH10+CB10+BR10 -> 325.5 | F10: =IF(E10=0,"",RANK(E10,E$10:E$20,0)) -> 2 | G10: =IF(CC10=0,"",RANK(CC10,CC$4:CC$41,0)) -> 2 | H10: =IF(F10=1,"Or",IF(F10=2,"Argent",IF(F10=3,"Bronze",""))) -> Argent | I10: 63.461 | J10: =IF(I10=0,"",RANK(I10,I$10:I$20,0)) -> 1 | K10: =IF(J10="",0,VLOOKUP(J10,Pointage[#All],2,FALSE)*K$8) -> 24 | L10: 60 | M10: =IF(L10=0,"",RANK(L10,L$10:L$20,0)) -> 4 | N10: =IF(M10="",0,VLOOKUP(M10,Pointage[#All],2,FALSE)*N$8) -> 12 | P10: =IF(O10=0,"",RANK(O10,O$10:O$20,0)) | Q10: =IF(P10="",0,VLOOKUP(P10,Pointage[#All],2,FALSE)*Q$8) -> 0 | R10: 69.808 | S10: =IF(R10=0,"",RANK(R10,R$4:R$41,0)) -> 1 | T10: =IF(S10="",0,VLOOKUP(S10,Pointage[#All],2,FALSE)*T$8) -> 30 | U10: =IF(K10="","",K10+N10+T10) -> 66 | W10: =IF(V10=0,"",RANK(V10,V$10:V$20,0)) | X10: =IF(W10="",0,VLOOKUP(W10,Pointage[#All],2,FALSE)*X$8) -> 0 | Z10: =IF(Y10=0,"",RANK(Y10,Y$10:Y$20,0)) | AA10: =IF(Z10="",0,VLOOKUP(Z10,Pointage[#All],2,FALSE)*AA$8) -> 0 | AC10: =IF(AB10=0,"",RANK(AB10,AB$10:AB$20,0)) | AD10: =IF(AC10="",0,VLOOKUP(AC10,Pointage[#All],2,FALSE)*AD$8) -> 0 | AF10: =IF(AE10=0,"",RANK(AE10,AE$4:AE$41,0)) | AG10: =IF(AF10="",0,VLOOKUP(AF10,Pointage[#All],2,FALSE)*AG$8) -> 0 | AH10: =IF(X10="","",X10+AA10+AG10) -> 0 | AI10: 0 | AJ10: =IF(AI10=0,"",RANK(AI10,AI$10:AI$20,0)) | AK10: =IF(AJ10="",0,VLOOKUP(AJ10,Pointage[#All],2,FALSE)*AK$8) -> 0 | AL10: 63.97 | AM10: =IF(AL10=0,"",RANK(AL10,AL$10:AL$20,0)) -> 3 | AN10: =IF(AM10="",0,VLOOKUP(AM10,Pointage[#All],2,FALSE)*AN$8) -> 20 | AO10: 65.2 | AP10: =IF(AO10=0,"",RANK(AO10,AO$10:AO$20,0)) -> 1 | AQ10: =IF(AP10="",0,VLOOKUP(AP10,Pointage[#All],2,FALSE)*AQ$8) -> 12 | AR10: 64.56 | AS10: =IF(AR10=0,"",RANK(AR10,AR$4:AR$41,0)) -> 3 | AT10: =IF(AS10="",0,VLOOKUP(AS10,Pointage[#All],2,FALSE)*AT$8) -> 24 | AU10: =AK10+AN10+AT10 -> 44 | AW10: =IF(AV10=0,"",RANK(AV10,AV$10:AV$20,0)) | AX10: =IF(AW10="",0,VLOOKUP(AW10,Pointage[#All],2,FALSE)*AX$8) -> 0 | AY10: 68.1 | AZ10: =IF(AY10=0,"",RANK(AY10,AY$10:AY$20,0)) -> 2 | BA10: =IF(AZ10="",0,VLOOKUP(AZ10,Pointage[#All],2,FALSE)*BA$8) -> 20 | BB10: 64.8 | BC10: =IF(BB10=0,"",RANK(BB10,BB$10:BB$20,0)) -> 2 | BD10: =IF(BC10="",0,VLOOKUP(BC10,Pointage[#All],2,FALSE)*BD$8) -> 20 | BE10: 67.7 | BF10: =IF(BE10=0,"",RANK(BE10,BE$4:BE$41,0)) -> 2 | BG10: =IF(BF10="",0,VLOOKUP(BF10,Pointage[#All],2,FALSE)*BG$8) -> 30 | BH10: =IF(BA10="","",BA10+BD10+BG10) -> 70 | BI10: 69.65 | BJ10: =IF(BI10=0,"",RANK(BI10,BI$10:BI$20,0)) -> 2 | BK10: =IF(BJ10="",0,VLOOKUP(BJ10,Pointage[#All],2,FALSE)*BK$8) -> 30 | BL10: 64.2 | BM10: =IF(BL10=0,"",RANK(BL10,BL$10:BL$20,0)) -> 4 | BN10: =IF(BM10="",0,VLOOKUP(BM10,Pointage[#All],2,FALSE)*BN$8) -> 18 | BO10: 67.05 | BP10: =IF(BO10=0,"",RANK(BO10,BO$4:BO$41,0)) -> 2 | BQ10: =IF(BP10="",0,VLOOKUP(BP10,Pointage[#All],2,FALSE)*BQ$8) -> 20 | BR10: =IF(BK10="","",BK10+BN10+BQ10) -> 68 | BS10: 67.586 | BT10: =IF(BS10=0,"",RANK(BS10,BS$10:BS$20,0)) -> 2 | BU10: =IF(BT10="",0,VLOOKUP(BT10,Pointage[#All],2,FALSE)*BU$8) -> 20 | BV10: 70.4 | BW10: =IF(BV10=0,"",RANK(BV10,BV$10:BV$20,0)) -> 1 | BX10: =IF(BW10="",0,VLOOKUP(BW10,Pointage[#All],2,FALSE)*BX$8) -> 24 | BY10: 64.411 | BZ10: =IF(BY10=0,"",RANK(BY10,BY$4:BY$41,0)) -> 4 | CA10: =IF(BZ10="",0,VLOOKUP(BZ10,Pointage[#All],2,FALSE)*CA$8) -> 18 | CB10: =IF(BU10="","",BU10+BX10+CA10)*1.25 -> 77.5 | CC10: =T10+AG10+AT10+BG10+CA10*1.25+BQ10 -> 126.5
B11: Victoria | C11: Gadbois | D11: Dunlin | E11: =U11+AH11++AU11+BH11+CB11+BR11 -> 86 | F11: =IF(E11=0,"",RANK(E11,E$10:E$20,0)) -> 5 | G11: =IF(CC11=0,"",RANK(CC11,CC$4:CC$41,0)) | H11: =IF(F11=1,"Or",IF(F11=2,"Argent",IF(F11=3,"Bronze",""))) | I11: 62.5 | J11: =IF(I11=0,"",RANK(I11,I$10:I$20,0)) -> 2 | K11: =IF(J11="",0,VLOOKUP(J11,Pointage[#All],2,FALSE)*K$8) -> 20 | L11: 61.896 | M11: =IF(L11=0,"",RANK(L11,L$10:L$20,0)) -> 1 | N11: =IF(M11="",0,VLOOKUP(M11,Pointage[#All],2,FALSE)*N$8) -> 24 | O11: 66.2 | P11: =IF(O11=0,"",RANK(O11,O$10:O$20,0)) -> 1 | Q11: 0 | S11: =IF(R11=0,"",RANK(R11,R$4:R$41,0)) | T11: =IF(S11="",0,VLOOKUP(S11,Pointage[#All],2,FALSE)*T$8) -> 0 | U11: =IF(K11="","",K11+N11+T11) -> 44 | W11: =IF(V11=0,"",RANK(V11,V$10:V$20,0)) | X11: =IF(W11="",0,VLOOKUP(W11,Pointage[#All],2,FALSE)*X$8) -> 0 | Z11: =IF(Y11=0,"",RANK(Y11,Y$10:Y$20,0)) | AA11: =IF(Z11="",0,VLOOKUP(Z11,Pointage[#All],2,FALSE)*AA$8) -> 0 | AC11: =IF(AB11=0,"",RANK(AB11,AB$10:AB$20,0)) | AD11: =IF(AC11="",0,VLOOKUP(AC11,Pointage[#All],2,FALSE)*AD$8) -> 0 | AF11: =IF(AE11=0,"",RANK(AE11,AE$4:AE$41,0)) | AG11: =IF(AF11="",0,VLOOKUP(AF11,Pointage[#All],2,FALSE)*AG$8) -> 0 | AH11: =IF(X11="","",X11+AA11+AG11) -> 0 | AJ11: =IF(AI11=0,"",RANK(AI11,AI$10:AI$20,0)) | AK11: =IF(AJ11="",0,VLOOKUP(AJ11,Pointage[#All],2,FALSE)*AK$8) -> 0 | AM11: =IF(AL11=0,"",RANK(AL11,AL$10:AL$20,0)) | AN11: =IF(AM11="",0,VLOOKUP(AM11,Pointage[#All],2,FALSE)*AN$8) -> 0 | AP11: =IF(AO11=0,"",RANK(AO11,AO$10:AO$20,0)) | AQ11: =IF(AP11="",0,VLOOKUP(AP11,Pointage[#All],2,FALSE)*AQ$8) -> 0 | AS11: =IF(AR11=0,"",RANK(AR11,AR$4:AR$41,0)) | AT11: =IF(AS11="",0,VLOOKUP(AS11,Pointage[#All],2,FALSE)*AT$8) -> 0 | AU11: =AK11+AN11+AT11 -> 0 | AW11: =IF(AV11=0,"",RANK(AV11,AV$10:AV$20,0)) | AX11: =IF(AW11="",0,VLOOKUP(AW11,Pointage[#All],2,FALSE)*AX$8) -> 0 | AZ11: =IF(AY11=0,"",RANK(AY11,AY$10:AY$20,0)) | BA11: =IF(AZ11="",0,VLOOKUP(AZ11,Pointage[#All],2,FALSE)*BA$8) -> 0 | BC11: =IF(BB11=0,"",RANK(BB11,BB$10:BB$20,0)) | BD11: =IF(BC11="",0,VLOOKUP(BC11,Pointage[#All],2,FALSE)*BD$8) -> 0 | BF11: =IF(BE11=0,"",RANK(BE11,BE$4:BE$41,0)) | BG11: =IF(BF11="",0,VLOOKUP(BF11,Pointage[#All],2,FALSE)*BG$8) -> 0 | BH11: =IF(BA11="","",BA11+BD11+BG11) -> 0 | BI11: 65.6 | BJ11: =IF(BI11=0,"",RANK(BI11,BI$10:BI$20,0)) -> 4 | BK11: =IF(BJ11="",0,VLOOKUP(BJ11,Pointage[#All],2,FALSE)*BK$8) -> 18 | BL11: 64.6 | BM11: =IF(BL11=0,"",RANK(BL11,BL$10:BL$20,0)) -> 3 | BN11: =IF(BM11="",0,VLOOKUP(BM11,Pointage[#All],2,FALSE)*BN$8) -> 24 | BP11: =IF(BO11=0,"",RANK(BO11,BO$4:BO$41,0)) | BQ11: =IF(BP11="",0,VLOOKUP(BP11,Pointage[#All],2,FALSE)*BQ$8) -> 0 | BR11: =IF(BK11="","",BK11+BN11+BQ11) -> 42 | BT11: =IF(BS11=0,"",RANK(BS11,BS$10:BS$20,0)) | BU11: =IF(BT11="",0,VLOOKUP(BT11,Pointage[#All],2,FALSE)*BU$8) -> 0 | BW11: =IF(BV11=0,"",RANK(BV11,BV$10:BV$20,0)) | BX11: =IF(BW11="",0,VLOOKUP(BW11,Pointage[#All],2,FALSE)*BX$8) -> 0 | BZ11: =IF(BY11=0,"",RANK(BY11,BY$4:BY$41,0)) | CA11: =IF(BZ11="",0,VLOOKUP(BZ11,Pointage[#All],2,FALSE)*CA$8) -> 0 | CB11: =IF(BU11="","",BU11+BX11+CA11)*1.25 -> 0 | CC11: =T11+AG11+AT11+BG11+CA11*1.25+BQ11 -> 0
B12: Julianne | C12: Rouleau | D12: Bali de Brio | E12: =U12+AH12++AU12+BH12+CB12+BR12 -> 292.5 | F12: =IF(E12=0,"",RANK(E12,E$10:E$20,0)) -> 3 | G12: =IF(CC12=0,"",RANK(CC12,CC$4:CC$41,0)) -> 4 | H12: =IF(F12=1,"Or",IF(F12=2,"Argent",IF(F12=3,"Bronze",""))) -> Bronze | I12: 61.923 | J12: =IF(I12=0,"",RANK(I12,I$10:I$20,0)) -> 3 | K12: =IF(J12="",0,VLOOKUP(J12,Pointage[#All],2,FALSE)*K$8) -> 16 | L12: 60.689 | M12: =IF(L12=0,"",RANK(L12,L$10:L$20,0)) -> 2 | N12: =IF(M12="",0,VLOOKUP(M12,Pointage[#All],2,FALSE)*N$8) -> 20 | P12: =IF(O12=0,"",RANK(O12,O$10:O$20,0)) | Q12: =IF(P12="",0,VLOOKUP(P12,Pointage[#All],2,FALSE)*Q$8) -> 0 | R12: 66.014 | S12: =IF(R12=0,"",RANK(R12,R$4:R$41,0)) -> 3 | T12: =IF(S12="",0,VLOOKUP(S12,Pointage[#All],2,FALSE)*T$8) -> 20 | U12: =IF(K12="","",K12+N12+T12) -> 56 | W12: =IF(V12=0,"",RANK(V12,V$10:V$20,0)) | X12: =IF(W12="",0,VLOOKUP(W12,Pointage[#All],2,FALSE)*X$8) -> 0 | Z12: =IF(Y12=0,"",RANK(Y12,Y$10:Y$20,0)) | AA12: =IF(Z12="",0,VLOOKUP(Z12,Pointage[#All],2,FALSE)*AA$8) -> 0 | AC12: =IF(AB12=0,"",RANK(AB12,AB$10:AB$20,0)) | AD12: =IF(AC12="",0,VLOOKUP(AC12,Pointage[#All],2,FALSE)*AD$8) -> 0 | AF12: =IF(AE12=0,"",RANK(AE12,AE$4:AE$41,0)) | AG12: =IF(AF12="",0,VLOOKUP(AF12,Pointage[#All],2,FALSE)*AG$8) -> 0 | AH12: =IF(X12="","",X12+AA12+AG12) -> 0 | AI12: 63.27 | AJ12: =IF(AI12=0,"",RANK(AI12,AI$10:AI$20,0)) -> 3 | AK12: =IF(AJ12="",0,VLOOKUP(AJ12,Pointage[#All],2,FALSE)*AK$8) -> 16 | AL12: 62.59 | AM12: =IF(AL12=0,"",RANK(AL12,AL$10:AL$20,0)) -> 4 | AN12: =IF(AM12="",0,VLOOKUP(AM12,Pointage[#All],2,FALSE)*AN$8) -> 15 | AP12: =IF(AO12=0,"",RANK(AO12,AO$10:AO$20,0)) | AQ12: =IF(AP12="",0,VLOOKUP(AP12,Pointage[#All],2,FALSE)*AQ$8) -> 0 | AR12: 63.76 | AS12: =IF(AR12=0,"",RANK(AR12,AR$4:AR$41,0)) -> 4 | AT12: =IF(AS12="",0,VLOOKUP(AS12,Pointage[#All],2,FALSE)*AT$8) -> 18 | AU12: =AK12+AN12+AT12 -> 49 | AW12: =IF(AV12=0,"",RANK(AV12,AV$10:AV$20,0)) | AX12: =IF(AW12="",0,VLOOKUP(AW12,Pointage[#All],2,FALSE)*AX$8) -> 0 | AY12: 64.31 | AZ12: =IF(AY12=0,"",RANK(AY12,AY$10:AY$20,0)) -> 3 | BA12: =IF(AZ12="",0,VLOOKUP(AZ12,Pointage[#All],2,FALSE)*BA$8) -> 16 | BB12: 62.8 | BC12: =IF(BB12=0,"",RANK(BB12,BB$10:BB$20,0)) -> 3 | BD12: =IF(BC12="",0,VLOOKUP(BC12,Pointage[#All],2,FALSE)*BD$8) -> 16 | BE12: 62.24 | BF12: =IF(BE12=0,"",RANK(BE12,BE$4:BE$41,0)) -> 5 | BG12: =IF(BF12="",0,VLOOKUP(BF12,Pointage[#All],2,FALSE)*BG$8) -> 12 | BH12: =IF(BA12="","",BA12+BD12+BG12) -> 44 | BI12: 66.8 | BJ12: =IF(BI12=0,"",RANK(BI12,BI$10:BI$20,0)) -> 3 | BK12: =IF(BJ12="",0,VLOOKUP(BJ12,Pointage[#All],2,FALSE)*BK$8) -> 24 | BL12: 64.8 | BM12: =IF(BL12=0,"",RANK(BL12,BL$10:BL$20,0)) -> 2 | BN12: =IF(BM12="",0,VLOOKUP(BM12,Pointage[#All],2,FALSE)*BN$8) -> 30 | BO12: 65.3 | BP12: =IF(BO12=0,"",RANK(BO12,BO$4:BO$41,0)) -> 4 | BQ12: =IF(BP12="",0,VLOOKUP(BP12,Pointage[#All],2,FALSE)*BQ$8) -> 12 | BR12: =IF(BK12="","",BK12+BN12+BQ12) -> 66 | BS12: 65.862 | BT12: =IF(BS12=0,"",RANK(BS12,BS$10:BS$20,0)) -> 3 | BU12: =IF(BT12="",0,VLOOKUP(BT12,Pointage[#All],2,FALSE)*BU$8) -> 16 | BV12: 66 | BW12: =IF(BV12=0,"",RANK(BV12,BV$10:BV$20,0)) -> 3 | BX12: =IF(BW12="",0,VLOOKUP(BW12,Pointage[#All],2,FALSE)*BX$8) -> 16 | BY12: 69.205 | BZ12: =IF(BY12=0,"",RANK(BY12,BY$4:BY$41,0)) -> 2 | CA12: =IF(BZ12="",0,VLOOKUP(BZ12,Pointage[#All],2,FALSE)*CA$8) -> 30 | CB12: =IF(BU12="","",BU12+BX12+CA12)*1.25 -> 77.5 | CC12: =T12+AG12+AT12+BG12+CA12*1.25+BQ12 -> 99.5
B13: Melina | C13: Cordeau | D13: Sheintan Blues | E13: =U13+AH13++AU13+BH13+CB13+BR13 -> 132 | F13: =IF(E13=0,"",RANK(E13,E$10:E$20,0)) -> 4 | G13: =IF(CC13=0,"",RANK(CC13,CC$4:CC$41,0)) -> 6 | H13: =IF(F13=1,"Or",IF(F13=2,"Argent",IF(F13=3,"Bronze",""))) | I13: 57.115 | J13: =IF(I13=0,"",RANK(I13,I$10:I$20,0)) -> 4 | K13: =IF(J13="",0,VLOOKUP(J13,Pointage[#All],2,FALSE)*K$8) -> 12 | L13: 60.344 | M13: =IF(L13=0,"",RANK(L13,L$10:L$20,0)) -> 3 | N13: =IF(M13="",0,VLOOKUP(M13,Pointage[#All],2,FALSE)*N$8) -> 16 | P13: =IF(O13=0,"",RANK(O13,O$10:O$20,0)) | Q13: =IF(P13="",0,VLOOKUP(P13,Pointage[#All],2,FALSE)*Q$8) -> 0 | R13: 61.235 | S13: =IF(R13=0,"",RANK(R13,R$4:R$41,0)) -> 5 | T13: =IF(S13="",0,VLOOKUP(S13,Pointage[#All],2,FALSE)*T$8) -> 10 | U13: =IF(K13="","",K13+N13+T13) -> 38 | W13: =IF(V13=0,"",RANK(V13,V$10:V$20,0)) | X13: =IF(W13="",0,VLOOKUP(W13,Pointage[#All],2,FALSE)*X$8) -> 0 | Z13: =IF(Y13=0,"",RANK(Y13,Y$10:Y$20,0)) | AA13: =IF(Z13="",0,VLOOKUP(Z13,Pointage[#All],2,FALSE)*AA$8) -> 0 | AC13: =IF(AB13=0,"",RANK(AB13,AB$10:AB$20,0)) | AD13: =IF(AC13="",0,VLOOKUP(AC13,Pointage[#All],2,FALSE)*AD$8) -> 0 | AF13: =IF(AE13=0,"",RANK(AE13,AE$4:AE$41,0)) | AG13: =IF(AF13="",0,VLOOKUP(AF13,Pointage[#All],2,FALSE)*AG$8) -> 0 | AH13: =IF(X13="","",X13+AA13+AG13) -> 0 | AI13: 60.77 | AJ13: =IF(AI13=0,"",RANK(AI13,AI$10:AI$20,0)) -> 4 | AK13: =IF(AJ13="",0,VLOOKUP(AJ13,Pointage[#All],2,FALSE)*AK$8) -> 12 | AL13: 57.41 | AM13: =IF(AL13=0,"",RANK(AL13,AL$10:AL$20,0)) -> 5 | AN13: =IF(AM13="",0,VLOOKUP(AM13,Pointage[#All],2,FALSE)*AN$8) -> 10 | AP13: =IF(AO13=0,"",RANK(AO13,AO$10:AO$20,0)) | AQ13: =IF(AP13="",0,VLOOKUP(AP13,Pointage[#All],2,FALSE)*AQ$8) -> 0 | AR13: 61.62 | AS13: =IF(AR13=0,"",RANK(AR13,AR$4:AR$41,0)) -> 6 | AT13: =IF(AS13="",0,VLOOKUP(AS13,Pointage[#All],2,FALSE)*AT$8) -> 6 | AU13: =AK13+AN13+AT13 -> 28 | AW13: =IF(AV13=0,"",RANK(AV13,AV$10:AV$20,0)) | AX13: =IF(AW13="",0,VLOOKUP(AW13,Pointage[#All],2,FALSE)*AX$8) -> 0 | AY13: 60.69 | AZ13: =IF(AY13=0,"",RANK(AY13,AY$10:AY$20,0)) -> 4 | BA13: =IF(AZ13="",0,VLOOKUP(AZ13,Pointage[#All],2,FALSE)*BA$8) -> 12 | BB13: 56 | BC13: =IF(BB13=0,"",RANK(BB13,BB$10:BB$20,0)) -> 4 | BD13: =IF(BC13="",0,VLOOKUP(BC13,Pointage[#All],2,FALSE)*BD$8) -> 12 | BE13: 64.27 | BF13: =IF(BE13=0,"",RANK(BE13,BE$4:BE$41,0)) -> 4 | BG13: =IF(BF13="",0,VLOOKUP(BF13,Pointage[#All],2,FALSE)*BG$8) -> 18 | BH13: =IF(BA13="","",BA13+BD13+BG13) -> 42 | BI13: 65.5 | BJ13: =IF(BI13=0,"",RANK(BI13,BI$10:BI$20,0)) -> 5 | BK13: =IF(BJ13="",0,VLOOKUP(BJ13,Pointage[#All],2,FALSE)*BK$8) -> 12 | BL13: 60 | BM13: =IF(BL13=0,"",RANK(BL13,BL$10:BL$20,0)) -> 5 | BN13: =IF(BM13="",0,VLOOKUP(BM13,Pointage[#All],2,FALSE)*BN$8) -> 12 | BO13: 0 | BP13: =IF(BO13=0,"",RANK(BO13,BO$4:BO$41,0)) | BQ13: =IF(BP13="",0,VLOOKUP(BP13,Pointage[#All],2,FALSE)*BQ$8) -> 0 | BR13: =IF(BK13="","",BK13+BN13+BQ13) -> 24 | BT13: =IF(BS13=0,"",RANK(BS13,BS$10:BS$20,0)) | BU13: =IF(BT13="",0,VLOOKUP(BT13,Pointage[#All],2,FALSE)*BU$8) -> 0 | BW13: =IF(BV13=0,"",RANK(BV13,BV$10:BV$20,0)) | BX13: =IF(BW13="",0,VLOOKUP(BW13,Pointage[#All],2,FALSE)*BX$8) -> 0 | BZ13: =IF(BY13=0,"",RANK(BY13,BY$4:BY$41,0)) | CA13: =IF(BZ13="",0,VLOOKUP(BZ13,Pointage[#All],2,FALSE)*CA$8) -> 0 | CB13: =IF(BU13="","",BU13+BX13+CA13)*1.25 -> 0 | CC13: =T13+AG13+AT13+BG13+CA13*1.25+BQ13 -> 34
B14: Sascha | C14: Rousseau-Degrois | D14: Maylo | E14: =U14+AH14++AU14+BH14+CB14+BR14 -> 358 | F14: =IF(E14=0,"",RANK(E14,E$10:E$20,0)) -> 1 | G14: =IF(CC14=0,"",RANK(CC14,CC$4:CC$41,0)) -> 1 | H14: =IF(F14=1,"Or",IF(F14=2,"Argent",IF(F14=3,"Bronze",""))) -> Or | J14: =IF(I14=0,"",RANK(I14,I$10:I$20,0)) | K14: =IF(J14="",0,VLOOKUP(J14,Pointage[#All],2,FALSE)*K$8) -> 0 | M14: =IF(L14=0,"",RANK(L14,L$10:L$20,0)) | N14: =IF(M14="",0,VLOOKUP(M14,Pointage[#All],2,FALSE)*N$8) -> 0 | P14: =IF(O14=0,"",RANK(O14,O$10:O$20,0)) | Q14: =IF(P14="",0,VLOOKUP(P14,Pointage[#All],2,FALSE)*Q$8) -> 0 | S14: =IF(R14=0,"",RANK(R14,R$4:R$41,0)) | T14: =IF(S14="",0,VLOOKUP(S14,Pointage[#All],2,FALSE)*T$8) -> 0 | U14: =IF(K14="","",K14+N14+T14) -> 0 | W14: =IF(V14=0,"",RANK(V14,V$10:V$20,0)) | X14: =IF(W14="",0,VLOOKUP(W14,Pointage[#All],2,FALSE)*X$8) -> 0 | Z14: =IF(Y14=0,"",RANK(Y14,Y$10:Y$20,0)) | AA14: =IF(Z14="",0,VLOOKUP(Z14,Pointage[#All],2,FALSE)*AA$8) -> 0 | AC14: =IF(AB14=0,"",RANK(AB14,AB$10:AB$20,0)) | AD14: =IF(AC14="",0,VLOOKUP(AC14,Pointage[#All],2,FALSE)*AD$8) -> 0 | AF14: =IF(AE14=0,"",RANK(AE14,AE$4:AE$41,0)) | AG14: =IF(AF14="",0,VLOOKUP(AF14,Pointage[#All],2,FALSE)*AG$8) -> 0 | AH14: =IF(X14="","",X14+AA14+AG14) -> 0 | AI14: 67.5 | AJ14: =IF(AI14=0,"",RANK(AI14,AI$10:AI$20,0)) -> 1 | AK14: =IF(AJ14="",0,VLOOKUP(AJ14,Pointage[#All],2,FALSE)*AK$8) -> 24 | AL14: 66.21 | AM14: =IF(AL14=0,"",RANK(AL14,AL$10:AL$20,0)) -> 1 | AN14: =IF(AM14="",0,VLOOKUP(AM14,Pointage[#All],2,FALSE)*AN$8) -> 30 | AP14: =IF(AO14=0,"",RANK(AO14,AO$10:AO$20,0)) | AQ14: =IF(AP14="",0,VLOOKUP(AP14,Pointage[#All],2,FALSE)*AQ$8) -> 0 | AR14: 68.47 | AS14: =IF(AR14=0,"",RANK(AR14,AR$4:AR$41,0)) -> 1 | AT14: =IF(AS14="",0,VLOOKUP(AS14,Pointage[#All],2,FALSE)*AT$8) -> 36 | AU14: =AK14+AN14+AT14 -> 90 | AW14: =IF(AV14=0,"",RANK(AV14,AV$10:AV$20,0)) | AX14: =IF(AW14="",0,VLOOKUP(AW14,Pointage[#All],2,FALSE)*AX$8) -> 0 | AY14: 72.41 | AZ14: =IF(AY14=0,"",RANK(AY14,AY$10:AY$20,0)) -> 1 | BA14: =IF(AZ14="",0,VLOOKUP(AZ14,Pointage[#All],2,FALSE)*BA$8) -> 24 | BB14: 71.2 | BC14: =IF(BB14=0,"",RANK(BB14,BB$10:BB$20,0)) -> 1 | BD14: =IF(BC14="",0,VLOOKUP(BC14,Pointage[#All],2,FALSE)*BD$8) -> 24 | BE14: 64.47 | BF14: =IF(BE14=0,"",RANK(BE14,BE$4:BE$41,0)) -> 3 | BG14: =IF(BF14="",0,VLOOKUP(BF14,Pointage[#All],2,FALSE)*BG$8) -> 24 | BH14: =IF(BA14="","",BA14+BD14+BG14) -> 72 | BI14: 71.5 | BJ14: =IF(BI14=0,"",RANK(BI14,BI$10:BI$20,0)) -> 1 | BK14: =IF(BJ14="",0,VLOOKUP(BJ14,Pointage[#All],2,FALSE)*BK$8) -> 36 | BL14: 69.8 | BM14: =IF(BL14=0,"",RANK(BL14,BL$10:BL$20,0)) -> 1 | BN14: =IF(BM14="",0,VLOOKUP(BM14,Pointage[#All],2,FALSE)*BN$8) -> 36 | BO14: 69.4 | BP14: =IF(BO14=0,"",RANK(BO14,BO$4:BO$41,0)) -> 1 | BQ14: =IF(BP14="",0,VLOOKUP(BP14,Pointage[#All],2,FALSE)*BQ$8) -> 24 | BR14: =IF(BK14="","",BK14+BN14+BQ14) -> 96 | BS14: 74.482 | BT14: =IF(BS14=0,"",RANK(BS14,BS$10:BS$20,0)) -> 1 | BU14: =IF(BT14="",0,VLOOKUP(BT14,Pointage[#All],2,FALSE)*BU$8) -> 24 | BV14: 69.8 | BW14: =IF(BV14=0,"",RANK(BV14,BV$10:BV$20,0)) -> 2 | BX14: =IF(BW14="",0,VLOOKUP(BW14,Pointage[#All],2,FALSE)*BX$8) -> 20 | BY14: 74.705 | BZ14: =IF(BY14=0,"",RANK(BY14,BY$4:BY$41,0)) -> 1 | CA14: =IF(BZ14="",0,VLOOKUP(BZ14,Pointage[#All],2,FALSE)*CA$8) -> 36 | CB14: =IF(BU14="","",BU14+BX14+CA14)*1.25 -> 100 | CC14: =T14+AG14+AT14+BG14+CA14*1.25+BQ14 -> 129
B15: Delphine | C15: Caron-Goffaux | D15: Mustang | E15: =U15+AH15++AU15+BH15+CB15+BR15 -> 45 | F15: =IF(E15=0,"",RANK(E15,E$10:E$20,0)) -> 6 | G15: =IF(CC15=0,"",RANK(CC15,CC$4:CC$41,0)) | H15: =IF(F15=1,"Or",IF(F15=2,"Argent",IF(F15=3,"Bronze",""))) | J15: =IF(I15=0,"",RANK(I15,I$10:I$20,0)) | K15: =IF(J15="",0,VLOOKUP(J15,Pointage[#All],2,FALSE)*K$8) -> 0 | M15: =IF(L15=0,"",RANK(L15,L$10:L$20,0)) | N15: =IF(M15="",0,VLOOKUP(M15,Pointage[#All],2,FALSE)*N$8) -> 0 | P15: =IF(O15=0,"",RANK(O15,O$10:O$20,0)) | Q15: =IF(P15="",0,VLOOKUP(P15,Pointage[#All],2,FALSE)*Q$8) -> 0 | S15: =IF(R15=0,"",RANK(R15,R$4:R$41,0)) | T15: =IF(S15="",0,VLOOKUP(S15,Pointage[#All],2,FALSE)*T$8) -> 0 | U15: =IF(K15="","",K15+N15+T15) -> 0 | W15: =IF(V15=0,"",RANK(V15,V$10:V$20,0)) | X15: =IF(W15="",0,VLOOKUP(W15,Pointage[#All],2,FALSE)*X$8) -> 0 | Z15: =IF(Y15=0,"",RANK(Y15,Y$10:Y$20,0)) | AA15: =IF(Z15="",0,VLOOKUP(Z15,Pointage[#All],2,FALSE)*AA$8) -> 0 | AC15: =IF(AB15=0,"",RANK(AB15,AB$10:AB$20,0)) | AD15: =IF(AC15="",0,VLOOKUP(AC15,Pointage[#All],2,FALSE)*AD$8) -> 0 | AF15: =IF(AE15=0,"",RANK(AE15,AE$4:AE$41,0)) | AG15: =IF(AF15="",0,VLOOKUP(AF15,Pointage[#All],2,FALSE)*AG$8) -> 0 | AH15: =IF(X15="","",X15+AA15+AG15) -> 0 | AI15: 63.85 | AJ15: =IF(AI15=0,"",RANK(AI15,AI$10:AI$20,0)) -> 2 | AK15: =IF(AJ15="",0,VLOOKUP(AJ15,Pointage[#All],2,FALSE)*AK$8) -> 20 | AL15: 64.48 | AM15: =IF(AL15=0,"",RANK(AL15,AL$10:AL$20,0)) -> 2 | AN15: =IF(AM15="",0,VLOOKUP(AM15,Pointage[#All],2,FALSE)*AN$8) -> 25 | AO15: 64.2 | AP15: =IF(AO15=0,"",RANK(AO15,AO$10:AO$20,0)) -> 2 | AQ15: =IF(AP15="",0,VLOOKUP(AP15,Pointage[#All],2,FALSE)*AQ$8) -> 10 | AS15: =IF(AR15=0,"",RANK(AR15,AR$4:AR$41,0)) | AT15: =IF(AS15="",0,VLOOKUP(AS15,Pointage[#All],2,FALSE)*AT$8) -> 0 | AU15: =AK15+AN15+AT15 -> 45 | AW15: =IF(AV15=0,"",RANK(AV15,AV$10:AV$20,0)) | AX15: =IF(AW15="",0,VLOOKUP(AW15,Pointage[#All],2,FALSE)*AX$8) -> 0 | AZ15: =IF(AY15=0,"",RANK(AY15,AY$10:AY$20,0)) | BA15: =IF(AZ15="",0,VLOOKUP(AZ15,Pointage[#All],2,FALSE)*BA$8) -> 0 | BC15: =IF(BB15=0,"",RANK(BB15,BB$10:BB$20,0)) | BD15: =IF(BC15="",0,VLOOKUP(BC15,Pointage[#All],2,FALSE)*BD$8) -> 0 | BF15: =IF(BE15=0,"",RANK(BE15,BE$4:BE$41,0)) | BG15: =IF(BF15="",0,VLOOKUP(BF15,Pointage[#All],2,FALSE)*BG$8) -> 0 | BH15: =IF(BA15="","",BA15+BD15+BG15) -> 0 | BJ15: =IF(BI15=0,"",RANK(BI15,BI$10:BI$20,0)) | BK15: =IF(BJ15="",0,VLOOKUP(BJ15,Pointage[#All],2,FALSE)*BK$8) -> 0 | BM15: =IF(BL15=0,"",RANK(BL15,BL$10:BL$20,0)) | BN15: =IF(BM15="",0,VLOOKUP(BM15,Pointage[#All],2,FALSE)*BN$8) -> 0 | BP15: =IF(BO15=0,"",RANK(BO15,BO$4:BO$41,0)) | BQ15: =IF(BP15="",0,VLOOKUP(BP15,Pointage[#All],2,FALSE)*BQ$8) -> 0 | BR15: =IF(BK15="","",BK15+BN15+BQ15) -> 0 | BT15: =IF(BS15=0,"",RANK(BS15,BS$10:BS$20,0)) | BU15: =IF(BT15="",0,VLOOKUP(BT15,Pointage[#All],2,FALSE)*BU$8) -> 0 | BW15: =IF(BV15=0,"",RANK(BV15,BV$10:BV$20,0)) | BX15: =IF(BW15="",0,VLOOKUP(BW15,Pointage[#All],2,FALSE)*BX$8) -> 0 | BZ15: =IF(BY15=0,"",RANK(BY15,BY$4:BY$41,0)) | CA15: =IF(BZ15="",0,VLOOKUP(BZ15,Pointage[#All],2,FALSE)*CA$8) -> 0 | CB15: =IF(BU15="","",BU15+BX15+CA15)*1.25 -> 0 | CC15: =T15+AG15+AT15+BG15+CA15*1.25+BQ15 -> 0
B16: Justine Arguin | C16: Tanguy | E16: =U16+AH16++AU16+BH16+CB16+BR16 -> 18 | F16: =IF(E16=0,"",RANK(E16,E$10:E$20,0)) -> 8 | G16: =IF(CC16=0,"",RANK(CC16,CC$4:CC$41,0)) | H16: =IF(F16=1,"Or",IF(F16=2,"Argent",IF(F16=3,"Bronze",""))) | J16: =IF(I16=0,"",RANK(I16,I$10:I$20,0)) | K16: =IF(J16="",0,VLOOKUP(J16,Pointage[#All],2,FALSE)*K$8) -> 0 | M16: =IF(L16=0,"",RANK(L16,L$10:L$20,0)) | N16: =IF(M16="",0,VLOOKUP(M16,Pointage[#All],2,FALSE)*N$8) -> 0 | P16: =IF(O16=0,"",RANK(O16,O$10:O$20,0)) | Q16: =IF(P16="",0,VLOOKUP(P16,Pointage[#All],2,FALSE)*Q$8) -> 0 | S16: =IF(R16=0,"",RANK(R16,R$4:R$41,0)) | T16: =IF(S16="",0,VLOOKUP(S16,Pointage[#All],2,FALSE)*T$8) -> 0 | U16: =IF(K16="","",K16+N16+T16) -> 0 | W16: =IF(V16=0,"",RANK(V16,V$10:V$20,0)) | X16: =IF(W16="",0,VLOOKUP(W16,Pointage[#All],2,FALSE)*X$8) -> 0 | Z16: =IF(Y16=0,"",RANK(Y16,Y$10:Y$20,0)) | AA16: =IF(Z16="",0,VLOOKUP(Z16,Pointage[#All],2,FALSE)*AA$8) -> 0 | AC16: =IF(AB16=0,"",RANK(AB16,AB$10:AB$20,0)) | AD16: =IF(AC16="",0,VLOOKUP(AC16,Pointage[#All],2,FALSE)*AD$8) -> 0 | AF16: =IF(AE16=0,"",RANK(AE16,AE$4:AE$41,0)) | AG16: =IF(AF16="",0,VLOOKUP(AF16,Pointage[#All],2,FALSE)*AG$8) -> 0 | AH16: =IF(X16="","",X16+AA16+AG16) -> 0 | AJ16: =IF(AI16=0,"",RANK(AI16,AI$10:AI$20,0)) | AK16: =IF(AJ16="",0,VLOOKUP(AJ16,Pointage[#All],2,FALSE)*AK$8) -> 0 | AP16: =IF(AO16=0,"",RANK(AO16,AO$10:AO$20,0)) | AQ16: =IF(AP16="",0,VLOOKUP(AP16,Pointage[#All],2,FALSE)*AQ$8) -> 0 | AS16: =IF(AR16=0,"",RANK(AR16,AR$4:AR$41,0)) | AT16: =IF(AS16="",0,VLOOKUP(AS16,Pointage[#All],2,FALSE)*AT$8) -> 0 | AU16: =AK16+AN16+AT16 -> 0 | AW16: =IF(AV16=0,"",RANK(AV16,AV$10:AV$20,0)) | AX16: =IF(AW16="",0,VLOOKUP(AW16,Pointage[#All],2,FALSE)*AX$8) -> 0 | AZ16: =IF(AY16=0,"",RANK(AY16,AY$10:AY$20,0)) | BA16: =IF(AZ16="",0,VLOOKUP(AZ16,Pointage[#All],2,FALSE)*BA$8) -> 0 | BC16: =IF(BB16=0,"",RANK(BB16,BB$10:BB$20,0)) | BD16: =IF(BC16="",0,VLOOKUP(BC16,Pointage[#All],2,FALSE)*BD$8) -> 0 | BF16: =IF(BE16=0,"",RANK(BE16,BE$4:BE$41,0)) | BG16: =IF(BF16="",0,VLOOKUP(BF16,Pointage[#All],2,FALSE)*BG$8) -> 0 | BH16: =IF(BA16="","",BA16+BD16+BG16) -> 0 | BI16: 61.7 | BJ16: =IF(BI16=0,"",RANK(BI16,BI$10:BI$20,0)) -> 6 | BK16: =IF(BJ16="",0,VLOOKUP(BJ16,Pointage[#All],2,FALSE)*BK$8) -> 6 | BL16: 60 | BM16: =IF(BL16=0,"",RANK(BL16,BL$10:BL$20,0)) -> 5 | BN16: =IF(BM16="",0,VLOOKUP(BM16,Pointage[#All],2,FALSE)*BN$8) -> 12 | BP16: =IF(BO16=0,"",RANK(BO16,BO$4:BO$41,0)) | BQ16: =IF(BP16="",0,VLOOKUP(BP16,Pointage[#All],2,FALSE)*BQ$8) -> 0 | BR16: =IF(BK16="","",BK16+BN16+BQ16) -> 18 | BT16: =IF(BS16=0,"",RANK(BS16,BS$10:BS$20,0)) | BU16: =IF(BT16="",0,VLOOKUP(BT16,Pointage[#All],2,FALSE)*BU$8) -> 0 | BW16: =IF(BV16=0,"",RANK(BV16,BV$10:BV$20,0)) | BX16: =IF(BW16="",0,VLOOKUP(BW16,Pointage[#All],2,FALSE)*BX$8) -> 0 | BZ16: =IF(BY16=0,"",RANK(BY16,BY$4:BY$41,0)) | CA16: =IF(BZ16="",0,VLOOKUP(BZ16,Pointage[#All],2,FALSE)*CA$8) -> 0 | CB16: =IF(BU16="","",BU16+BX16+CA16)*1.25 -> 0 | CC16: =T16+AG16+AT16+BG16+CA16*1.25+BQ16 -> 0
B17: Laurence | C17: Dicaire | D17: Billy | E17: =U17+AH17++AU17+BH17+CB17 -> 30 | F17: =IF(E17=0,"",RANK(E17,E$10:E$20,0)) -> 7 | G17: =IF(CC17=0,"",RANK(CC17,CC$4:CC$41,0)) | H17: =IF(F17=1,"Or",IF(F17=2,"Argent",IF(F17=3,"Bronze",""))) | J17: =IF(I17=0,"",RANK(I17,I$10:I$20,0)) | K17: =IF(J17="",0,VLOOKUP(J17,Pointage[#All],2,FALSE)*K$8) -> 0 | M17: =IF(L17=0,"",RANK(L17,L$10:L$20,0)) | N17: =IF(M17="",0,VLOOKUP(M17,Pointage[#All],2,FALSE)*N$8) -> 0 | P17: =IF(O17=0,"",RANK(O17,O$10:O$20,0)) | Q17: =IF(P17="",0,VLOOKUP(P17,Pointage[#All],2,FALSE)*Q$8) -> 0 | S17: =IF(R17=0,"",RANK(R17,R$4:R$41,0)) | T17: =IF(S17="",0,VLOOKUP(S17,Pointage[#All],2,FALSE)*T$8) -> 0 | U17: =IF(K17="","",K17+N17+T17) -> 0 | W17: =IF(V17=0,"",RANK(V17,V$10:V$20,0)) | X17: =IF(W17="",0,VLOOKUP(W17,Pointage[#All],2,FALSE)*X$8) -> 0 | Z17: =IF(Y17=0,"",RANK(Y17,Y$10:Y$20,0)) | AA17: =IF(Z17="",0,VLOOKUP(Z17,Pointage[#All],2,FALSE)*AA$8) -> 0 | AC17: =IF(AB17=0,"",RANK(AB17,AB$10:AB$20,0)) | AD17: =IF(AC17="",0,VLOOKUP(AC17,Pointage[#All],2,FALSE)*AD$8) -> 0 | AF17: =IF(AE17=0,"",RANK(AE17,AE$4:AE$41,0)) | AG17: =IF(AF17="",0,VLOOKUP(AF17,Pointage[#All],2,FALSE)*AG$8) -> 0 | AH17: =IF(X17="","",X17+AA17+AG17) -> 0 | AJ17: =IF(AI17=0,"",RANK(AI17,AI$10:AI$20,0)) | AK17: =IF(AJ17="",0,VLOOKUP(AJ17,Pointage[#All],2,FALSE)*AK$8) -> 0 | AP17: =IF(AO17=0,"",RANK(AO17,AO$10:AO$20,0)) | AQ17: =IF(AP17="",0,VLOOKUP(AP17,Pointage[#All],2,FALSE)*AQ$8) -> 0 | AS17: =IF(AR17=0,"",RANK(AR17,AR$4:AR$41,0)) | AT17: =IF(AS17="",0,VLOOKUP(AS17,Pointage[#All],2,FALSE)*AT$8) -> 0 | AU17: =AK17+AN17+AT17 -> 0 | AW17: =IF(AV17=0,"",RANK(AV17,AV$10:AV$20,0)) | AX17: =IF(AW17="",0,VLOOKUP(AW17,Pointage[#All],2,FALSE)*AX$8) -> 0 | AZ17: =IF(AY17=0,"",RANK(AY17,AY$10:AY$20,0)) | BA17: =IF(AZ17="",0,VLOOKUP(AZ17,Pointage[#All],2,FALSE)*BA$8) -> 0 | BC17: =IF(BB17=0,"",RANK(BB17,BB$10:BB$20,0)) | BD17: =IF(BC17="",0,VLOOKUP(BC17,Pointage[#All],2,FALSE)*BD$8) -> 0 | BF17: =IF(BE17=0,"",RANK(BE17,BE$4:BE$41,0)) | BG17: =IF(BF17="",0,VLOOKUP(BF17,Pointage[#All],2,FALSE)*BG$8) -> 0 | BH17: =IF(BA17="","",BA17+BD17+BG17) -> 0 | BJ17: =IF(BI17=0,"",RANK(BI17,BI$10:BI$20,0)) | BK17: =IF(BJ17="",0,VLOOKUP(BJ17,Pointage[#All],2,FALSE)*BK$8) -> 0 | BM17: =IF(BL17=0,"",RANK(BL17,BL$10:BL$20,0)) | BN17: =IF(BM17="",0,VLOOKUP(BM17,Pointage[#All],2,FALSE)*BN$8) -> 0 | BP17: =IF(BO17=0,"",RANK(BO17,BO$4:BO$41,0)) | BQ17: =IF(BP17="",0,VLOOKUP(BP17,Pointage[#All],2,FALSE)*BQ$8) -> 0 | BR17: =IF(BK17="","",BK17+BN17+BQ17) -> 0 | BS17: 65.517 | BT17: =IF(BS17=0,"",RANK(BS17,BS$10:BS$20,0)) -> 4 | BU17: =IF(BT17="",0,VLOOKUP(BT17,Pointage[#All],2,FALSE)*BU$8) -> 12 | BV17: 61.8 | BW17: =IF(BV17=0,"",RANK(BV17,BV$10:BV$20,0)) -> 4 | BX17: =IF(BW17="",0,VLOOKUP(BW17,Pointage[#All],2,FALSE)*BX$8) -> 12 | BZ17: =IF(BY17=0,"",RANK(BY17,BY$4:BY$41,0)) | CA17: =IF(BZ17="",0,VLOOKUP(BZ17,Pointage[#All],2,FALSE)*CA$8) -> 0 | CB17: =IF(BU17="","",BU17+BX17+CA17)*1.25 -> 30 | CC17: =T17+AG17+AT17+BG17+CA17*1.25+BQ17 -> 0
E18: =U18+AH18++AU18+BH18+CB18 -> 0 | F18: =IF(E18=0,"",RANK(E18,E$10:E$20,0)) | G18: =IF(CC18=0,"",RANK(CC18,CC$4:CC$41,0)) | H18: =IF(F18=1,"Or",IF(F18=2,"Argent",IF(F18=3,"Bronze",""))) | J18: =IF(I18=0,"",RANK(I18,I$10:I$20,0)) | K18: =IF(J18="",0,VLOOKUP(J18,Pointage[#All],2,FALSE)*K$8) -> 0 | M18: =IF(L18=0,"",RANK(L18,L$10:L$20,0)) | N18: =IF(M18="",0,VLOOKUP(M18,Pointage[#All],2,FALSE)*N$8) -> 0 | P18: =IF(O18=0,"",RANK(O18,O$10:O$20,0)) | Q18: =IF(P18="",0,VLOOKUP(P18,Pointage[#All],2,FALSE)*Q$8) -> 0 | S18: =IF(R18=0,"",RANK(R18,R$4:R$41,0)) | T18: =IF(S18="",0,VLOOKUP(S18,Pointage[#All],2,FALSE)*T$8) -> 0 | U18: =IF(K18="","",K18+N18+T18) -> 0 | W18: =IF(V18=0,"",RANK(V18,V$10:V$20,0)) | X18: =IF(W18="",0,VLOOKUP(W18,Pointage[#All],2,FALSE)*X$8) -> 0 | Z18: =IF(Y18=0,"",RANK(Y18,Y$10:Y$20,0)) | AA18: =IF(Z18="",0,VLOOKUP(Z18,Pointage[#All],2,FALSE)*AA$8) -> 0 | AC18: =IF(AB18=0,"",RANK(AB18,AB$10:AB$20,0)) | AD18: =IF(AC18="",0,VLOOKUP(AC18,Pointage[#All],2,FALSE)*AD$8) -> 0 | AF18: =IF(AE18=0,"",RANK(AE18,AE$4:AE$41,0)) | AG18: =IF(AF18="",0,VLOOKUP(AF18,Pointage[#All],2,FALSE)*AG$8) -> 0 | AH18: =IF(X18="","",X18+AA18+AG18) -> 0 | AJ18: =IF(AI18=0,"",RANK(AI18,AI$10:AI$20,0)) | AK18: =IF(AJ18="",0,VLOOKUP(AJ18,Pointage[#All],2,FALSE)*AK$8) -> 0 | AP18: =IF(AO18=0,"",RANK(AO18,AO$10:AO$20,0)) | AQ18: =IF(AP18="",0,VLOOKUP(AP18,Pointage[#All],2,FALSE)*AQ$8) -> 0 | AS18: =IF(AR18=0,"",RANK(AR18,AR$4:AR$41,0)) | AT18: =IF(AS18="",0,VLOOKUP(AS18,Pointage[#All],2,FALSE)*AT$8) -> 0 | AU18: =AK18+AN18+AT18 -> 0 | AW18: =IF(AV18=0,"",RANK(AV18,AV$10:AV$20,0)) | AX18: =IF(AW18="",0,VLOOKUP(AW18,Pointage[#All],2,FALSE)*AX$8) -> 0 | AZ18: =IF(AY18=0,"",RANK(AY18,AY$10:AY$20,0)) | BA18: =IF(AZ18="",0,VLOOKUP(AZ18,Pointage[#All],2,FALSE)*BA$8) -> 0 | BC18: =IF(BB18=0,"",RANK(BB18,BB$10:BB$20,0)) | BD18: =IF(BC18="",0,VLOOKUP(BC18,Pointage[#All],2,FALSE)*BD$8) -> 0 | BF18: =IF(BE18=0,"",RANK(BE18,BE$4:BE$41,0)) | BG18: =IF(BF18="",0,VLOOKUP(BF18,Pointage[#All],2,FALSE)*BG$8) -> 0 | BH18: =IF(BA18="","",BA18+BD18+BG18) -> 0 | BJ18: =IF(BI18=0,"",RANK(BI18,BI$10:BI$20,0)) | BK18: =IF(BJ18="",0,VLOOKUP(BJ18,Pointage[#All],2,FALSE)*BK$8) -> 0 | BM18: =IF(BL18=0,"",RANK(BL18,BL$10:BL$20,0)) | BN18: =IF(BM18="",0,VLOOKUP(BM18,Pointage[#All],2,FALSE)*BN$8) -> 0 | BP18: =IF(BO18=0,"",RANK(BO18,BO$4:BO$41,0)) | BQ18: =IF(BP18="",0,VLOOKUP(BP18,Pointage[#All],2,FALSE)*BQ$8) -> 0 | BR18: =IF(BK18="","",BK18+BN18+BQ18) -> 0 | BT18: =IF(BS18=0,"",RANK(BS18,BS$10:BS$20,0)) | BU18: =IF(BT18="",0,VLOOKUP(BT18,Pointage[#All],2,FALSE)*BU$8) -> 0 | BW18: =IF(BV18=0,"",RANK(BV18,BV$10:BV$20,0)) | BX18: =IF(BW18="",0,VLOOKUP(BW18,Pointage[#All],2,FALSE)*BX$8) -> 0 | BZ18: =IF(BY18=0,"",RANK(BY18,BY$4:BY$41,0)) | CA18: =IF(BZ18="",0,VLOOKUP(BZ18,Pointage[#All],2,FALSE)*CA$8) -> 0 | CB18: =IF(BU18="","",BU18+BX18+CA18)*1.25 -> 0 | CC18: =T18+AG18+AT18+BG18+CA18*1.25+BQ18 -> 0
E19: =U19+AH19++AU19+BH19+CB19 -> 0 | F19: =IF(E19=0,"",RANK(E19,E$10:E$20,0)) | G19: =IF(CC19=0,"",RANK(CC19,CC$4:CC$41,0)) | H19: =IF(F19=1,"Or",IF(F19=2,"Argent",IF(F19=3,"Bronze",""))) | J19: =IF(I19=0,"",RANK(I19,I$10:I$20,0)) | K19: =IF(J19="",0,VLOOKUP(J19,Pointage[#All],2,FALSE)*K$8) -> 0 | M19: =IF(L19=0,"",RANK(L19,L$10:L$20,0)) | N19: =IF(M19="",0,VLOOKUP(M19,Pointage[#All],2,FALSE)*N$8) -> 0 | P19: =IF(O19=0,"",RANK(O19,O$10:O$20,0)) | Q19: =IF(P19="",0,VLOOKUP(P19,Pointage[#All],2,FALSE)*Q$8) -> 0 | S19: =IF(R19=0,"",RANK(R19,R$4:R$41,0)) | T19: =IF(S19="",0,VLOOKUP(S19,Pointage[#All],2,FALSE)*T$8) -> 0 | U19: =IF(K19="","",K19+N19+T19) -> 0 | W19: =IF(V19=0,"",RANK(V19,V$10:V$20,0)) | X19: =IF(W19="",0,VLOOKUP(W19,Pointage[#All],2,FALSE)*X$8) -> 0 | Z19: =IF(Y19=0,"",RANK(Y19,Y$10:Y$20,0)) | AA19: =IF(Z19="",0,VLOOKUP(Z19,Pointage[#All],2,FALSE)*AA$8) -> 0 | AC19: =IF(AB19=0,"",RANK(AB19,AB$10:AB$20,0)) | AD19: =IF(AC19="",0,VLOOKUP(AC19,Pointage[#All],2,FALSE)*AD$8) -> 0 | AF19: =IF(AE19=0,"",RANK(AE19,AE$4:AE$41,0)) | AG19: =IF(AF19="",0,VLOOKUP(AF19,Pointage[#All],2,FALSE)*AG$8) -> 0 | AH19: =IF(X19="","",X19+AA19+AG19) -> 0 | AJ19: =IF(AI19=0,"",RANK(AI19,AI$10:AI$20,0)) | AK19: =IF(AJ19="",0,VLOOKUP(AJ19,Pointage[#All],2,FALSE)*AK$8) -> 0 | AP19: =IF(AO19=0,"",RANK(AO19,AO$10:AO$20,0)) | AQ19: =IF(AP19="",0,VLOOKUP(AP19,Pointage[#All],2,FALSE)*AQ$8) -> 0 | AS19: =IF(AR19=0,"",RANK(AR19,AR$4:AR$41,0)) | AT19: =IF(AS19="",0,VLOOKUP(AS19,Pointage[#All],2,FALSE)*AT$8) -> 0 | AU19: =AK19+AN19+AT19 -> 0 | AW19: =IF(AV19=0,"",RANK(AV19,AV$10:AV$20,0)) | AX19: =IF(AW19="",0,VLOOKUP(AW19,Pointage[#All],2,FALSE)*AX$8) -> 0 | AZ19: =IF(AY19=0,"",RANK(AY19,AY$10:AY$20,0)) | BA19: =IF(AZ19="",0,VLOOKUP(AZ19,Pointage[#All],2,FALSE)*BA$8) -> 0 | BC19: =IF(BB19=0,"",RANK(BB19,BB$10:BB$20,0)) | BD19: =IF(BC19="",0,VLOOKUP(BC19,Pointage[#All],2,FALSE)*BD$8) -> 0 | BF19: =IF(BE19=0,"",RANK(BE19,BE$4:BE$41,0)) | BG19: =IF(BF19="",0,VLOOKUP(BF19,Pointage[#All],2,FALSE)*BG$8) -> 0 | BH19: =IF(BA19="","",BA19+BD19+BG19) -> 0 | BJ19: =IF(BI19=0,"",RANK(BI19,BI$10:BI$20,0)) | BK19: =IF(BJ19="",0,VLOOKUP(BJ19,Pointage[#All],2,FALSE)*BK$8) -> 0 | BM19: =IF(BL19=0,"",RANK(BL19,BL$10:BL$20,0)) | BN19: =IF(BM19="",0,VLOOKUP(BM19,Pointage[#All],2,FALSE)*BN$8) -> 0 | BP19: =IF(BO19=0,"",RANK(BO19,BO$4:BO$41,0)) | BQ19: =IF(BP19="",0,VLOOKUP(BP19,Pointage[#All],2,FALSE)*BQ$8) -> 0 | BR19: =IF(BK19="","",BK19+BN19+BQ19) -> 0 | BT19: =IF(BS19=0,"",RANK(BS19,BS$10:BS$20,0)) | BU19: =IF(BT19="",0,VLOOKUP(BT19,Pointage[#All],2,FALSE)*BU$8) -> 0 | BW19: =IF(BV19=0,"",RANK(BV19,BV$10:BV$20,0)) | BX19: =IF(BW19="",0,VLOOKUP(BW19,Pointage[#All],2,FALSE)*BX$8) -> 0 | BZ19: =IF(BY19=0,"",RANK(BY19,BY$4:BY$41,0)) | CA19: =IF(BZ19="",0,VLOOKUP(BZ19,Pointage[#All],2,FALSE)*CA$8) -> 0 | CB19: =IF(BU19="","",BU19+BX19+CA19)*1.25 -> 0 | CC19: =T19+AG19+AT19+BG19+CA19*1.25+BQ19 -> 0
E20: =U20+AH20++AU20+BH20+CB20 -> 0 | F20: =IF(E20=0,"",RANK(E20,E$10:E$20,0)) | G20: =IF(CC20=0,"",RANK(CC20,CC$4:CC$41,0)) | K20: =IF(J20="",0,VLOOKUP(J20,Pointage[#All],2,FALSE)*K$8) -> 0 | M20: =IF(L20=0,"",RANK(L20,L$10:L$20,0)) | N20: =IF(M20="",0,VLOOKUP(M20,Pointage[#All],2,FALSE)*N$8) -> 0 | P20: =IF(O20=0,"",RANK(O20,O$10:O$20,0)) | Q20: =IF(P20="",0,VLOOKUP(P20,Pointage[#All],2,FALSE)*Q$8) -> 0 | S20: =IF(R20=0,"",RANK(R20,R$4:R$41,0)) | T20: =IF(S20="",0,VLOOKUP(S20,Pointage[#All],2,FALSE)*T$8) -> 0 | U20: =IF(K20="","",K20+N20+T20) -> 0 | W20: =IF(V20=0,"",RANK(V20,V$10:V$20,0)) | X20: =IF(W20="",0,VLOOKUP(W20,Pointage[#All],2,FALSE)*X$8) -> 0 | Z20: =IF(Y20=0,"",RANK(Y20,Y$10:Y$20,0)) | AA20: =IF(Z20="",0,VLOOKUP(Z20,Pointage[#All],2,FALSE)*AA$8) -> 0 | AC20: =IF(AB20=0,"",RANK(AB20,AB$10:AB$20,0)) | AD20: =IF(AC20="",0,VLOOKUP(AC20,Pointage[#All],2,FALSE)*AD$8) -> 0 | AF20: =IF(AE20=0,"",RANK(AE20,AE$4:AE$41,0)) | AG20: =IF(AF20="",0,VLOOKUP(AF20,Pointage[#All],2,FALSE)*AG$8) -> 0 | AH20: =IF(X20="","",X20+AA20+AG20) -> 0 | AJ20: =IF(AI20=0,"",RANK(AI20,AI$10:AI$20,0)) | AK20: =IF(AJ20="",0,VLOOKUP(AJ20,Pointage[#All],2,FALSE)*AK$8) -> 0 | AP20: =IF(AO20=0,"",RANK(AO20,AO$10:AO$20,0)) | AQ20: =IF(AP20="",0,VLOOKUP(AP20,Pointage[#All],2,FALSE)*AQ$8) -> 0 | AS20: =IF(AR20=0,"",RANK(AR20,AR$4:AR$41,0)) | AT20: =IF(AS20="",0,VLOOKUP(AS20,Pointage[#All],2,FALSE)*AT$8) -> 0 | AU20: =AK20+AN20+AT20 -> 0 | AW20: =IF(AV20=0,"",RANK(AV20,AV$10:AV$20,0)) | AX20: =IF(AW20="",0,VLOOKUP(AW20,Pointage[#All],2,FALSE)*AX$8) -> 0 | AZ20: =IF(AY20=0,"",RANK(AY20,AY$10:AY$20,0)) | BA20: =IF(AZ20="",0,VLOOKUP(AZ20,Pointage[#All],2,FALSE)*BA$8) -> 0 | BC20: =IF(BB20=0,"",RANK(BB20,BB$10:BB$20,0)) | BD20: =IF(BC20="",0,VLOOKUP(BC20,Pointage[#All],2,FALSE)*BD$8) -> 0 | BF20: =IF(BE20=0,"",RANK(BE20,BE$4:BE$41,0)) | BG20: =IF(BF20="",0,VLOOKUP(BF20,Pointage[#All],2,FALSE)*BG$8) -> 0 | BH20: =IF(BA20="","",BA20+BD20+BG20) -> 0 | BJ20: =IF(BI20=0,"",RANK(BI20,BI$10:BI$20,0)) | BK20: =IF(BJ20="",0,VLOOKUP(BJ20,Pointage[#All],2,FALSE)*BK$8) -> 0 | BM20: =IF(BL20=0,"",RANK(BL20,BL$10:BL$20,0)) | BN20: =IF(BM20="",0,VLOOKUP(BM20,Pointage[#All],2,FALSE)*BN$8) -> 0 | BP20: =IF(BO20=0,"",RANK(BO20,BO$4:BO$41,0)) | BQ20: =IF(BP20="",0,VLOOKUP(BP20,Pointage[#All],2,FALSE)*BQ$8) -> 0 | BR20: =IF(BK20="","",BK20+BN20+BQ20) -> 0 | BT20: =IF(BS20=0,"",RANK(BS20,BS$10:BS$20,0)) | BU20: =IF(BT20="",0,VLOOKUP(BT20,Pointage[#All],2,FALSE)*BU$8) -> 0 | BW20: =IF(BV20=0,"",RANK(BV20,BV$10:BV$20,0)) | BX20: =IF(BW20="",0,VLOOKUP(BW20,Pointage[#All],2,FALSE)*BX$8) -> 0 | CA20: =IF(BZ20="",0,VLOOKUP(BZ20,Pointage[#All],2,FALSE)*CA$8) -> 0 | CB20: =IF(BU20="","",BU20+BX20+CA20)*1.25 -> 0 | CC20: =T20+AG20+AT20+BG20+CA20*1.25+BQ20 -> 0
A21: Entraînement Adulte | I21: Reprise 1 | J21: Nbr de cavalier | K21: 2 | L21: Reprise 2 | M21: Nbr de cavalier | N21: 2 | O21: Reprise 3 | P21: Nbr de cavalier | Q21: 1 | R21: Kur | S21: Nbr de cavalier | T21: 5 | U21: TOTAL POINT | V21: Reprise 1 | W21: Nbr de cavalier | X21: 2 | Y21: Reprise 2 | Z21: Nbr de cavalier | AA21: 3 | AB21: Reprise 3 | AC21: Nbr de cavalier | AE21: Kur | AF21: Nbr de cavalier | AG21: 2 | AH21: TOTAL POINT | AI21: Reprise 1 | AJ21: Nbr de cavalier | AK21: 5 | AL21: Reprise 2 | AM21: Nbr de cavalier | AN21: 4 | AO21: Reprise 3 | AP21: Nbr de cavalier | AQ21: 3 | AR21: Kur | AS21: Nbr de cavalier | AT21: 6 | AU21: TOTAL POINT | AV21: Reprise 1 | AW21: Nbr de cavalier | AY21: Reprise 2 | BB21: Reprise 3 | BC21: Nbr de cavalier | BD21: 1 | BE21: Kur | BF21: Nbr de cavalier | BH21: TOTAL POINT | BI21: Reprise 2 | BK21: 2 | BL21: Reprise 3 | BM21: Nbr de cavalier | BN21: 2 | BO21: Kur | BP21: Nbr de cavalier | BR21: TOTAL POINT | BS21: Reprise 2 | BT21: Nbr de cavalier | BU21: 4 | BV21: Reprise 3 | BW21: Nbr de cavalier | BX21: 3 | BY21: Kur | BZ21: Nbr de cavalier | CA21: 6 | CB21: TOTAL POINT | CC21: TOTAL POINT
I22: Résultats | J22: Position | K22: Points | L22: Résultats | M22: Position | N22: Points | O22: Résultats | P22: Position | Q22: Points | R22: Résultats | S22: Position | T22: Points | V22: Résultats | W22: Position | X22: Points | Y22: Résultats | Z22: Position | AA22: Points | AB22: Résultats | AC22: Position | AD22: Points | AE22: Résultats | AF22: Position | AG22: Points | AI22: Résultats | AJ22: Position | AK22: Points | AL22: Résultats | AM22: Position | AN22: Points | AO22: Résultats | AP22: Position | AQ22: Points | AR22: Résultats | AS22: Position | AT22: Points | AV22: Résultats | AW22: Position | AX22: Points | AY22: Résultats | AZ22: Position | BA22: Points | BB22: Résultats | BC22: Position | BD22: Points | BE22: Résultats | BF22: Position | BG22: Points | BI22: Résultats | BJ22: Position | BK22: Points | BL22: Résultats | BM22: Position | BN22: Points | BO22: Résultats | BP22: Position | BQ22: Points | BS22: Résultats | BT22: Position | BU22: Points | BV22: Résultats | BW22: Position | BX22: Points | BY22: Résultats | BZ22: Position | CA22: Points
B23: Éloïse | C23: Couture | D23: Helada de Soleado | E23: =U23+AH23++AU23+BH23+CB23+BR23 -> 49 | F23: =IF(E23=0,"",RANK(E23,E$23:E$35,0)) -> 4 | G23: =IF(CC23=0,"",RANK(CC23,CC$4:CC$41,0)) -> 8 | H23: =IF(F23=1,"Or",IF(F23=2,"Argent",IF(F23=3,"Bronze",""))) | I23: 65.961 | J23: =IF(I23=0,"",RANK(I23,I$23:I$35,0)) -> 1 | K23: 12 | L23: 64.655 | M23: =IF(L23=0,"",RANK(L23,L$23:L$35,0)) -> 1 | N23: =IF(M23="",0,VLOOKUP(M23,Pointage[#All],2,FALSE)*N$21) -> 12 | P23: =IF(O23=0,"",RANK(O23,O$23:O$35,0)) | Q23: =IF(P23="",0,VLOOKUP(P23,Pointage[#All],2,FALSE)*Q$21) -> 0 | R23: 68.088 | S23: =IF(R23=0,"",RANK(R23,R$4:R$41,0)) -> 2 | T23: =IF(S23="",0,VLOOKUP(S23,Pointage[#All],2,FALSE)*T$21) -> 25 | U23: =IF(K23="","",K23+N23+T23) -> 49 | W23: =IF(V23=0,"",RANK(V23,V$23:V$35,0)) | X23: =IF(W23="",0,VLOOKUP(W23,Pointage[#All],2,FALSE)*X$21) -> 0 | Z23: =IF(Y23=0,"",RANK(Y23,Y$23:Y$35,0)) | AA23: =IF(Z23="",0,VLOOKUP(Z23,Pointage[#All],2,FALSE)*AA$21) -> 0 | AC23: =IF(AB23=0,"",RANK(AB23,AB$23:AB$35,0)) | AD23: =IF(AC23="",0,VLOOKUP(AC23,Pointage[#All],2,FALSE)*AD$21) -> 0 | AF23: =IF(AE23=0,"",RANK(AE23,AE$4:AE$41,0)) | AG23: =IF(AF23="",0,VLOOKUP(AF23,Pointage[#All],2,FALSE)*AG$21) -> 0 | AH23: =IF(X23="","",X23+AA23+AG23) -> 0 | AJ23: =IF(AI23=0,"",RANK(AI23,AI$23:AI$35,0)) | AK23: =IF(AJ23="",0,VLOOKUP(AJ23,Pointage[#All],2,FALSE)*AK$21) -> 0 | AM23: =IF(AL23=0,"",RANK(AL23,AL$23:AL$35,0)) | AN23: =IF(AM23="",0,VLOOKUP(AM23,Pointage[#All],2,FALSE)*AN$21) -> 0 | AP23: =IF(AO23=0,"",RANK(AO23,AO$23:AO$35,0)) | AQ23: =IF(AP23="",0,VLOOKUP(AP23,Pointage[#All],2,FALSE)*AQ$21) -> 0 | AS23: =IF(AR23=0,"",RANK(AR23,AR$4:AR$41,0)) | AT23: =IF(AS23="",0,VLOOKUP(AS23,Pointage[#All],2,FALSE)*AT$21) -> 0 | AU23: =IF(AK23="","",AK23+AQ23+AT23) -> 0 | AW23: =IF(AV23=0,"",RANK(AV23,AV$23:AV$35,0)) | AX23: =IF(AW23="",0,VLOOKUP(AW23,Pointage[#All],2,FALSE)*AX$21) -> 0 | AZ23: =IF(AY23=0,"",RANK(AY23,AY$23:AY$35,0)) | BA23: =IF(AZ23="",0,VLOOKUP(AZ23,Pointage[#All],2,FALSE)*BA$21) -> 0 | BC23: =IF(BB23=0,"",RANK(BB23,BB$23:BB$35,0)) | BD23: =IF(BC23="",0,VLOOKUP(BC23,Pointage[#All],2,FALSE)*BD$21) -> 0 | BF23: =IF(BE23=0,"",RANK(BE23,BE$4:BE$41,0)) | BG23: =IF(BF23="",0,VLOOKUP(BF23,Pointage[#All],2,FALSE)*BG$21) -> 0 | BH23: =IF(BA23="","",BA23+BD23+BG23) -> 0 | BJ23: =IF(BI23=0,"",RANK(BI23,BI$23:BI$35,0)) | BK23: =IF(BJ23="",0,VLOOKUP(BJ23,Pointage[#All],2,FALSE)*BK$21) -> 0 | BM23: =IF(BL23=0,"",RANK(BL23,BL$23:BL$35,0)) | BN23: =IF(BM23="",0,VLOOKUP(BM23,Pointage[#All],2,FALSE)*BN$21) -> 0 | BP23: =IF(BO23=0,"",RANK(BO23,BO$4:BO$41,0)) | BQ23: =IF(BP23="",0,VLOOKUP(BP23,Pointage[#All],2,FALSE)*BQ$21) -> 0 | BR23: =IF(BK23="","",BK23+BN23+BQ23) -> 0 | BT23: =IF(BS23=0,"",RANK(BS23,BS$23:BS$35,0)) | BU23: =IF(BT23="",0,VLOOKUP(BT23,Pointage[#All],2,FALSE)*BU$21) -> 0 | BW23: =IF(BV23=0,"",RANK(BV23,BV$23:BV$35,0)) | BX23: =IF(BW23="",0,VLOOKUP(BW23,Pointage[#All],2,FALSE)*BX$21) -> 0 | BZ23: =IF(BY23=0,"",RANK(BY23,BY$4:BY$41,0)) | CA23: =IF(BZ23="",0,VLOOKUP(BZ23,Pointage[#All],2,FALSE)*CA$21) -> 0 | CB23: =IF(BU23="","",BU23+BX23+CA23)*1.25 -> 0 | CC23: =T23+AG23+AT23+BG23+CA23*1.25+BQ23 -> 25
B24: Vicky | C24: Laquerre | D24: Montana | E24: =U24+AH24++AU24+BH24+CB24+BR24 -> 135.5 | F24: =IF(E24=0,"",RANK(E24,E$23:E$35,0)) -> 1 | G24: =IF(CC24=0,"",RANK(CC24,CC$4:CC$41,0)) -> 7 | H24: =IF(F24=1,"Or",IF(F24=2,"Argent",IF(F24=3,"Bronze",""))) -> Or | I24: 56.153 | J24: =IF(I24=0,"",RANK(I24,I$23:I$35,0)) -> 2 | K24: =IF(J24="",0,VLOOKUP(J24,Pointage[#All],2,FALSE)*K$21) -> 10 | L24: 62.241 | M24: =IF(L24=0,"",RANK(L24,L$23:L$35,0)) -> 2 | N24: =IF(M24="",0,VLOOKUP(M24,Pointage[#All],2,FALSE)*N$21) -> 10 | O24: 58 | P24: =IF(O24=0,"",RANK(O24,O$23:O$35,0)) -> 1 | Q24: 0 | S24: =IF(R24=0,"",RANK(R24,R$4:R$41,0)) | T24: =IF(S24="",0,VLOOKUP(S24,Pointage[#All],2,FALSE)*T$21) -> 0 | U24: =IF(K24="","",K24+N24+T24) -> 20 | V24: 58.46 | W24: =IF(V24=0,"",RANK(V24,V$23:V$35,0)) -> 2 | X24: =IF(W24="",0,VLOOKUP(W24,Pointage[#All],2,FALSE)*X$21) -> 10 | Y24: 57.93 | Z24: =IF(Y24=0,"",RANK(Y24,Y$23:Y$35,0)) -> 3 | AA24: =IF(Z24="",0,VLOOKUP(Z24,Pointage[#All],2,FALSE)*AA$21) -> 12 | AC24: =IF(AB24=0,"",RANK(AB24,AB$23:AB$35,0)) | AD24: 0 | AE24: 63.74 | AF24: =IF(AE24=0,"",RANK(AE24,AE$4:AE$41,0)) -> 1 | AG24: =IF(AF24="",0,VLOOKUP(AF24,Pointage[#All],2,FALSE)*AG$21) -> 12 | AH24: =AG24+X24+AA24 -> 34 | AI24: 61.54 | AJ24: =IF(AI24=0,"",RANK(AI24,AI$23:AI$35,0)) -> 4 | AK24: =IF(AJ24="",0,VLOOKUP(AJ24,Pointage[#All],2,FALSE)*AK$21) -> 15 | AL24: 61.21 | AM24: =IF(AL24=0,"",RANK(AL24,AL$23:AL$35,0)) -> 4 | AN24: =IF(AM24="",0,VLOOKUP(AM24,Pointage[#All],2,FALSE)*AN$21) -> 12 | AO24: 58.8 | AP24: =IF(AO24=0,"",RANK(AO24,AO$23:AO$35,0)) -> 3 | AQ24: =IF(AP24="",0,VLOOKUP(AP24,Pointage[#All],2,FALSE)*AQ$21) -> 12 | AR24: 62.09 | AS24: =IF(AR24=0,"",RANK(AR24,AR$4:AR$41,0)) -> 5 | AT24: =IF(AS24="",0,VLOOKUP(AS24,Pointage[#All],2,FALSE)*AT$21) -> 12 | AU24: =AT24+AN24+AK24 -> 39 | AW24: =IF(AV24=0,"",RANK(AV24,AV$23:AV$35,0)) | AX24: =IF(AW24="",0,VLOOKUP(AW24,Pointage[#All],2,FALSE)*AX$21) -> 0 | AZ24: =IF(AY24=0,"",RANK(AY24,AY$23:AY$35,0)) | BA24: =IF(AZ24="",0,VLOOKUP(AZ24,Pointage[#All],2,FALSE)*BA$21) -> 0 | BC24: =IF(BB24=0,"",RANK(BB24,BB$23:BB$35,0)) | BD24: =IF(BC24="",0,VLOOKUP(BC24,Pointage[#All],2,FALSE)*BD$21) -> 0 | BF24: =IF(BE24=0,"",RANK(BE24,BE$4:BE$41,0)) | BG24: =IF(BF24="",0,VLOOKUP(BF24,Pointage[#All],2,FALSE)*BG$21) -> 0 | BH24: =IF(BA24="","",BA24+BD24+BG24) -> 0 | BJ24: =IF(BI24=0,"",RANK(BI24,BI$23:BI$35,0)) | BK24: =IF(BJ24="",0,VLOOKUP(BJ24,Pointage[#All],2,FALSE)*BK$21) -> 0 | BM24: =IF(BL24=0,"",RANK(BL24,BL$23:BL$35,0)) | BN24: =IF(BM24="",0,VLOOKUP(BM24,Pointage[#All],2,FALSE)*BN$21) -> 0 | BP24: =IF(BO24=0,"",RANK(BO24,BO$4:BO$41,0)) | BQ24: =IF(BP24="",0,VLOOKUP(BP24,Pointage[#All],2,FALSE)*BQ$21) -> 0 | BR24: =IF(BK24="","",BK24+BN24+BQ24) -> 0 | BS24: 65.655 | BT24: =IF(BS24=0,"",RANK(BS24,BS$23:BS$35,0)) -> 3 | BU24: =IF(BT24="",0,VLOOKUP(BT24,Pointage[#All],2,FALSE)*BU$21) -> 16 | BV24: 61.6 | BW24: =IF(BV24=0,"",RANK(BV24,BV$23:BV$35,0)) -> 3 | BX24: =IF(BW24="",0,VLOOKUP(BW24,Pointage[#All],2,FALSE)*BX$21) -> 12 | BY24: 60.029 | BZ24: =IF(BY24=0,"",RANK(BY24,BY$4:BY$41,0)) -> 6 | CA24: =IF(BZ24="",0,VLOOKUP(BZ24,Pointage[#All],2,FALSE)*CA$21) -> 6 | CB24: =IF(BU24="","",BU24+BX24+CA24)*1.25 -> 42.5 | CC24: =T24+AG24+AT24+BG24+CA24*1.25+BQ24 -> 31.5
B25: Flore-Anne | C25: Boutin | D25: Cosack | E25: =U25+AH25++AU25+BH25+CB25+BR25 -> 129.5 | F25: =IF(E25=0,"",RANK(E25,E$23:E$35,0)) -> 2 | G25: =IF(CC25=0,"",RANK(CC25,CC$4:CC$41,0)) | H25: =IF(F25=1,"Or",IF(F25=2,"Argent",IF(F25=3,"Bronze",""))) -> Argent | J25: =IF(I25=0,"",RANK(I25,I$23:I$35,0)) | K25: =IF(J25="",0,VLOOKUP(J25,Pointage[#All],2,FALSE)*K$21) -> 0 | M25: =IF(L25=0,"",RANK(L25,L$23:L$35,0)) | N25: =IF(M25="",0,VLOOKUP(M25,Pointage[#All],2,FALSE)*N$21) -> 0 | P25: =IF(O25=0,"",RANK(O25,O$23:O$35,0)) | Q25: =IF(P25="",0,VLOOKUP(P25,Pointage[#All],2,FALSE)*Q$21) -> 0 | S25: =IF(R25=0,"",RANK(R25,R$4:R$41,0)) | T25: =IF(S25="",0,VLOOKUP(S25,Pointage[#All],2,FALSE)*T$21) -> 0 | U25: =IF(K25="","",K25+N25+T25) -> 0 | V25: 62.88 | W25: =IF(V25=0,"",RANK(V25,V$23:V$35,0)) -> 1 | X25: =IF(W25="",0,VLOOKUP(W25,Pointage[#All],2,FALSE)*X$21) -> 12 | Y25: 61.03 | Z25: =IF(Y25=0,"",RANK(Y25,Y$23:Y$35,0)) -> 2 | AA25: =IF(Z25="",0,VLOOKUP(Z25,Pointage[#All],2,FALSE)*AA$21) -> 15 | AB25: 61.7 | AC25: =IF(AB25=0,"",RANK(AB25,AB$23:AB$35,0)) -> 1 | AD25: =IF(AC25="",0,VLOOKUP(AC25,Pointage[#All],2,FALSE)*AD$21) -> 0 | AF25: =IF(AE25=0,"",RANK(AE25,AE$4:AE$41,0)) | AG25: =IF(AF25="",0,VLOOKUP(AF25,Pointage[#All],2,FALSE)*AG$21) -> 0 | AH25: =AG25+X25+AA25 -> 27 | AI25: 58.65 | AJ25: =IF(AI25=0,"",RANK(AI25,AI$23:AI$35,0)) -> 5 | AK25: =IF(AJ25="",0,VLOOKUP(AJ25,Pointage[#All],2,FALSE)*AK$21) -> 10 | AL25: 63.97 | AM25: =IF(AL25=0,"",RANK(AL25,AL$23:AL$35,0)) -> 2 | AN25: =IF(AM25="",0,VLOOKUP(AM25,Pointage[#All],2,FALSE)*AN$21) -> 20 | AO25: 63.4 | AP25: =IF(AO25=0,"",RANK(AO25,AO$23:AO$35,0)) -> 1 | AQ25: =IF(AP25="",0,VLOOKUP(AP25,Pointage[#All],2,FALSE)*AQ$21) -> 18 | AS25: =IF(AR25=0,"",RANK(AR25,AR$4:AR$41,0)) | AT25: =IF(AS25="",0,VLOOKUP(AS25,Pointage[#All],2,FALSE)*AT$21) -> 0 | AU25: =AT25+AN25+AK25 -> 30 | AW25: =IF(AV25=0,"",RANK(AV25,AV$23:AV$35,0)) | AX25: =IF(AW25="",0,VLOOKUP(AW25,Pointage[#All],2,FALSE)*AX$21) -> 0 | AZ25: =IF(AY25=0,"",RANK(AY25,AY$23:AY$35,0)) | BA25: =IF(AZ25="",0,VLOOKUP(AZ25,Pointage[#All],2,FALSE)*BA$21) -> 0 | BC25: =IF(BB25=0,"",RANK(BB25,BB$23:BB$35,0)) | BD25: =IF(BC25="",0,VLOOKUP(BC25,Pointage[#All],2,FALSE)*BD$21) -> 0 | BF25: =IF(BE25=0,"",RANK(BE25,BE$4:BE$41,0)) | BG25: =IF(BF25="",0,VLOOKUP(BF25,Pointage[#All],2,FALSE)*BG$21) -> 0 | BH25: =IF(BA25="","",BA25+BD25+BG25) -> 0 | BI25: 62.93 | BJ25: =IF(BI25=0,"",RANK(BI25,BI$23:BI$35,0)) -> 2 | BK25: =IF(BJ25="",0,VLOOKUP(BJ25,Pointage[#All],2,FALSE)*BK$21) -> 10 | BL25: 59.2 | BM25: =IF(BL25=0,"",RANK(BL25,BL$23:BL$35,0)) -> 2 | BN25: =IF(BM25="",0,VLOOKUP(BM25,Pointage[#All],2,FALSE)*BN$21) -> 10 | BP25: =IF(BO25=0,"",RANK(BO25,BO$4:BO$41,0)) | BQ25: =IF(BP25="",0,VLOOKUP(BP25,Pointage[#All],2,FALSE)*BQ$21) -> 0 | BR25: =IF(BK25="","",BK25+BN25+BQ25) -> 20 | BS25: 67.758 | BT25: =IF(BS25=0,"",RANK(BS25,BS$23:BS$35,0)) -> 1 | BU25: =IF(BT25="",0,VLOOKUP(BT25,Pointage[#All],2,FALSE)*BU$21) -> 24 | BV25: 69.4 | BW25: =IF(BV25=0,"",RANK(BV25,BV$23:BV$35,0)) -> 1 | BX25: =IF(BW25="",0,VLOOKUP(BW25,Pointage[#All],2,FALSE)*BX$21) -> 18 | BZ25: =IF(BY25=0,"",RANK(BY25,BY$4:BY$41,0)) | CA25: =IF(BZ25="",0,VLOOKUP(BZ25,Pointage[#All],2,FALSE)*CA$21) -> 0 | CB25: =IF(BU25="","",BU25+BX25+CA25)*1.25 -> 52.5 | CC25: =T25+AG25+AT25+BG25+CA25*1.25+BQ25 -> 0
B26: Marie-Frédérique | C26: Villemaire | D26: Tiny | E26: =U26+AH26++AU26+BH26+CB26+BR26 -> 18 | F26: =IF(E26=0,"",RANK(E26,E$23:E$35,0)) -> 10 | G26: =IF(CC26=0,"",RANK(CC26,CC$4:CC$41,0)) | H26: =IF(F26=1,"Or",IF(F26=2,"Argent",IF(F26=3,"Bronze",""))) | J26: =IF(I26=0,"",RANK(I26,I$23:I$35,0)) | K26: =IF(J26="",0,VLOOKUP(J26,Pointage[#All],2,FALSE)*K$21) -> 0 | M26: =IF(L26=0,"",RANK(L26,L$23:L$35,0)) | N26: =IF(M26="",0,VLOOKUP(M26,Pointage[#All],2,FALSE)*N$21) -> 0 | P26: =IF(O26=0,"",RANK(O26,O$23:O$35,0)) | Q26: =IF(P26="",0,VLOOKUP(P26,Pointage[#All],2,FALSE)*Q$21) -> 0 | S26: =IF(R26=0,"",RANK(R26,R$4:R$41,0)) | T26: =IF(S26="",0,VLOOKUP(S26,Pointage[#All],2,FALSE)*T$21) -> 0 | U26: =IF(K26="","",K26+N26+T26) -> 0 | W26: =IF(V26=0,"",RANK(V26,V$23:V$35,0)) | X26: =IF(W26="",0,VLOOKUP(W26,Pointage[#All],2,FALSE)*X$21) -> 0 | Y26: 63.45 | Z26: =IF(Y26=0,"",RANK(Y26,Y$23:Y$35,0)) -> 1 | AA26: =IF(Z26="",0,VLOOKUP(Z26,Pointage[#All],2,FALSE)*AA$21) -> 18 | AC26: =IF(AB26=0,"",RANK(AB26,AB$23:AB$35,0)) | AD26: =IF(AC26="",0,VLOOKUP(AC26,Pointage[#All],2,FALSE)*AD$21) -> 0 | AF26: =IF(AE26=0,"",RANK(AE26,AE$4:AE$41,0)) | AG26: =IF(AF26="",0,VLOOKUP(AF26,Pointage[#All],2,FALSE)*AG$21) -> 0 | AH26: =AG26+X26+AA26 -> 18 | AJ26: =IF(AI26=0,"",RANK(AI26,AI$23:AI$35,0)) | AK26: =IF(AJ26="",0,VLOOKUP(AJ26,Pointage[#All],2,FALSE)*AK$21) -> 0 | AM26: =IF(AL26=0,"",RANK(AL26,AL$23:AL$35,0)) | AN26: =IF(AM26="",0,VLOOKUP(AM26,Pointage[#All],2,FALSE)*AN$21) -> 0 | AP26: =IF(AO26=0,"",RANK(AO26,AO$23:AO$35,0)) | AQ26: =IF(AP26="",0,VLOOKUP(AP26,Pointage[#All],2,FALSE)*AQ$21) -> 0 | AS26: =IF(AR26=0,"",RANK(AR26,AR$4:AR$41,0)) | AT26: =IF(AS26="",0,VLOOKUP(AS26,Pointage[#All],2,FALSE)*AT$21) -> 0 | AU26: =AT26+AN26+AK26 -> 0 | AW26: =IF(AV26=0,"",RANK(AV26,AV$23:AV$35,0)) | AX26: =IF(AW26="",0,VLOOKUP(AW26,Pointage[#All],2,FALSE)*AX$21) -> 0 | AZ26: =IF(AY26=0,"",RANK(AY26,AY$23:AY$35,0)) | BA26: =IF(AZ26="",0,VLOOKUP(AZ26,Pointage[#All],2,FALSE)*BA$21) -> 0 | BC26: =IF(BB26=0,"",RANK(BB26,BB$23:BB$35,0)) | BD26: =IF(BC26="",0,VLOOKUP(BC26,Pointage[#All],2,FALSE)*BD$21) -> 0 | BF26: =IF(BE26=0,"",RANK(BE26,BE$4:BE$41,0)) | BG26: =IF(BF26="",0,VLOOKUP(BF26,Pointage[#All],2,FALSE)*BG$21) -> 0 | BH26: =IF(BA26="","",BA26+BD26+BG26) -> 0 | BJ26: =IF(BI26=0,"",RANK(BI26,BI$23:BI$35,0)) | BK26: =IF(BJ26="",0,VLOOKUP(BJ26,Pointage[#All],2,FALSE)*BK$21) -> 0 | BM26: =IF(BL26=0,"",RANK(BL26,BL$23:BL$35,0)) | BN26: =IF(BM26="",0,VLOOKUP(BM26,Pointage[#All],2,FALSE)*BN$21) -> 0 | BP26: =IF(BO26=0,"",RANK(BO26,BO$4:BO$41,0)) | BQ26: =IF(BP26="",0,VLOOKUP(BP26,Pointage[#All],2,FALSE)*BQ$21) -> 0 | BR26: =IF(BK26="","",BK26+BN26+BQ26) -> 0 | BT26: =IF(BS26=0,"",RANK(BS26,BS$23:BS$35,0)) | BU26: =IF(BT26="",0,VLOOKUP(BT26,Pointage[#All],2,FALSE)*BU$21) -> 0 | BW26: =IF(BV26=0,"",RANK(BV26,BV$23:BV$35,0)) | BX26: =IF(BW26="",0,VLOOKUP(BW26,Pointage[#All],2,FALSE)*BX$21) -> 0 | BZ26: =IF(BY26=0,"",RANK(BY26,BY$4:BY$41,0)) | CA26: =IF(BZ26="",0,VLOOKUP(BZ26,Pointage[#All],2,FALSE)*CA$21) -> 0 | CB26: =IF(BU26="","",BU26+BX26+CA26)*1.25 -> 0 | CC26: =T26+AG26+AT26+BG26+CA26*1.25+BQ26 -> 0
B27: Éloïse | C27: Couture | D27: Picasso | E27: =U27+AH27++AU27+BH27+CB27+BR27 -> 41 | F27: =IF(E27=0,"",RANK(E27,E$23:E$35,0)) -> 6 | G27: =IF(CC27=0,"",RANK(CC27,CC$4:CC$41,0)) | H27: =IF(F27=1,"Or",IF(F27=2,"Argent",IF(F27=3,"Bronze",""))) | J27: =IF(I27=0,"",RANK(I27,I$23:I$35,0)) | K27: =IF(J27="",0,VLOOKUP(J27,Pointage[#All],2,FALSE)*K$21) -> 0 | M27: =IF(L27=0,"",RANK(L27,L$23:L$35,0)) | N27: =IF(M27="",0,VLOOKUP(M27,Pointage[#All],2,FALSE)*N$21) -> 0 | P27: =IF(O27=0,"",RANK(O27,O$23:O$35,0)) | Q27: =IF(P27="",0,VLOOKUP(P27,Pointage[#All],2,FALSE)*Q$21) -> 0 | S27: =IF(R27=0,"",RANK(R27,R$4:R$41,0)) | T27: =IF(S27="",0,VLOOKUP(S27,Pointage[#All],2,FALSE)*T$21) -> 0 | U27: =IF(K27="","",K27+N27+T27) -> 0 | W27: =IF(V27=0,"",RANK(V27,V$23:V$35,0)) | X27: =IF(W27="",0,VLOOKUP(W27,Pointage[#All],2,FALSE)*X$21) -> 0 | Z27: =IF(Y27=0,"",RANK(Y27,Y$23:Y$35,0)) | AA27: =IF(Z27="",0,VLOOKUP(Z27,Pointage[#All],2,FALSE)*AA$21) -> 0 | AC27: =IF(AB27=0,"",RANK(AB27,AB$23:AB$35,0)) | AD27: =IF(AC27="",0,VLOOKUP(AC27,Pointage[#All],2,FALSE)*AD$21) -> 0 | AF27: =IF(AE27=0,"",RANK(AE27,AE$4:AE$41,0)) | AG27: =IF(AF27="",0,VLOOKUP(AF27,Pointage[#All],2,FALSE)*AG$21) -> 0 | AH27: =AG27+X27+AA27 -> 0 | AI27: 62.12 | AJ27: =IF(AI27=0,"",RANK(AI27,AI$23:AI$35,0)) -> 2 | AK27: =IF(AJ27="",0,VLOOKUP(AJ27,Pointage[#All],2,FALSE)*AK$21) -> 25 | AL27: 62.07 | AM27: =IF(AL27=0,"",RANK(AL27,AL$23:AL$35,0)) -> 3 | AN27: =IF(AM27="",0,VLOOKUP(AM27,Pointage[#All],2,FALSE)*AN$21) -> 16 | AO27: 61 | AP27: =IF(AO27=0,"",RANK(AO27,AO$23:AO$35,0)) -> 2 | AQ27: =IF(AP27="",0,VLOOKUP(AP27,Pointage[#All],2,FALSE)*AQ$21) -> 15 | AS27: =IF(AR27=0,"",RANK(AR27,AR$4:AR$41,0)) | AT27: =IF(AS27="",0,VLOOKUP(AS27,Pointage[#All],2,FALSE)*AT$21) -> 0 | AU27: =AT27+AN27+AK27 -> 41 | AW27: =IF(AV27=0,"",RANK(AV27,AV$23:AV$35,0)) | AX27: =IF(AW27="",0,VLOOKUP(AW27,Pointage[#All],2,FALSE)*AX$21) -> 0 | AZ27: =IF(AY27=0,"",RANK(AY27,AY$23:AY$35,0)) | BA27: =IF(AZ27="",0,VLOOKUP(AZ27,Pointage[#All],2,FALSE)*BA$21) -> 0 | BC27: =IF(BB27=0,"",RANK(BB27,BB$23:BB$35,0)) | BD27: =IF(BC27="",0,VLOOKUP(BC27,Pointage[#All],2,FALSE)*BD$21) -> 0 | BF27: =IF(BE27=0,"",RANK(BE27,BE$4:BE$41,0)) | BG27: =IF(BF27="",0,VLOOKUP(BF27,Pointage[#All],2,FALSE)*BG$21) -> 0 | BH27: =IF(BA27="","",BA27+BD27+BG27) -> 0 | BJ27: =IF(BI27=0,"",RANK(BI27,BI$23:BI$35,0)) | BK27: =IF(BJ27="",0,VLOOKUP(BJ27,Pointage[#All],2,FALSE)*BK$21) -> 0 | BM27: =IF(BL27=0,"",RANK(BL27,BL$23:BL$35,0)) | BN27: =IF(BM27="",0,VLOOKUP(BM27,Pointage[#All],2,FALSE)*BN$21) -> 0 | BP27: =IF(BO27=0,"",RANK(BO27,BO$4:BO$41,0)) | BQ27: =IF(BP27="",0,VLOOKUP(BP27,Pointage[#All],2,FALSE)*BQ$21) -> 0 | BR27: =IF(BK27="","",BK27+BN27+BQ27) -> 0 | BT27: =IF(BS27=0,"",RANK(BS27,BS$23:BS$35,0)) | BU27: =IF(BT27="",0,VLOOKUP(BT27,Pointage[#All],2,FALSE)*BU$21) -> 0 | BW27: =IF(BV27=0,"",RANK(BV27,BV$23:BV$35,0)) | BX27: =IF(BW27="",0,VLOOKUP(BW27,Pointage[#All],2,FALSE)*BX$21) -> 0 | BZ27: =IF(BY27=0,"",RANK(BY27,BY$4:BY$41,0)) | CA27: =IF(BZ27="",0,VLOOKUP(BZ27,Pointage[#All],2,FALSE)*CA$21) -> 0 | CB27: =IF(BU27="","",BU27+BX27+CA27)*1.25 -> 0 | CC27: =T27+AG27+AT27+BG27+CA27*1.25+BQ27 -> 0
B28: Danielle | C28: Fournier-Levesque | D28: Bo Duke | E28: =U28+AH28++AU28+BH28+CB28+BR28 -> 54 | F28: =IF(E28=0,"",RANK(E28,E$23:E$35,0)) -> 3 | G28: =IF(CC28=0,"",RANK(CC28,CC$4:CC$41,0)) | H28: =IF(F28=1,"Or",IF(F28=2,"Argent",IF(F28=3,"Bronze",""))) -> Bronze | J28: =IF(I28=0,"",RANK(I28,I$23:I$35,0)) | K28: =IF(J28="",0,VLOOKUP(J28,Pointage[#All],2,FALSE)*K$21) -> 0 | M28: =IF(L28=0,"",RANK(L28,L$23:L$35,0)) | N28: =IF(M28="",0,VLOOKUP(M28,Pointage[#All],2,FALSE)*N$21) -> 0 | P28: =IF(O28=0,"",RANK(O28,O$23:O$35,0)) | Q28: =IF(P28="",0,VLOOKUP(P28,Pointage[#All],2,FALSE)*Q$21) -> 0 | S28: =IF(R28=0,"",RANK(R28,R$4:R$41,0)) | T28: =IF(S28="",0,VLOOKUP(S28,Pointage[#All],2,FALSE)*T$21) -> 0 | U28: =IF(K28="","",K28+N28+T28) -> 0 | W28: =IF(V28=0,"",RANK(V28,V$23:V$35,0)) | X28: =IF(W28="",0,VLOOKUP(W28,Pointage[#All],2,FALSE)*X$21) -> 0 | Z28: =IF(Y28=0,"",RANK(Y28,Y$23:Y$35,0)) | AA28: =IF(Z28="",0,VLOOKUP(Z28,Pointage[#All],2,FALSE)*AA$21) -> 0 | AC28: =IF(AB28=0,"",RANK(AB28,AB$23:AB$35,0)) | AD28: =IF(AC28="",0,VLOOKUP(AC28,Pointage[#All],2,FALSE)*AD$21) -> 0 | AF28: =IF(AE28=0,"",RANK(AE28,AE$4:AE$41,0)) | AG28: =IF(AF28="",0,VLOOKUP(AF28,Pointage[#All],2,FALSE)*AG$21) -> 0 | AH28: =AG28+X28+AA28 -> 0 | AI28: 62.88 | AJ28: =IF(AI28=0,"",RANK(AI28,AI$23:AI$35,0)) -> 1 | AK28: =IF(AJ28="",0,VLOOKUP(AJ28,Pointage[#All],2,FALSE)*AK$21) -> 30 | AL28: 64.31 | AM28: =IF(AL28=0,"",RANK(AL28,AL$23:AL$35,0)) -> 1 | AN28: =IF(AM28="",0,VLOOKUP(AM28,Pointage[#All],2,FALSE)*AN$21) -> 24 | AP28: =IF(AO28=0,"",RANK(AO28,AO$23:AO$35,0)) | AQ28: =IF(AP28="",0,VLOOKUP(AP28,Pointage[#All],2,FALSE)*AQ$21) -> 0 | AS28: =IF(AR28=0,"",RANK(AR28,AR$4:AR$41,0)) | AT28: =IF(AS28="",0,VLOOKUP(AS28,Pointage[#All],2,FALSE)*AT$21) -> 0 | AU28: =AT28+AN28+AK28 -> 54 | AW28: =IF(AV28=0,"",RANK(AV28,AV$23:AV$35,0)) | AX28: =IF(AW28="",0,VLOOKUP(AW28,Pointage[#All],2,FALSE)*AX$21) -> 0 | AZ28: =IF(AY28=0,"",RANK(AY28,AY$23:AY$35,0)) | BA28: =IF(AZ28="",0,VLOOKUP(AZ28,Pointage[#All],2,FALSE)*BA$21) -> 0 | BC28: =IF(BB28=0,"",RANK(BB28,BB$23:BB$35,0)) | BD28: =IF(BC28="",0,VLOOKUP(BC28,Pointage[#All],2,FALSE)*BD$21) -> 0 | BF28: =IF(BE28=0,"",RANK(BE28,BE$4:BE$41,0)) | BG28: =IF(BF28="",0,VLOOKUP(BF28,Pointage[#All],2,FALSE)*BG$21) -> 0 | BH28: =IF(BA28="","",BA28+BD28+BG28) -> 0 | BJ28: =IF(BI28=0,"",RANK(BI28,BI$23:BI$35,0)) | BK28: =IF(BJ28="",0,VLOOKUP(BJ28,Pointage[#All],2,FALSE)*BK$21) -> 0 | BM28: =IF(BL28=0,"",RANK(BL28,BL$23:BL$35,0)) | BN28: =IF(BM28="",0,VLOOKUP(BM28,Pointage[#All],2,FALSE)*BN$21) -> 0 | BP28: =IF(BO28=0,"",RANK(BO28,BO$4:BO$41,0)) | BQ28: =IF(BP28="",0,VLOOKUP(BP28,Pointage[#All],2,FALSE)*BQ$21) -> 0 | BR28: =IF(BK28="","",BK28+BN28+BQ28) -> 0 | BT28: =IF(BS28=0,"",RANK(BS28,BS$23:BS$35,0)) | BU28: =IF(BT28="",0,VLOOKUP(BT28,Pointage[#All],2,FALSE)*BU$21) -> 0 | BW28: =IF(BV28=0,"",RANK(BV28,BV$23:BV$35,0)) | BX28: =IF(BW28="",0,VLOOKUP(BW28,Pointage[#All],2,FALSE)*BX$21) -> 0 | BZ28: =IF(BY28=0,"",RANK(BY28,BY$4:BY$41,0)) | CA28: =IF(BZ28="",0,VLOOKUP(BZ28,Pointage[#All],2,FALSE)*CA$21) -> 0 | CB28: =IF(BU28="","",BU28+BX28+CA28)*1.25 -> 0 | CC28: =T28+AG28+AT28+BG28+CA28*1.25+BQ28 -> 0
B29: Audrey-Ann | C29: Morin | D29: Calypso | E29: =U29+AH29++AU29+BH29+CB29+BR29 -> 20 | F29: =IF(E29=0,"",RANK(E29,E$23:E$35,0)) -> 9 | G29: =IF(CC29=0,"",RANK(CC29,CC$4:CC$41,0)) | H29: =IF(F29=1,"Or",IF(F29=2,"Argent",IF(F29=3,"Bronze",""))) | J29: =IF(I29=0,"",RANK(I29,I$23:I$35,0)) | K29: =IF(J29="",0,VLOOKUP(J29,Pointage[#All],2,FALSE)*K$21) -> 0 | M29: =IF(L29=0,"",RANK(L29,L$23:L$35,0)) | N29: =IF(M29="",0,VLOOKUP(M29,Pointage[#All],2,FALSE)*N$21) -> 0 | P29: =IF(O29=0,"",RANK(O29,O$23:O$35,0)) | Q29: =IF(P29="",0,VLOOKUP(P29,Pointage[#All],2,FALSE)*Q$21) -> 0 | S29: =IF(R29=0,"",RANK(R29,R$4:R$41,0)) | T29: =IF(S29="",0,VLOOKUP(S29,Pointage[#All],2,FALSE)*T$21) -> 0 | U29: =IF(K29="","",K29+N29+T29) -> 0 | W29: =IF(V29=0,"",RANK(V29,V$23:V$35,0)) | X29: =IF(W29="",0,VLOOKUP(W29,Pointage[#All],2,FALSE)*X$21) -> 0 | Z29: =IF(Y29=0,"",RANK(Y29,Y$23:Y$35,0)) | AA29: =IF(Z29="",0,VLOOKUP(Z29,Pointage[#All],2,FALSE)*AA$21) -> 0 | AC29: =IF(AB29=0,"",RANK(AB29,AB$23:AB$35,0)) | AD29: =IF(AC29="",0,VLOOKUP(AC29,Pointage[#All],2,FALSE)*AD$21) -> 0 | AF29: =IF(AE29=0,"",RANK(AE29,AE$4:AE$41,0)) | AG29: =IF(AF29="",0,VLOOKUP(AF29,Pointage[#All],2,FALSE)*AG$21) -> 0 | AH29: =IF(X29="","",X29+AA29+AG29) -> 0 | AI29: 61.92 | AJ29: =IF(AI29=0,"",RANK(AI29,AI$23:AI$35,0)) -> 3 | AK29: =IF(AJ29="",0,VLOOKUP(AJ29,Pointage[#All],2,FALSE)*AK$21) -> 20 | AM29: =IF(AL29=0,"",RANK(AL29,AL$23:AL$35,0)) | AN29: =IF(AM29="",0,VLOOKUP(AM29,Pointage[#All],2,FALSE)*AN$21) -> 0 | AP29: =IF(AO29=0,"",RANK(AO29,AO$23:AO$35,0)) | AQ29: =IF(AP29="",0,VLOOKUP(AP29,Pointage[#All],2,FALSE)*AQ$21) -> 0 | AS29: =IF(AR29=0,"",RANK(AR29,AR$4:AR$41,0)) | AT29: =IF(AS29="",0,VLOOKUP(AS29,Pointage[#All],2,FALSE)*AT$21) -> 0 | AU29: =AT29+AN29+AK29 -> 20 | AW29: =IF(AV29=0,"",RANK(AV29,AV$23:AV$35,0)) | AX29: =IF(AW29="",0,VLOOKUP(AW29,Pointage[#All],2,FALSE)*AX$21) -> 0 | AZ29: =IF(AY29=0,"",RANK(AY29,AY$23:AY$35,0)) | BA29: =IF(AZ29="",0,VLOOKUP(AZ29,Pointage[#All],2,FALSE)*BA$21) -> 0 | BC29: =IF(BB29=0,"",RANK(BB29,BB$23:BB$35,0)) | BD29: =IF(BC29="",0,VLOOKUP(BC29,Pointage[#All],2,FALSE)*BD$21) -> 0 | BF29: =IF(BE29=0,"",RANK(BE29,BE$4:BE$41,0)) | BG29: =IF(BF29="",0,VLOOKUP(BF29,Pointage[#All],2,FALSE)*BG$21) -> 0 | BH29: =IF(BA29="","",BA29+BD29+BG29) -> 0 | BJ29: =IF(BI29=0,"",RANK(BI29,BI$23:BI$35,0)) | BK29: =IF(BJ29="",0,VLOOKUP(BJ29,Pointage[#All],2,FALSE)*BK$21) -> 0 | BM29: =IF(BL29=0,"",RANK(BL29,BL$23:BL$35,0)) | BN29: =IF(BM29="",0,VLOOKUP(BM29,Pointage[#All],2,FALSE)*BN$21) -> 0 | BP29: =IF(BO29=0,"",RANK(BO29,BO$4:BO$41,0)) | BQ29: =IF(BP29="",0,VLOOKUP(BP29,Pointage[#All],2,FALSE)*BQ$21) -> 0 | BR29: =IF(BK29="","",BK29+BN29+BQ29) -> 0 | BT29: =IF(BS29=0,"",RANK(BS29,BS$23:BS$35,0)) | BU29: =IF(BT29="",0,VLOOKUP(BT29,Pointage[#All],2,FALSE)*BU$21) -> 0 | BW29: =IF(BV29=0,"",RANK(BV29,BV$23:BV$35,0)) | BX29: =IF(BW29="",0,VLOOKUP(BW29,Pointage[#All],2,FALSE)*BX$21) -> 0 | BZ29: =IF(BY29=0,"",RANK(BY29,BY$4:BY$41,0)) | CA29: =IF(BZ29="",0,VLOOKUP(BZ29,Pointage[#All],2,FALSE)*CA$21) -> 0 | CB29: =IF(BU29="","",BU29+BX29+CA29)*1.25 -> 0 | CC29: =T29+AG29+AT29+BG29+CA29*1.25+BQ29 -> 0
B30: Annie | C30: Levesque | D30: George Cluny | E30: =U30+AH30++AU30+BH30+CB30+BR30 -> 6 | F30: =IF(E30=0,"",RANK(E30,E$23:E$35,0)) -> 11 | G30: =IF(CC30=0,"",RANK(CC30,CC$4:CC$41,0)) | H30: =IF(F30=1,"Or",IF(F30=2,"Argent",IF(F30=3,"Bronze",""))) | J30: =IF(I30=0,"",RANK(I30,I$23:I$35,0)) | K30: =IF(J30="",0,VLOOKUP(J30,Pointage[#All],2,FALSE)*K$21) -> 0 | M30: =IF(L30=0,"",RANK(L30,L$23:L$35,0)) | N30: =IF(M30="",0,VLOOKUP(M30,Pointage[#All],2,FALSE)*N$21) -> 0 | P30: =IF(O30=0,"",RANK(O30,O$23:O$35,0)) | Q30: =IF(P30="",0,VLOOKUP(P30,Pointage[#All],2,FALSE)*Q$21) -> 0 | S30: =IF(R30=0,"",RANK(R30,R$4:R$41,0)) | T30: =IF(S30="",0,VLOOKUP(S30,Pointage[#All],2,FALSE)*T$21) -> 0 | U30: =IF(K30="","",K30+N30+T30) -> 0 | W30: =IF(V30=0,"",RANK(V30,V$23:V$35,0)) | X30: =IF(W30="",0,VLOOKUP(W30,Pointage[#All],2,FALSE)*X$21) -> 0 | Z30: =IF(Y30=0,"",RANK(Y30,Y$23:Y$35,0)) | AA30: =IF(Z30="",0,VLOOKUP(Z30,Pointage[#All],2,FALSE)*AA$21) -> 0 | AC30: =IF(AB30=0,"",RANK(AB30,AB$23:AB$35,0)) | AD30: =IF(AC30="",0,VLOOKUP(AC30,Pointage[#All],2,FALSE)*AD$21) -> 0 | AF30: =IF(AE30=0,"",RANK(AE30,AE$4:AE$41,0)) | AG30: =IF(AF30="",0,VLOOKUP(AF30,Pointage[#All],2,FALSE)*AG$21) -> 0 | AH30: =IF(X30="","",X30+AA30+AG30) -> 0 | AJ30: =IF(AI30=0,"",RANK(AI30,AI$23:AI$35,0)) | AK30: =IF(AJ30="",0,VLOOKUP(AJ30,Pointage[#All],2,FALSE)*AK$21) -> 0 | AM30: =IF(AL30=0,"",RANK(AL30,AL$23:AL$35,0)) | AN30: =IF(AM30="",0,VLOOKUP(AM30,Pointage[#All],2,FALSE)*AN$21) -> 0 | AP30: =IF(AO30=0,"",RANK(AO30,AO$23:AO$35,0)) | AQ30: =IF(AP30="",0,VLOOKUP(AP30,Pointage[#All],2,FALSE)*AQ$21) -> 0 | AS30: =IF(AR30=0,"",RANK(AR30,AR$4:AR$41,0)) | AT30: =IF(AS30="",0,VLOOKUP(AS30,Pointage[#All],2,FALSE)*AT$21) -> 0 | AU30: =AT30+AN30+AK30 -> 0 | AW30: =IF(AV30=0,"",RANK(AV30,AV$23:AV$35,0)) | AX30: =IF(AW30="",0,VLOOKUP(AW30,Pointage[#All],2,FALSE)*AX$21) -> 0 | AZ30: =IF(AY30=0,"",RANK(AY30,AY$23:AY$35,0)) | BA30: =IF(AZ30="",0,VLOOKUP(AZ30,Pointage[#All],2,FALSE)*BA$21) -> 0 | BB30: 49 | BC30: =IF(BB30=0,"",RANK(BB30,BB$23:BB$35,0)) -> 1 | BD30: =IF(BC30="",0,VLOOKUP(BC30,Pointage[#All],2,FALSE)*BD$21) -> 6 | BF30: =IF(BE30=0,"",RANK(BE30,BE$4:BE$41,0)) | BG30: =IF(BF30="",0,VLOOKUP(BF30,Pointage[#All],2,FALSE)*BG$21) -> 0 | BH30: =IF(BA30="","",BA30+BD30+BG30) -> 6 | BJ30: =IF(BI30=0,"",RANK(BI30,BI$23:BI$35,0)) | BK30: =IF(BJ30="",0,VLOOKUP(BJ30,Pointage[#All],2,FALSE)*BK$21) -> 0 | BM30: =IF(BL30=0,"",RANK(BL30,BL$23:BL$35,0)) | BN30: =IF(BM30="",0,VLOOKUP(BM30,Pointage[#All],2,FALSE)*BN$21) -> 0 | BP30: =IF(BO30=0,"",RANK(BO30,BO$4:BO$41,0)) | BQ30: =IF(BP30="",0,VLOOKUP(BP30,Pointage[#All],2,FALSE)*BQ$21) -> 0 | BR30: =IF(BK30="","",BK30+BN30+BQ30) -> 0 | BT30: =IF(BS30=0,"",RANK(BS30,BS$23:BS$35,0)) | BU30: =IF(BT30="",0,VLOOKUP(BT30,Pointage[#All],2,FALSE)*BU$21) -> 0 | BW30: =IF(BV30=0,"",RANK(BV30,BV$23:BV$35,0)) | BX30: =IF(BW30="",0,VLOOKUP(BW30,Pointage[#All],2,FALSE)*BX$21) -> 0 | BZ30: =IF(BY30=0,"",RANK(BY30,BY$4:BY$41,0)) | CA30: =IF(BZ30="",0,VLOOKUP(BZ30,Pointage[#All],2,FALSE)*CA$21) -> 0 | CB30: =IF(BU30="","",BU30+BX30+CA30)*1.25 -> 0 | CC30: =T30+AG30+AT30+BG30+CA30*1.25+BQ30 -> 0
B31: Eliana | C31: Henry | D31: Moka | E31: =U31+AH31++AU31+BH31+CB31+BR31 -> 24 | F31: =IF(E31=0,"",RANK(E31,E$23:E$35,0)) -> 8 | G31: =IF(CC31=0,"",RANK(CC31,CC$4:CC$41,0)) | H31: =IF(F31=1,"Or",IF(F31=2,"Argent",IF(F31=3,"Bronze",""))) | J31: =IF(I31=0,"",RANK(I31,I$23:I$35,0)) | K31: =IF(J31="",0,VLOOKUP(J31,Pointage[#All],2,FALSE)*K$21) -> 0 | M31: =IF(L31=0,"",RANK(L31,L$23:L$35,0)) | N31: =IF(M31="",0,VLOOKUP(M31,Pointage[#All],2,FALSE)*N$21) -> 0 | P31: =IF(O31=0,"",RANK(O31,O$23:O$35,0)) | Q31: =IF(P31="",0,VLOOKUP(P31,Pointage[#All],2,FALSE)*Q$21) -> 0 | S31: =IF(R31=0,"",RANK(R31,R$4:R$41,0)) | T31: =IF(S31="",0,VLOOKUP(S31,Pointage[#All],2,FALSE)*T$21) -> 0 | U31: =IF(K31="","",K31+N31+T31) -> 0 | W31: =IF(V31=0,"",RANK(V31,V$23:V$35,0)) | X31: =IF(W31="",0,VLOOKUP(W31,Pointage[#All],2,FALSE)*X$21) -> 0 | Z31: =IF(Y31=0,"",RANK(Y31,Y$23:Y$35,0)) | AA31: =IF(Z31="",0,VLOOKUP(Z31,Pointage[#All],2,FALSE)*AA$21) -> 0 | AC31: =IF(AB31=0,"",RANK(AB31,AB$23:AB$35,0)) | AD31: =IF(AC31="",0,VLOOKUP(AC31,Pointage[#All],2,FALSE)*AD$21) -> 0 | AF31: =IF(AE31=0,"",RANK(AE31,AE$4:AE$41,0)) | AG31: =IF(AF31="",0,VLOOKUP(AF31,Pointage[#All],2,FALSE)*AG$21) -> 0 | AH31: =IF(X31="","",X31+AA31+AG31) -> 0 | AJ31: =IF(AI31=0,"",RANK(AI31,AI$23:AI$35,0)) | AK31: =IF(AJ31="",0,VLOOKUP(AJ31,Pointage[#All],2,FALSE)*AK$21) -> 0 | AP31: =IF(AO31=0,"",RANK(AO31,AO$23:AO$35,0)) | AQ31: =IF(AP31="",0,VLOOKUP(AP31,Pointage[#All],2,FALSE)*AQ$21) -> 0 | AS31: =IF(AR31=0,"",RANK(AR31,AR$4:AR$41,0)) | AT31: =IF(AS31="",0,VLOOKUP(AS31,Pointage[#All],2,FALSE)*AT$21) -> 0 | AU31: =IF(AK31="","",AK31+AQ31+AT31) -> 0 | AW31: =IF(AV31=0,"",RANK(AV31,AV$23:AV$35,0)) | AX31: =IF(AW31="",0,VLOOKUP(AW31,Pointage[#All],2,FALSE)*AX$21) -> 0 | AZ31: =IF(AY31=0,"",RANK(AY31,AY$23:AY$35,0)) | BA31: =IF(AZ31="",0,VLOOKUP(AZ31,Pointage[#All],2,FALSE)*BA$21) -> 0 | BC31: =IF(BB31=0,"",RANK(BB31,BB$23:BB$35,0)) | BD31: =IF(BC31="",0,VLOOKUP(BC31,Pointage[#All],2,FALSE)*BD$21) -> 0 | BF31: =IF(BE31=0,"",RANK(BE31,BE$4:BE$41,0)) | BG31: =IF(BF31="",0,VLOOKUP(BF31,Pointage[#All],2,FALSE)*BG$21) -> 0 | BH31: =IF(BA31="","",BA31+BD31+BG31) -> 0 | BI31: 64.14 | BJ31: =IF(BI31=0,"",RANK(BI31,BI$23:BI$35,0)) -> 1 | BK31: =IF(BJ31="",0,VLOOKUP(BJ31,Pointage[#All],2,FALSE)*BK$21) -> 12 | BL31: 63.4 | BM31: =IF(BL31=0,"",RANK(BL31,BL$23:BL$35,0)) -> 1 | BN31: =IF(BM31="",0,VLOOKUP(BM31,Pointage[#All],2,FALSE)*BN$21) -> 12 | BP31: =IF(BO31=0,"",RANK(BO31,BO$4:BO$41,0)) | BQ31: =IF(BP31="",0,VLOOKUP(BP31,Pointage[#All],2,FALSE)*BQ$21) -> 0 | BR31: =IF(BK31="","",BK31+BN31+BQ31) -> 24 | BT31: =IF(BS31=0,"",RANK(BS31,BS$23:BS$35,0)) | BU31: =IF(BT31="",0,VLOOKUP(BT31,Pointage[#All],2,FALSE)*BU$21) -> 0 | BW31: =IF(BV31=0,"",RANK(BV31,BV$23:BV$35,0)) | BX31: =IF(BW31="",0,VLOOKUP(BW31,Pointage[#All],2,FALSE)*BX$21) -> 0 | BZ31: =IF(BY31=0,"",RANK(BY31,BY$4:BY$41,0)) | CA31: =IF(BZ31="",0,VLOOKUP(BZ31,Pointage[#All],2,FALSE)*CA$21) -> 0 | CB31: =IF(BU31="","",BU31+BX31+CA31)*1.25 -> 0 | CC31: =T31+AG31+AT31+BG31+CA31*1.25+BQ31 -> 0
B32: Jade | C32: Berthiaume | D32: Coyote | E32: =U32+AH32++AU32+BH32+CB32 -> 43.75 | F32: =IF(E32=0,"",RANK(E32,E$23:E$35,0)) -> 5 | G32: =IF(CC32=0,"",RANK(CC32,CC$4:CC$41,0)) | H32: =IF(F32=1,"Or",IF(F32=2,"Argent",IF(F32=3,"Bronze",""))) | J32: =IF(I32=0,"",RANK(I32,I$23:I$35,0)) | K32: =IF(J32="",0,VLOOKUP(J32,Pointage[#All],2,FALSE)*K$21) -> 0 | M32: =IF(L32=0,"",RANK(L32,L$23:L$35,0)) | N32: =IF(M32="",0,VLOOKUP(M32,Pointage[#All],2,FALSE)*N$21) -> 0 | P32: =IF(O32=0,"",RANK(O32,O$23:O$35,0)) | Q32: =IF(P32="",0,VLOOKUP(P32,Pointage[#All],2,FALSE)*Q$21) -> 0 | S32: =IF(R32=0,"",RANK(R32,R$4:R$41,0)) | T32: =IF(S32="",0,VLOOKUP(S32,Pointage[#All],2,FALSE)*T$21) -> 0 | U32: =IF(K32="","",K32+N32+T32) -> 0 | W32: =IF(V32=0,"",RANK(V32,V$23:V$35,0)) | X32: =IF(W32="",0,VLOOKUP(W32,Pointage[#All],2,FALSE)*X$21) -> 0 | Z32: =IF(Y32=0,"",RANK(Y32,Y$23:Y$35,0)) | AA32: =IF(Z32="",0,VLOOKUP(Z32,Pointage[#All],2,FALSE)*AA$21) -> 0 | AC32: =IF(AB32=0,"",RANK(AB32,AB$23:AB$35,0)) | AD32: =IF(AC32="",0,VLOOKUP(AC32,Pointage[#All],2,FALSE)*AD$21) -> 0 | AF32: =IF(AE32=0,"",RANK(AE32,AE$4:AE$41,0)) | AG32: =IF(AF32="",0,VLOOKUP(AF32,Pointage[#All],2,FALSE)*AG$21) -> 0 | AH32: =IF(X32="","",X32+AA32+AG32) -> 0 | AJ32: =IF(AI32=0,"",RANK(AI32,AI$23:AI$35,0)) | AK32: =IF(AJ32="",0,VLOOKUP(AJ32,Pointage[#All],2,FALSE)*AK$21) -> 0 | AP32: =IF(AO32=0,"",RANK(AO32,AO$23:AO$35,0)) | AQ32: =IF(AP32="",0,VLOOKUP(AP32,Pointage[#All],2,FALSE)*AQ$21) -> 0 | AS32: =IF(AR32=0,"",RANK(AR32,AR$4:AR$41,0)) | AT32: =IF(AS32="",0,VLOOKUP(AS32,Pointage[#All],2,FALSE)*AT$21) -> 0 | AU32: =IF(AK32="","",AK32+AQ32+AT32) -> 0 | AW32: =IF(AV32=0,"",RANK(AV32,AV$23:AV$35,0)) | AX32: =IF(AW32="",0,VLOOKUP(AW32,Pointage[#All],2,FALSE)*AX$21) -> 0 | AZ32: =IF(AY32=0,"",RANK(AY32,AY$23:AY$35,0)) | BA32: =IF(AZ32="",0,VLOOKUP(AZ32,Pointage[#All],2,FALSE)*BA$21) -> 0 | BC32: =IF(BB32=0,"",RANK(BB32,BB$23:BB$35,0)) | BD32: =IF(BC32="",0,VLOOKUP(BC32,Pointage[#All],2,FALSE)*BD$21) -> 0 | BF32: =IF(BE32=0,"",RANK(BE32,BE$4:BE$41,0)) | BG32: =IF(BF32="",0,VLOOKUP(BF32,Pointage[#All],2,FALSE)*BG$21) -> 0 | BH32: =IF(BA32="","",BA32+BD32+BG32) -> 0 | BJ32: =IF(BI32=0,"",RANK(BI32,BI$23:BI$35,0)) | BK32: =IF(BJ32="",0,VLOOKUP(BJ32,Pointage[#All],2,FALSE)*BK$21) -> 0 | BM32: =IF(BL32=0,"",RANK(BL32,BL$23:BL$35,0)) | BN32: =IF(BM32="",0,VLOOKUP(BM32,Pointage[#All],2,FALSE)*BN$21) -> 0 | BP32: =IF(BO32=0,"",RANK(BO32,BO$4:BO$41,0)) | BQ32: =IF(BP32="",0,VLOOKUP(BP32,Pointage[#All],2,FALSE)*BQ$21) -> 0 | BR32: =IF(BK32="","",BK32+BN32+BQ32) -> 0 | BS32: 66.896 | BT32: =IF(BS32=0,"",RANK(BS32,BS$23:BS$35,0)) -> 2 | BU32: =IF(BT32="",0,VLOOKUP(BT32,Pointage[#All],2,FALSE)*BU$21) -> 20 | BV32: 65.6 | BW32: =IF(BV32=0,"",RANK(BV32,BV$23:BV$35,0)) -> 2 | BX32: =IF(BW32="",0,VLOOKUP(BW32,Pointage[#All],2,FALSE)*BX$21) -> 15 | BZ32: =IF(BY32=0,"",RANK(BY32,BY$4:BY$41,0)) | CA32: =IF(BZ32="",0,VLOOKUP(BZ32,Pointage[#All],2,FALSE)*CA$21) -> 0 | CB32: =IF(BU32="","",BU32+BX32+CA32)*1.25 -> 43.75 | CC32: =T32+AG32+AT32+BG32+CA32*1.25+BQ32 -> 0
B33: Camille | C33: Pelletier | D33: Maggie | E33: =U33+AH33++AU33+BH33+CB33 -> 30 | F33: =IF(E33=0,"",RANK(E33,E$23:E$35,0)) -> 7 | G33: =IF(CC33=0,"",RANK(CC33,CC$4:CC$41,0)) -> 9 | H33: =IF(F33=1,"Or",IF(F33=2,"Argent",IF(F33=3,"Bronze",""))) | J33: =IF(I33=0,"",RANK(I33,I$23:I$35,0)) | K33: =IF(J33="",0,VLOOKUP(J33,Pointage[#All],2,FALSE)*K$21) -> 0 | M33: =IF(L33=0,"",RANK(L33,L$23:L$35,0)) | N33: =IF(M33="",0,VLOOKUP(M33,Pointage[#All],2,FALSE)*N$21) -> 0 | P33: =IF(O33=0,"",RANK(O33,O$23:O$35,0)) | Q33: =IF(P33="",0,VLOOKUP(P33,Pointage[#All],2,FALSE)*Q$21) -> 0 | S33: =IF(R33=0,"",RANK(R33,R$4:R$41,0)) | T33: =IF(S33="",0,VLOOKUP(S33,Pointage[#All],2,FALSE)*T$21) -> 0 | U33: =IF(K33="","",K33+N33+T33) -> 0 | W33: =IF(V33=0,"",RANK(V33,V$23:V$35,0)) | X33: =IF(W33="",0,VLOOKUP(W33,Pointage[#All],2,FALSE)*X$21) -> 0 | Z33: =IF(Y33=0,"",RANK(Y33,Y$23:Y$35,0)) | AA33: =IF(Z33="",0,VLOOKUP(Z33,Pointage[#All],2,FALSE)*AA$21) -> 0 | AC33: =IF(AB33=0,"",RANK(AB33,AB$23:AB$35,0)) | AD33: =IF(AC33="",0,VLOOKUP(AC33,Pointage[#All],2,FALSE)*AD$21) -> 0 | AF33: =IF(AE33=0,"",RANK(AE33,AE$4:AE$41,0)) | AG33: =IF(AF33="",0,VLOOKUP(AF33,Pointage[#All],2,FALSE)*AG$21) -> 0 | AH33: =IF(X33="","",X33+AA33+AG33) -> 0 | AJ33: =IF(AI33=0,"",RANK(AI33,AI$23:AI$35,0)) | AK33: =IF(AJ33="",0,VLOOKUP(AJ33,Pointage[#All],2,FALSE)*AK$21) -> 0 | AP33: =IF(AO33=0,"",RANK(AO33,AO$23:AO$35,0)) | AQ33: =IF(AP33="",0,VLOOKUP(AP33,Pointage[#All],2,FALSE)*AQ$21) -> 0 | AS33: =IF(AR33=0,"",RANK(AR33,AR$4:AR$41,0)) | AT33: =IF(AS33="",0,VLOOKUP(AS33,Pointage[#All],2,FALSE)*AT$21) -> 0 | AU33: =IF(AK33="","",AK33+AQ33+AT33) -> 0 | AW33: =IF(AV33=0,"",RANK(AV33,AV$23:AV$35,0)) | AX33: =IF(AW33="",0,VLOOKUP(AW33,Pointage[#All],2,FALSE)*AX$21) -> 0 | AZ33: =IF(AY33=0,"",RANK(AY33,AY$23:AY$35,0)) | BA33: =IF(AZ33="",0,VLOOKUP(AZ33,Pointage[#All],2,FALSE)*BA$21) -> 0 | BC33: =IF(BB33=0,"",RANK(BB33,BB$23:BB$35,0)) | BD33: =IF(BC33="",0,VLOOKUP(BC33,Pointage[#All],2,FALSE)*BD$21) -> 0 | BF33: =IF(BE33=0,"",RANK(BE33,BE$4:BE$41,0)) | BG33: =IF(BF33="",0,VLOOKUP(BF33,Pointage[#All],2,FALSE)*BG$21) -> 0 | BH33: =IF(BA33="","",BA33+BD33+BG33) -> 0 | BJ33: =IF(BI33=0,"",RANK(BI33,BI$23:BI$35,0)) | BK33: =IF(BJ33="",0,VLOOKUP(BJ33,Pointage[#All],2,FALSE)*BK$21) -> 0 | BM33: =IF(BL33=0,"",RANK(BL33,BL$23:BL$35,0)) | BN33: =IF(BM33="",0,VLOOKUP(BM33,Pointage[#All],2,FALSE)*BN$21) -> 0 | BP33: =IF(BO33=0,"",RANK(BO33,BO$4:BO$41,0)) | BQ33: =IF(BP33="",0,VLOOKUP(BP33,Pointage[#All],2,FALSE)*BQ$21) -> 0 | BR33: =IF(BK33="","",BK33+BN33+BQ33) -> 0 | BS33: 60.862 | BT33: =IF(BS33=0,"",RANK(BS33,BS$23:BS$35,0)) -> 4 | BU33: =IF(BT33="",0,VLOOKUP(BT33,Pointage[#All],2,FALSE)*BU$21) -> 12 | BW33: =IF(BV33=0,"",RANK(BV33,BV$23:BV$35,0)) | BX33: =IF(BW33="",0,VLOOKUP(BW33,Pointage[#All],2,FALSE)*BX$21) -> 0 | BY33: 61.235 | BZ33: =IF(BY33=0,"",RANK(BY33,BY$4:BY$41,0)) -> 5 | CA33: =IF(BZ33="",0,VLOOKUP(BZ33,Pointage[#All],2,FALSE)*CA$21) -> 12 | CB33: =IF(BU33="","",BU33+BX33+CA33)*1.25 -> 30 | CC33: =T33+AG33+AT33+BG33+CA33*1.25+BQ33 -> 15
E34: =U34+AH34++AU34+BH34+CB34 -> 0 | F34: =IF(E34=0,"",RANK(E34,E$23:E$35,0)) | G34: =IF(CC34=0,"",RANK(CC34,CC$4:CC$41,0)) | H34: =IF(F34=1,"Or",IF(F34=2,"Argent",IF(F34=3,"Bronze",""))) | J34: =IF(I34=0,"",RANK(I34,I$23:I$35,0)) | K34: =IF(J34="",0,VLOOKUP(J34,Pointage[#All],2,FALSE)*K$21) -> 0 | M34: =IF(L34=0,"",RANK(L34,L$23:L$35,0)) | N34: =IF(M34="",0,VLOOKUP(M34,Pointage[#All],2,FALSE)*N$21) -> 0 | P34: =IF(O34=0,"",RANK(O34,O$23:O$35,0)) | Q34: =IF(P34="",0,VLOOKUP(P34,Pointage[#All],2,FALSE)*Q$21) -> 0 | S34: =IF(R34=0,"",RANK(R34,R$4:R$41,0)) | T34: =IF(S34="",0,VLOOKUP(S34,Pointage[#All],2,FALSE)*T$21) -> 0 | U34: =IF(K34="","",K34+N34+T34) -> 0 | W34: =IF(V34=0,"",RANK(V34,V$23:V$35,0)) | X34: =IF(W34="",0,VLOOKUP(W34,Pointage[#All],2,FALSE)*X$21) -> 0 | Z34: =IF(Y34=0,"",RANK(Y34,Y$23:Y$35,0)) | AA34: =IF(Z34="",0,VLOOKUP(Z34,Pointage[#All],2,FALSE)*AA$21) -> 0 | AC34: =IF(AB34=0,"",RANK(AB34,AB$23:AB$35,0)) | AD34: =IF(AC34="",0,VLOOKUP(AC34,Pointage[#All],2,FALSE)*AD$21) -> 0 | AF34: =IF(AE34=0,"",RANK(AE34,AE$4:AE$41,0)) | AG34: =IF(AF34="",0,VLOOKUP(AF34,Pointage[#All],2,FALSE)*AG$21) -> 0 | AH34: =IF(X34="","",X34+AA34+AG34) -> 0 | AJ34: =IF(AI34=0,"",RANK(AI34,AI$23:AI$35,0)) | AK34: =IF(AJ34="",0,VLOOKUP(AJ34,Pointage[#All],2,FALSE)*AK$21) -> 0 | AP34: =IF(AO34=0,"",RANK(AO34,AO$23:AO$35,0)) | AQ34: =IF(AP34="",0,VLOOKUP(AP34,Pointage[#All],2,FALSE)*AQ$21) -> 0 | AS34: =IF(AR34=0,"",RANK(AR34,AR$4:AR$41,0)) | AT34: =IF(AS34="",0,VLOOKUP(AS34,Pointage[#All],2,FALSE)*AT$21) -> 0 | AU34: =IF(AK34="","",AK34+AQ34+AT34) -> 0 | AW34: =IF(AV34=0,"",RANK(AV34,AV$23:AV$35,0)) | AX34: =IF(AW34="",0,VLOOKUP(AW34,Pointage[#All],2,FALSE)*AX$21) -> 0 | AZ34: =IF(AY34=0,"",RANK(AY34,AY$23:AY$35,0)) | BA34: =IF(AZ34="",0,VLOOKUP(AZ34,Pointage[#All],2,FALSE)*BA$21) -> 0 | BC34: =IF(BB34=0,"",RANK(BB34,BB$23:BB$35,0)) | BD34: =IF(BC34="",0,VLOOKUP(BC34,Pointage[#All],2,FALSE)*BD$21) -> 0 | BF34: =IF(BE34=0,"",RANK(BE34,BE$4:BE$41,0)) | BG34: =IF(BF34="",0,VLOOKUP(BF34,Pointage[#All],2,FALSE)*BG$21) -> 0 | BH34: =IF(BA34="","",BA34+BD34+BG34) -> 0 | BJ34: =IF(BI34=0,"",RANK(BI34,BI$23:BI$35,0)) | BK34: =IF(BJ34="",0,VLOOKUP(BJ34,Pointage[#All],2,FALSE)*BK$21) -> 0 | BM34: =IF(BL34=0,"",RANK(BL34,BL$23:BL$35,0)) | BN34: =IF(BM34="",0,VLOOKUP(BM34,Pointage[#All],2,FALSE)*BN$21) -> 0 | BP34: =IF(BO34=0,"",RANK(BO34,BO$4:BO$41,0)) | BQ34: =IF(BP34="",0,VLOOKUP(BP34,Pointage[#All],2,FALSE)*BQ$21) -> 0 | BR34: =IF(BK34="","",BK34+BN34+BQ34) -> 0 | BT34: =IF(BS34=0,"",RANK(BS34,BS$23:BS$35,0)) | BU34: =IF(BT34="",0,VLOOKUP(BT34,Pointage[#All],2,FALSE)*BU$21) -> 0 | BW34: =IF(BV34=0,"",RANK(BV34,BV$23:BV$35,0)) | BX34: =IF(BW34="",0,VLOOKUP(BW34,Pointage[#All],2,FALSE)*BX$21) -> 0 | BZ34: =IF(BY34=0,"",RANK(BY34,BY$4:BY$41,0)) | CA34: =IF(BZ34="",0,VLOOKUP(BZ34,Pointage[#All],2,FALSE)*CA$21) -> 0 | CB34: =IF(BU34="","",BU34+BX34+CA34)*1.25 -> 0 | CC34: =T34+AG34+AT34+BG34+CA34*1.25+BQ34 -> 0
E35: =U35+AH35++AU35+BH35+CB35 -> 0 | F35: =IF(E35=0,"",RANK(E35,E$23:E$35,0)) | G35: =IF(CC35=0,"",RANK(CC35,CC$4:CC$41,0)) | H35: =IF(F35=1,"Or",IF(F35=2,"Argent",IF(F35=3,"Bronze",""))) | J35: =IF(I35=0,"",RANK(I35,I$23:I$35,0)) | K35: =IF(J35="",0,VLOOKUP(J35,Pointage[#All],2,FALSE)*K$21) -> 0 | M35: =IF(L35=0,"",RANK(L35,L$23:L$35,0)) | N35: =IF(M35="",0,VLOOKUP(M35,Pointage[#All],2,FALSE)*N$21) -> 0 | P35: =IF(O35=0,"",RANK(O35,O$23:O$35,0)) | Q35: =IF(P35="",0,VLOOKUP(P35,Pointage[#All],2,FALSE)*Q$21) -> 0 | S35: =IF(R35=0,"",RANK(R35,R$4:R$41,0)) | T35: =IF(S35="",0,VLOOKUP(S35,Pointage[#All],2,FALSE)*T$21) -> 0 | U35: =IF(K35="","",K35+N35+T35) -> 0 | W35: =IF(V35=0,"",RANK(V35,V$23:V$35,0)) | X35: =IF(W35="",0,VLOOKUP(W35,Pointage[#All],2,FALSE)*X$21) -> 0 | Z35: =IF(Y35=0,"",RANK(Y35,Y$23:Y$35,0)) | AA35: =IF(Z35="",0,VLOOKUP(Z35,Pointage[#All],2,FALSE)*AA$21) -> 0 | AC35: =IF(AB35=0,"",RANK(AB35,AB$23:AB$35,0)) | AD35: =IF(AC35="",0,VLOOKUP(AC35,Pointage[#All],2,FALSE)*AD$21) -> 0 | AF35: =IF(AE35=0,"",RANK(AE35,AE$4:AE$41,0)) | AG35: =IF(AF35="",0,VLOOKUP(AF35,Pointage[#All],2,FALSE)*AG$21) -> 0 | AH35: =IF(X35="","",X35+AA35+AG35) -> 0 | AJ35: =IF(AI35=0,"",RANK(AI35,AI$23:AI$35,0)) | AK35: =IF(AJ35="",0,VLOOKUP(AJ35,Pointage[#All],2,FALSE)*AK$21) -> 0 | AP35: =IF(AO35=0,"",RANK(AO35,AO$23:AO$35,0)) | AQ35: =IF(AP35="",0,VLOOKUP(AP35,Pointage[#All],2,FALSE)*AQ$21) -> 0 | AS35: =IF(AR35=0,"",RANK(AR35,AR$4:AR$41,0)) | AT35: =IF(AS35="",0,VLOOKUP(AS35,Pointage[#All],2,FALSE)*AT$21) -> 0 | AU35: =IF(AK35="","",AK35+AQ35+AT35) -> 0 | AW35: =IF(AV35=0,"",RANK(AV35,AV$23:AV$35,0)) | AX35: =IF(AW35="",0,VLOOKUP(AW35,Pointage[#All],2,FALSE)*AX$21) -> 0 | AZ35: =IF(AY35=0,"",RANK(AY35,AY$23:AY$35,0)) | BA35: =IF(AZ35="",0,VLOOKUP(AZ35,Pointage[#All],2,FALSE)*BA$21) -> 0 | BC35: =IF(BB35=0,"",RANK(BB35,BB$23:BB$35,0)) | BD35: =IF(BC35="",0,VLOOKUP(BC35,Pointage[#All],2,FALSE)*BD$21) -> 0 | BF35: =IF(BE35=0,"",RANK(BE35,BE$4:BE$41,0)) | BG35: =IF(BF35="",0,VLOOKUP(BF35,Pointage[#All],2,FALSE)*BG$21) -> 0 | BH35: =IF(BA35="","",BA35+BD35+BG35) -> 0 | BJ35: =IF(BI35=0,"",RANK(BI35,BI$23:BI$35,0)) | BK35: =IF(BJ35="",0,VLOOKUP(BJ35,Pointage[#All],2,FALSE)*BK$21) -> 0 | BM35: =IF(BL35=0,"",RANK(BL35,BL$23:BL$35,0)) | BN35: =IF(BM35="",0,VLOOKUP(BM35,Pointage[#All],2,FALSE)*BN$21) -> 0 | BP35: =IF(BO35=0,"",RANK(BO35,BO$4:BO$41,0)) | BQ35: =IF(BP35="",0,VLOOKUP(BP35,Pointage[#All],2,FALSE)*BQ$21) -> 0 | BR35: =IF(BK35="","",BK35+BN35+BQ35) -> 0 | BT35: =IF(BS35=0,"",RANK(BS35,BS$23:BS$35,0)) | BU35: =IF(BT35="",0,VLOOKUP(BT35,Pointage[#All],2,FALSE)*BU$21) -> 0 | BW35: =IF(BV35=0,"",RANK(BV35,BV$23:BV$35,0)) | BX35: =IF(BW35="",0,VLOOKUP(BW35,Pointage[#All],2,FALSE)*BX$21) -> 0 | BZ35: =IF(BY35=0,"",RANK(BY35,BY$4:BY$41,0)) | CA35: =IF(BZ35="",0,VLOOKUP(BZ35,Pointage[#All],2,FALSE)*CA$21) -> 0 | CB35: =IF(BU35="","",BU35+BX35+CA35)*1.25 -> 0 | CC35: =T35+AG35+AT35+BG35+CA35*1.25+BQ35 -> 0
A36: Entraînement Ouvert | I36: Reprise 1 | J36: Nbr de cavalier | L36: Reprise 2 | M36: Nbr de cavalier | O36: Reprise 3 | P36: Nbr de cavalier | R36: Kur | S36: Nbr de cavalier | U36: TOTAL POINT | V36: Reprise 1 | W36: Nbr de cavalier | Y36: Reprise 2 | Z36: Nbr de cavalier | AB36: Reprise 3 | AC36: Nbr de cavalier | AE36: Kur | AF36: Nbr de cavalier | AH36: TOTAL POINT | AI36: Reprise 2 | AJ36: Nbr de cavalier | AO36: Reprise 3 | AP36: Nbr de cavalier | AR36: Kur | AS36: Nbr de cavalier | AU36: TOTAL POINT | AV36: Reprise 1 | AW36: Nbr de cavalier | AX36: 1 | AY36: Reprise 2 | AZ36: Nbr de cavalier | BA36: 1 | BB36: Reprise 3 | BC36: Nbr de cavalier | BD36: 1 | BE36: Kur | BF36: Nbr de cavalier | BG36: 6 | BH36: TOTAL POINT | BI36: Reprise 2 | BJ36: Nbr de cavalier | BL36: Reprise 3 | BM36: Nbr de cavalier | BO36: Kur | BP36: Nbr de cavalier | BR36: TOTAL POINT | BS36: Reprise 2 | BT36: Nbr de cavalier | BV36: Reprise 3 | BW36: Nbr de cavalier | BY36: Kur | BZ36: Nbr de cavalier | CB36: TOTAL POINT | CC36: TOTAL POINT
I37: Résultats | J37: Position | K37: Points | L37: Résultats | M37: Position | N37: Points | O37: Résultats | P37: Position | Q37: Points | R37: Résultats | S37: Position | T37: Points | V37: Résultats | W37: Position | X37: Points | Y37: Résultats | Z37: Position | AA37: Points | AB37: Résultats | AC37: Position | AD37: Points | AE37: Résultats | AF37: Position | AG37: Points | AI37: Résultats | AJ37: Position | AK37: Points | AO37: Résultats | AP37: Position | AQ37: Points | AR37: Résultats | AS37: Position | AT37: Points | AV37: Résultats | AW37: Position | AX37: Points | AY37: Résultats | AZ37: Position | BA37: Points | BB37: Résultats | BC37: Position | BD37: Points | BE37: Résultats | BF37: Position | BG37: Points | BI37: Résultats | BJ37: Position | BK37: Points | BL37: Résultats | BM37: Position | BN37: Points | BO37: Résultats | BP37: Position | BQ37: Points | BS37: Résultats | BT37: Position | BU37: Points | BV37: Résultats | BW37: Position | BX37: Points | BY37: Résultats | BZ37: Position | CA37: Points
B38: Marianne | C38: Genest | D38: Cariko 3 | E38: =U38+AH38++AU38+BH38+CB38 -> 42 | F38: =IF(E38=0,"",RANK(E38,E$38:E$41,0)) -> 1 | G38: =IF(CC38=0,"",RANK(CC38,CC$4:CC$41,0)) -> 5 | J38: =IF(I38=0,"",RANK(I38,I$38:I$41,0)) | K38: =IF(J38="",0,VLOOKUP(J38,Pointage[#All],2,FALSE)*K$36) -> 0 | M38: =IF(L38=0,"",RANK(L38,L$38:L$41,0)) | N38: =IF(M38="",0,VLOOKUP(M38,Pointage[#All],2,FALSE)*N$36) -> 0 | P38: =IF(O38=0,"",RANK(O38,O$38:O$41,0)) | Q38: 0 | S38: =IF(R38=0,"",RANK(R38,R$4:R$41,0)) | T38: =IF(S38="",0,VLOOKUP(S38,Pointage[#All],2,FALSE)*T$36) -> 0 | U38: =IF(K38="","",K38+N38+T38) -> 0 | W38: =IF(V38=0,"",RANK(V38,V$38:V$41,0)) | X38: =IF(W38="",0,VLOOKUP(W38,Pointage[#All],2,FALSE)*X$36) -> 0 | Z38: =IF(Y38=0,"",RANK(Y38,Y$38:Y$41,0)) | AA38: =IF(Z38="",0,VLOOKUP(Z38,Pointage[#All],2,FALSE)*AA$36) -> 0 | AC38: =IF(AB38=0,"",RANK(AB38,AB$38:AB$41,0)) | AD38: 0 | AF38: =IF(AE38=0,"",RANK(AE38,AE$4:AE$41,0)) | AG38: =IF(AF38="",0,VLOOKUP(AF38,Pointage[#All],2,FALSE)*AG$36) -> 0 | AH38: =IF(X38="","",X38+AA38+AG38) -> 0 | AJ38: =IF(AI38=0,"",RANK(AI38,AI$38:AI$41,0)) | AK38: =IF(AJ38="",0,VLOOKUP(AJ38,Pointage[#All],2,FALSE)*AK$36) -> 0 | AP38: =IF(AO38=0,"",RANK(AO38,AO$38:AO$41,0)) | AQ38: =IF(AP38="",0,VLOOKUP(AP38,Pointage[#All],2,FALSE)*AQ$36) -> 0 | AS38: =IF(AR38=0,"",RANK(AR38,AR$4:AR$41,0)) | AT38: =IF(AS38="",0,VLOOKUP(AS38,Pointage[#All],2,FALSE)*AT$36) -> 0 | AU38: =IF(AK38="","",AK38+AQ38+AT38) -> 0 | AV38: 69.8 | AW38: =IF(AV38=0,"",RANK(AV38,AV$38:AV$41,0)) -> 1 | AX38: =IF(AW38="",0,VLOOKUP(AW38,Pointage[#All],2,FALSE)*AX$36) -> 6 | AY38: 69.48 | AZ38: =IF(AY38=0,"",RANK(AY38,AY$38:AY$41,0)) -> 1 | BA38: =IF(AZ38="",0,VLOOKUP(AZ38,Pointage[#All],2,FALSE)*BA$36) -> 6 | BC38: =IF(BB38=0,"",RANK(BB38,BB$38:BB$41,0)) | BD38: =IF(BC38="",0,VLOOKUP(BC38,Pointage[#All],2,FALSE)*BD$36) -> 0 | BE38: 68.8 | BF38: =IF(BE38=0,"",RANK(BE38,BE$4:BE$41,0)) -> 1 | BG38: =IF(BF38="",0,VLOOKUP(BF38,Pointage[#All],2,FALSE)*BG$36) -> 36 | BH38: =BG38+BA38 -> 42 | BJ38: =IF(BI38=0,"",RANK(BI38,BI$38:BI$41,0)) | BK38: =IF(BJ38="",0,VLOOKUP(BJ38,Pointage[#All],2,FALSE)*BK$36) -> 0 | BM38: =IF(BL38=0,"",RANK(BL38,BL$38:BL$41,0)) | BN38: =IF(BM38="",0,VLOOKUP(BM38,Pointage[#All],2,FALSE)*BN$36) -> 0 | BP38: =IF(BO38=0,"",RANK(BO38,BO$4:BO$41,0)) | BQ38: =IF(BP38="",0,VLOOKUP(BP38,Pointage[#All],2,FALSE)*BQ$36) -> 0 | BR38: =IF(BK38="","",BK38+BN38+BQ38) -> 0 | BT38: =IF(BS38=0,"",RANK(BS38,BS$38:BS$41,0)) | BU38: =IF(BT38="",0,VLOOKUP(BT38,Pointage[#All],2,FALSE)*BU$36) -> 0 | BW38: =IF(BV38=0,"",RANK(BV38,BV$38:BV$41,0)) | BX38: =IF(BW38="",0,VLOOKUP(BW38,Pointage[#All],2,FALSE)*BX$36) -> 0 | BZ38: =IF(BY38=0,"",RANK(BY38,BY$4:BY$41,0)) | CA38: =IF(BZ38="",0,VLOOKUP(BZ38,Pointage[#All],2,FALSE)*CA$36) -> 0 | CB38: =IF(BU38="","",BU38+BX38+CA38)*1.25 -> 0 | CC38: =T38+AG38+AT38+BG38+CA38*1.25 -> 36
E39: =U39+AH39++AU39+BH39+CB39 -> 0 | F39: =IF(E39=0,"",RANK(E39,E$38:E$41,0)) | G39: =IF(CC39=0,"",RANK(CC39,CC$4:CC$41,0)) | J39: =IF(I39=0,"",RANK(I39,I$38:I$41,0)) | K39: =IF(J39="",0,VLOOKUP(J39,Pointage[#All],2,FALSE)*K$36) -> 0 | M39: =IF(L39=0,"",RANK(L39,L$38:L$41,0)) | N39: =IF(M39="",0,VLOOKUP(M39,Pointage[#All],2,FALSE)*N$36) -> 0 | P39: =IF(O39=0,"",RANK(O39,O$38:O$41,0)) | Q39: 0 | S39: =IF(R39=0,"",RANK(R39,R$4:R$41,0)) | T39: =IF(S39="",0,VLOOKUP(S39,Pointage[#All],2,FALSE)*T$36) -> 0 | U39: =IF(K39="","",K39+N39+T39) -> 0 | W39: =IF(V39=0,"",RANK(V39,V$38:V$41,0)) | X39: =IF(W39="",0,VLOOKUP(W39,Pointage[#All],2,FALSE)*X$36) -> 0 | Z39: =IF(Y39=0,"",RANK(Y39,Y$38:Y$41,0)) | AA39: =IF(Z39="",0,VLOOKUP(Z39,Pointage[#All],2,FALSE)*AA$36) -> 0 | AC39: =IF(AB39=0,"",RANK(AB39,AB$38:AB$41,0)) | AD39: 0 | AF39: =IF(AE39=0,"",RANK(AE39,AE$4:AE$41,0)) | AG39: =IF(AF39="",0,VLOOKUP(AF39,Pointage[#All],2,FALSE)*AG$36) -> 0 | AH39: =IF(X39="","",X39+AA39+AG39) -> 0 | AJ39: =IF(AI39=0,"",RANK(AI39,AI$38:AI$41,0)) | AK39: =IF(AJ39="",0,VLOOKUP(AJ39,Pointage[#All],2,FALSE)*AK$36) -> 0 | AP39: =IF(AO39=0,"",RANK(AO39,AO$38:AO$41,0)) | AQ39: =IF(AP39="",0,VLOOKUP(AP39,Pointage[#All],2,FALSE)*AQ$36) -> 0 | AS39: =IF(AR39=0,"",RANK(AR39,AR$4:AR$41,0)) | AT39: =IF(AS39="",0,VLOOKUP(AS39,Pointage[#All],2,FALSE)*AT$36) -> 0 | AU39: =IF(AK39="","",AK39+AQ39+AT39) -> 0 | AW39: =IF(AV39=0,"",RANK(AV39,AV$38:AV$41,0)) | AX39: =IF(AW39="",0,VLOOKUP(AW39,Pointage[#All],2,FALSE)*AX$36) -> 0 | AZ39: =IF(AY39=0,"",RANK(AY39,AY$38:AY$41,0)) | BA39: =IF(AZ39="",0,VLOOKUP(AZ39,Pointage[#All],2,FALSE)*BA$36) -> 0 | BC39: =IF(BB39=0,"",RANK(BB39,BB$38:BB$41,0)) | BD39: =IF(BC39="",0,VLOOKUP(BC39,Pointage[#All],2,FALSE)*BD$36) -> 0 | BF39: =IF(BE39=0,"",RANK(BE39,BE$4:BE$41,0)) | BG39: =IF(BF39="",0,VLOOKUP(BF39,Pointage[#All],2,FALSE)*BG$36) -> 0 | BH39: =IF(BA39="","",BA39+BD39+BG39) -> 0 | BJ39: =IF(BI39=0,"",RANK(BI39,BI$38:BI$41,0)) | BK39: =IF(BJ39="",0,VLOOKUP(BJ39,Pointage[#All],2,FALSE)*BK$36) -> 0 | BM39: =IF(BL39=0,"",RANK(BL39,BL$38:BL$41,0)) | BN39: =IF(BM39="",0,VLOOKUP(BM39,Pointage[#All],2,FALSE)*BN$36) -> 0 | BP39: =IF(BO39=0,"",RANK(BO39,BO$4:BO$41,0)) | BQ39: =IF(BP39="",0,VLOOKUP(BP39,Pointage[#All],2,FALSE)*BQ$36) -> 0 | BR39: =IF(BK39="","",BK39+BN39+BQ39) -> 0 | BT39: =IF(BS39=0,"",RANK(BS39,BS$38:BS$41,0)) | BU39: =IF(BT39="",0,VLOOKUP(BT39,Pointage[#All],2,FALSE)*BU$36) -> 0 | BW39: =IF(BV39=0,"",RANK(BV39,BV$38:BV$41,0)) | BX39: =IF(BW39="",0,VLOOKUP(BW39,Pointage[#All],2,FALSE)*BX$36) -> 0 | BZ39: =IF(BY39=0,"",RANK(BY39,BY$4:BY$41,0)) | CA39: =IF(BZ39="",0,VLOOKUP(BZ39,Pointage[#All],2,FALSE)*CA$36) -> 0 | CB39: =IF(BU39="","",BU39+BX39+CA39)*1.25 -> 0 | CC39: =T39+AG39+AT39+BG39+CA39*1.25 -> 0
E40: =U40+AH40++AU40+BH40+CB40 -> 0 | F40: =IF(E40=0,"",RANK(E40,E$38:E$41,0)) | G40: =IF(CC40=0,"",RANK(CC40,CC$4:CC$41,0)) | J40: =IF(I40=0,"",RANK(I40,I$38:I$41,0)) | K40: =IF(J40="",0,VLOOKUP(J40,Pointage[#All],2,FALSE)*K$36) -> 0 | M40: =IF(L40=0,"",RANK(L40,L$38:L$41,0)) | N40: =IF(M40="",0,VLOOKUP(M40,Pointage[#All],2,FALSE)*N$36) -> 0 | P40: =IF(O40=0,"",RANK(O40,O$38:O$41,0)) | Q40: 0 | S40: =IF(R40=0,"",RANK(R40,R$4:R$41,0)) | T40: =IF(S40="",0,VLOOKUP(S40,Pointage[#All],2,FALSE)*T$36) -> 0 | U40: =IF(K40="","",K40+N40+T40) -> 0 | W40: =IF(V40=0,"",RANK(V40,V$38:V$41,0)) | X40: =IF(W40="",0,VLOOKUP(W40,Pointage[#All],2,FALSE)*X$36) -> 0 | Z40: =IF(Y40=0,"",RANK(Y40,Y$38:Y$41,0)) | AA40: =IF(Z40="",0,VLOOKUP(Z40,Pointage[#All],2,FALSE)*AA$36) -> 0 | AC40: =IF(AB40=0,"",RANK(AB40,AB$38:AB$41,0)) | AD40: 0 | AF40: =IF(AE40=0,"",RANK(AE40,AE$4:AE$41,0)) | AG40: =IF(AF40="",0,VLOOKUP(AF40,Pointage[#All],2,FALSE)*AG$36) -> 0 | AH40: =IF(X40="","",X40+AA40+AG40) -> 0 | AJ40: =IF(AI40=0,"",RANK(AI40,AI$38:AI$41,0)) | AK40: =IF(AJ40="",0,VLOOKUP(AJ40,Pointage[#All],2,FALSE)*AK$36) -> 0 | AP40: =IF(AO40=0,"",RANK(AO40,AO$38:AO$41,0)) | AQ40: =IF(AP40="",0,VLOOKUP(AP40,Pointage[#All],2,FALSE)*AQ$36) -> 0 | AS40: =IF(AR40=0,"",RANK(AR40,AR$4:AR$41,0)) | AT40: =IF(AS40="",0,VLOOKUP(AS40,Pointage[#All],2,FALSE)*AT$36) -> 0 | AU40: =IF(AK40="","",AK40+AQ40+AT40) -> 0 | AW40: =IF(AV40=0,"",RANK(AV40,AV$38:AV$41,0)) | AX40: =IF(AW40="",0,VLOOKUP(AW40,Pointage[#All],2,FALSE)*AX$36) -> 0 | AZ40: =IF(AY40=0,"",RANK(AY40,AY$38:AY$41,0)) | BA40: =IF(AZ40="",0,VLOOKUP(AZ40,Pointage[#All],2,FALSE)*BA$36) -> 0 | BC40: =IF(BB40=0,"",RANK(BB40,BB$38:BB$41,0)) | BD40: =IF(BC40="",0,VLOOKUP(BC40,Pointage[#All],2,FALSE)*BD$36) -> 0 | BF40: =IF(BE40=0,"",RANK(BE40,BE$4:BE$41,0)) | BG40: =IF(BF40="",0,VLOOKUP(BF40,Pointage[#All],2,FALSE)*BG$36) -> 0 | BH40: =IF(BA40="","",BA40+BD40+BG40) -> 0 | BJ40: =IF(BI40=0,"",RANK(BI40,BI$38:BI$41,0)) | BK40: =IF(BJ40="",0,VLOOKUP(BJ40,Pointage[#All],2,FALSE)*BK$36) -> 0 | BM40: =IF(BL40=0,"",RANK(BL40,BL$38:BL$41,0)) | BN40: =IF(BM40="",0,VLOOKUP(BM40,Pointage[#All],2,FALSE)*BN$36) -> 0 | BP40: =IF(BO40=0,"",RANK(BO40,BO$4:BO$41,0)) | BQ40: =IF(BP40="",0,VLOOKUP(BP40,Pointage[#All],2,FALSE)*BQ$36) -> 0 | BR40: =IF(BK40="","",BK40+BN40+BQ40) -> 0 | BT40: =IF(BS40=0,"",RANK(BS40,BS$38:BS$41,0)) | BU40: =IF(BT40="",0,VLOOKUP(BT40,Pointage[#All],2,FALSE)*BU$36) -> 0 | BW40: =IF(BV40=0,"",RANK(BV40,BV$38:BV$41,0)) | BX40: =IF(BW40="",0,VLOOKUP(BW40,Pointage[#All],2,FALSE)*BX$36) -> 0 | BZ40: =IF(BY40=0,"",RANK(BY40,BY$4:BY$41,0)) | CA40: =IF(BZ40="",0,VLOOKUP(BZ40,Pointage[#All],2,FALSE)*CA$36) -> 0 | CB40: =IF(BU40="","",BU40+BX40+CA40)*1.25 -> 0 | CC40: =T40+AG40+AT40+BG40+CA40*1.25 -> 0
E41: =U41+AH41++AU41+BH41+CB41 -> 0 | F41: =IF(E41=0,"",RANK(E41,E$38:E$41,0)) | G41: =IF(CC41=0,"",RANK(CC41,CC$4:CC$41,0)) | J41: =IF(I41=0,"",RANK(I41,I$38:I$41,0)) | K41: =IF(J41="",0,VLOOKUP(J41,Pointage[#All],2,FALSE)*K$36) -> 0 | M41: =IF(L41=0,"",RANK(L41,L$38:L$41,0)) | N41: =IF(M41="",0,VLOOKUP(M41,Pointage[#All],2,FALSE)*N$36) -> 0 | P41: =IF(O41=0,"",RANK(O41,O$38:O$41,0)) | Q41: 0 | S41: =IF(R41=0,"",RANK(R41,R$4:R$41,0)) | T41: =IF(S41="",0,VLOOKUP(S41,Pointage[#All],2,FALSE)*T$36) -> 0 | U41: =IF(K41="","",K41+N41+T41) -> 0 | W41: =IF(V41=0,"",RANK(V41,V$38:V$41,0)) | X41: =IF(W41="",0,VLOOKUP(W41,Pointage[#All],2,FALSE)*X$36) -> 0 | Z41: =IF(Y41=0,"",RANK(Y41,Y$38:Y$41,0)) | AA41: =IF(Z41="",0,VLOOKUP(Z41,Pointage[#All],2,FALSE)*AA$36) -> 0 | AC41: =IF(AB41=0,"",RANK(AB41,AB$38:AB$41,0)) | AD41: 0 | AF41: =IF(AE41=0,"",RANK(AE41,AE$4:AE$41,0)) | AG41: =IF(AF41="",0,VLOOKUP(AF41,Pointage[#All],2,FALSE)*AG$36) -> 0 | AH41: =IF(X41="","",X41+AA41+AG41) -> 0 | AJ41: =IF(AI41=0,"",RANK(AI41,AI$38:AI$41,0)) | AK41: =IF(AJ41="",0,VLOOKUP(AJ41,Pointage[#All],2,FALSE)*AK$36) -> 0 | AP41: =IF(AO41=0,"",RANK(AO41,AO$38:AO$41,0)) | AQ41: =IF(AP41="",0,VLOOKUP(AP41,Pointage[#All],2,FALSE)*AQ$36) -> 0 | AS41: =IF(AR41=0,"",RANK(AR41,AR$4:AR$41,0)) | AT41: =IF(AS41="",0,VLOOKUP(AS41,Pointage[#All],2,FALSE)*AT$36) -> 0 | AU41: =IF(AK41="","",AK41+AQ41+AT41) -> 0 | AW41: =IF(AV41=0,"",RANK(AV41,AV$38:AV$41,0)) | AX41: =IF(AW41="",0,VLOOKUP(AW41,Pointage[#All],2,FALSE)*AX$36) -> 0 | AZ41: =IF(AY41=0,"",RANK(AY41,AY$38:AY$41,0)) | BA41: =IF(AZ41="",0,VLOOKUP(AZ41,Pointage[#All],2,FALSE)*BA$36) -> 0 | BC41: =IF(BB41=0,"",RANK(BB41,BB$38:BB$41,0)) | BD41: =IF(BC41="",0,VLOOKUP(BC41,Pointage[#All],2,FALSE)*BD$36) -> 0 | BF41: =IF(BE41=0,"",RANK(BE41,BE$4:BE$41,0)) | BG41: =IF(BF41="",0,VLOOKUP(BF41,Pointage[#All],2,FALSE)*BG$36) -> 0 | BH41: =IF(BA41="","",BA41+BD41+BG41) -> 0 | BJ41: =IF(BI41=0,"",RANK(BI41,BI$38:BI$41,0)) | BK41: =IF(BJ41="",0,VLOOKUP(BJ41,Pointage[#All],2,FALSE)*BK$36) -> 0 | BM41: =IF(BL41=0,"",RANK(BL41,BL$38:BL$41,0)) | BN41: =IF(BM41="",0,VLOOKUP(BM41,Pointage[#All],2,FALSE)*BN$36) -> 0 | BP41: =IF(BO41=0,"",RANK(BO41,BO$4:BO$41,0)) | BQ41: =IF(BP41="",0,VLOOKUP(BP41,Pointage[#All],2,FALSE)*BQ$36) -> 0 | BR41: =IF(BK41="","",BK41+BN41+BQ41) -> 0 | BT41: =IF(BS41=0,"",RANK(BS41,BS$38:BS$41,0)) | BU41: =IF(BT41="",0,VLOOKUP(BT41,Pointage[#All],2,FALSE)*BU$36) -> 0 | BW41: =IF(BV41=0,"",RANK(BV41,BV$38:BV$41,0)) | BX41: =IF(BW41="",0,VLOOKUP(BW41,Pointage[#All],2,FALSE)*BX$36) -> 0 | BZ41: =IF(BY41=0,"",RANK(BY41,BY$4:BY$41,0)) | CA41: =IF(BZ41="",0,VLOOKUP(BZ41,Pointage[#All],2,FALSE)*CA$36) -> 0 | CB41: =IF(BU41="","",BU41+BX41+CA41)*1.25 -> 0 | CC41: =T41+AG41+AT41+BG41+CA41*1.25 -> 0

Sheet Niveau 1, 2, 3 et 4
A1: #AERE | B1: Prénom | C1: Cavalier | D1: Cheval | E1: Cumulatif | F1: Rang | G1: Rang KUR | H1: Rang Gala | I1: =VLOOKUP(1,Concours!$A$2:$B$6,2,FALSE) -> Bromont 16-17 mai 2026 | V1: =VLOOKUP(2,Concours!$A$2:$B$6,2,FALSE) -> Géronimo 27-28 juin 2026 | AF1: =VLOOKUP(3,Concours!$A$2:$B$6,2,FALSE) -> Équilibre 18-19 juillet 2026 | AP1: =VLOOKUP(4,Concours!$A$2:$B$6,2,FALSE) -> Domaine Avalon 8-9 août 2026 | BC1: =Concours!B6 -> Royale 22-23 août 2026 | BM1: =Concours!B7 -> Bromont Finale 5-6 septembre 2026 | BW1: TOTAL SAISON KUR
A2: Niveau 1 Poney | I2: Reprise 1 | J2: Nbr de cavalier | K2: 2 | L2: Reprise 2 | M2: Nbr de cavalier | N2: 2 | O2: Reprise 3 | P2: Nbr de cavalier | R2: Kur | S2: Nbr de cavalier | T2: 7 | U2: TOTAL POINT | V2: Reprise 1 | W2: Nbr de cavalier | X2: 1 | Y2: Reprise 2 | Z2: Nbr de cavalier | AA2: 1 | AB2: Kur | AC2: Nbr de cavalier | AD2: 1 | AE2: TOTAL POINT | AF2: Reprise 1 | AG2: Nbr de cavalier | AH2: 6 | AI2: Reprise 2 | AJ2: Nbr de cavalier | AK2: 6 | AL2: Kur | AM2: Nbr de cavalier | AN2: 6 | AO2: TOTAL POINT | AP2: Reprise 1 | AQ2: Nbr de cavalier | AS2: Reprise 2 | AT2: Nbr de cavalier | AU2: 1 | AV2: Reprise 3 | AW2: Nbr de cavalier | AX2: 1 | AY2: Kur | AZ2: Nbr de cavalier | BA2: 6 | BB2: TOTAL POINT | BC2: Reprise 2 | BD2: Nbr de cavalier | BE2: 1 | BF2: Reprise 3 | BG2: Nbr de cavalier | BH2: 2 | BI2: Kur | BJ2: Nbr de cavalier | BK2: 5 | BL2: TOTAL POINT | BM2: Reprise 2 | BN2: Nbr de cavalier | BO2: 2 | BP2: Reprise 3 | BQ2: Nbr de cavalier | BR2: 2 | BS2: Kur | BT2: Nbr de cavalier | BU2: 8 | BV2: TOTAL POINT | BW2: TOTAL POINT
I3: Résultats | J3: Position | K3: Points | L3: Résultats | M3: Position | N3: Points | O3: Résultats | P3: Position | Q3: Points | R3: Résultats | S3: Position | T3: Points | V3: Résultats | W3: Position | X3: Points | Y3: Résultats | Z3: Position | AA3: Points | AB3: Résultats | AC3: Position | AD3: Points | AF3: Résultats | AG3: Position | AH3: Points | AI3: Résultats | AJ3: Position | AK3: Points | AL3: Résultats | AM3: Position | AN3: Points | AP3: Résultats | AQ3: Position | AR3: Points | AS3: Résultats | AT3: Position | AU3: Points | AV3: Résultats | AW3: Position | AX3: Points | AY3: Résultats | AZ3: Position | BA3: Points | BC3: Résultats | BD3: Position | BE3: Points | BF3: Résultats | BG3: Position | BH3: Points | BI3: Résultats | BJ3: Position | BK3: Points | BM3: Résultats | BN3: Position | BO3: Points | BP3: Résultats | BQ3: Position | BR3: Points | BS3: Résultats | BT3: Position | BU3: Points
B4: Valerie | C4: Pouliot | D4: Ernest Hemingway | E4: =U4+AE4++AO4+BB4+BV4+BL4 -> 226 | F4: =IF(E4=0,"",RANK(E4,E$4:E$7,0)) -> 1 | G4: =IF(BW4=0,"",RANK(BW4,BW$4:BW$35,0)) -> 3 | H4: =IF(F4=1,"Or",IF(F4=2,"Argent",IF(F4=3,"Bronze",""))) -> Or | I4: 61.111 | J4: =IF(I4=0,"",RANK(I4,I$4:I$7,0)) -> 1 | K4: =IF(J4="",0,VLOOKUP(J4,Pointage[#All],2,FALSE)*K$2) -> 12 | L4: 62.045 | M4: =IF(L4=0,"",RANK(L4,L$4:L$7,0)) -> 2 | N4: =IF(M4="",0,VLOOKUP(M4,Pointage[#All],2,FALSE)*N$2) -> 10 | P4: =IF(O4=0,"",RANK(O4,O$4:O$7,0)) | Q4: =IF(P4="",0,VLOOKUP(P4,Pointage[#All],2,FALSE)*Q$2) -> 0 | R4: 61.2 | S4: =IF(R4=0,"",RANK(R4,R$4:R$35,0)) -> 5 | T4: =IF(S4="",0,VLOOKUP(S4,Pointage[#All],2,FALSE)*T$2) -> 14 | U4: =IF(K4="","",K4+N4+T4) -> 36 | W4: =IF(V4=0,"",RANK(V4,V$4:V$7,0)) | X4: =IF(W4="",0,VLOOKUP(W4,Pointage[#All],2,FALSE)*X$2) -> 0 | Z4: =IF(Y4=0,"",RANK(Y4,Y$4:Y$7,0)) | AA4: =IF(Z4="",0,VLOOKUP(Z4,Pointage[#All],2,FALSE)*AA$2) -> 0 | AC4: =IF(AB4=0,"",RANK(AB4,AB$4:AB$7,0)) | AD4: =IF(AC4="",0,VLOOKUP(AC4,Pointage[#All],2,FALSE)*AD$2) -> 0 | AE4: =IF(X4="","",X4+AA4+AD4) -> 0 | AF4: 62.41 | AG4: 3 | AH4: =IF(AG4="",0,VLOOKUP(AG4,Pointage[#All],2,FALSE)*AH$2) -> 24 | AI4: 62.88 | AJ4: 4 | AK4: =IF(AJ4="",0,VLOOKUP(AJ4,Pointage[#All],2,FALSE)*AK$2) -> 18 | AL4: 64.72 | AM4: 2 | AN4: =IF(AM4="",0,VLOOKUP(AM4,Pointage[#All],2,FALSE)*AN$2) -> 30 | AO4: =IF(AH4="","",AH4+AK4+AN4) -> 72 | AQ4: =IF(AP4=0,"",RANK(AP4,AP$4:AP$7,0)) | AR4: =IF(AQ4="",0,VLOOKUP(AQ4,Pointage[#All],2,FALSE)*AR$2) -> 0 | AS4: 58.49 | AT4: =IF(AS4=0,"",RANK(AS4,AS$4:AS$7,0)) -> 1 | AU4: =IF(AT4="",0,VLOOKUP(AT4,Pointage[#All],2,FALSE)*AU$2) -> 6 | AV4: 60 | AW4: =IF(AV4=0,"",RANK(AV4,AV$4:AV$7,0)) -> 1 | AX4: =IF(AW4="",0,VLOOKUP(AW4,Pointage[#All],2,FALSE)*AX$2) -> 6 | AY4: 60.36 | AZ4: 6 | BA4: =IF(AZ4="",0,VLOOKUP(AZ4,Pointage[#All],2,FALSE)*BA$2) -> 6 | BB4: =IF(AU4="","",AU4+AX4+BA4) -> 18 | BD4: =IF(BC4=0,"",RANK(BC4,BC$4:BC$7,0)) | BE4: =IF(BD4="",0,VLOOKUP(BD4,Pointage[#All],2,FALSE)*BE$2) -> 0 | BF4: 63.47 | BG4: =IF(BF4=0,"",RANK(BF4,BF$4:BF$7,0)) -> 2 | BH4: =IF(BG4="",0,VLOOKUP(BG4,Pointage[#All],2,FALSE)*BH$2) -> 10 | BI4: 64.5 | BJ4: 3 | BK4: =IF(BJ4="",0,VLOOKUP(BJ4,Pointage[#All],2,FALSE)*BK$2) -> 20 | BL4: =IF(BE4="","",BE4+BH4+BK4) -> 30 | BM4: 67.575 | BN4: =IF(BM4=0,"",RANK(BM4,BM$4:BM$7,0)) -> 1 | BO4: =IF(BN4="",0,VLOOKUP(BN4,Pointage[#All],2,FALSE)*BO$2) -> 12 | BP4: 64.861 | BQ4: =IF(BP4=0,"",RANK(BP4,BP$4:BP$7,0)) -> 1 | BR4: =IF(BQ4="",0,VLOOKUP(BQ4,Pointage[#All],2,FALSE)*BR$2) -> 12 | BS4: 69.333 | BT4: 3 | BU4: =IF(BT4="",0,VLOOKUP(BT4,Pointage[#All],2,FALSE)*BU$2) -> 32 | BV4: =IF(BO4="","",BO4+BR4+BU4)*1.25 -> 70 | BW4: =T4+AD4+AN4+BA4+BU4*1.25+BK4 -> 110 | BX4: =AVERAGE(V4,Y4,AB4) -> #DIV/0!
B5: Zoé | C5: Lessard-Martin | D5: Roxy | E5: =U5+AE5++AO5+BB5+BV5+BL5 -> 118 | F5: 2 | G5: =IF(BW5=0,"",RANK(BW5,BW$4:BW$35,0)) -> 7 | H5: =IF(F5=1,"Or",IF(F5=2,"Argent",IF(F5=3,"Bronze",""))) -> Argent | I5: 59.91 | J5: =IF(I5=0,"",RANK(I5,I$4:I$7,0)) -> 2 | K5: =IF(J5="",0,VLOOKUP(J5,Pointage[#All],2,FALSE)*K$2) -> 10 | L5: 62.2 | M5: =IF(L5=0,"",RANK(L5,L$4:L$7,0)) -> 1 | N5: =IF(M5="",0,VLOOKUP(M5,Pointage[#All],2,FALSE)*N$2) -> 12 | P5: =IF(O5=0,"",RANK(O5,O$4:O$7,0)) | Q5: =IF(P5="",0,VLOOKUP(P5,Pointage[#All],2,FALSE)*Q$2) -> 0 | R5: 58.83 | S5: =IF(R5=0,"",RANK(R5,R$4:R$35,0)) -> 7 | T5: =IF(S5="",0,VLOOKUP(S5,Pointage[#All],2,FALSE)*T$2) -> 0 | U5: =IF(K5="","",K5+N5+T5) -> 22 | V5: 63.15 | W5: =IF(V5=0,"",RANK(V5,V$4:V$7,0)) -> 1 | X5: =IF(W5="",0,VLOOKUP(W5,Pointage[#All],2,FALSE)*X$2) -> 6 | Y5: 61.21 | Z5: =IF(Y5=0,"",RANK(Y5,Y$4:Y$7,0)) -> 1 | AA5: =IF(Z5="",0,VLOOKUP(Z5,Pointage[#All],2,FALSE)*AA$2) -> 6 | AB5: 63.92 | AC5: =IF(AB5=0,"",RANK(AB5,AB$4:AB$7,0)) -> 1 | AD5: =IF(AC5="",0,VLOOKUP(AC5,Pointage[#All],2,FALSE)*AD$2) -> 6 | AE5: =IF(X5="","",X5+AA5+AD5) -> 18 | AG5: =IF(AF5=0,"",RANK(AF5,AF$4:AF$7,0)) | AH5: =IF(AG5="",0,VLOOKUP(AG5,Pointage[#All],2,FALSE)*AH$2) -> 0 | AJ5: =IF(AI5=0,"",RANK(AI5,AI$4:AI$7,0)) | AK5: =IF(AJ5="",0,VLOOKUP(AJ5,Pointage[#All],2,FALSE)*AK$2) -> 0 | AM5: =IF(AL5=0,"",RANK(AL5,AL$4:AL$7,0)) | AN5: =IF(AM5="",0,VLOOKUP(AM5,Pointage[#All],2,FALSE)*AN$2) -> 0 | AO5: =IF(AH5="","",AH5+AK5+AN5) -> 0 | AQ5: =IF(AP5=0,"",RANK(AP5,AP$4:AP$7,0)) | AR5: =IF(AQ5="",0,VLOOKUP(AQ5,Pointage[#All],2,FALSE)*AR$2) -> 0 | AT5: =IF(AS5=0,"",RANK(AS5,AS$4:AS$7,0)) | AU5: =IF(AT5="",0,VLOOKUP(AT5,Pointage[#All],2,FALSE)*AU$2) -> 0 | AW5: =IF(AV5=0,"",RANK(AV5,AV$4:AV$7,0)) | AX5: =IF(AW5="",0,VLOOKUP(AW5,Pointage[#All],2,FALSE)*AX$2) -> 0 | AZ5: =IF(AY5=0,"",RANK(AY5,AY$4:AY$7,0)) | BA5: =IF(AZ5="",0,VLOOKUP(AZ5,Pointage[#All],2,FALSE)*BA$2) -> 0 | BB5: =IF(AU5="","",AU5+AX5+BA5) -> 0 | BC5: 64.09 | BD5: =IF(BC5=0,"",RANK(BC5,BC$4:BC$7,0)) -> 1 | BE5: =IF(BD5="",0,VLOOKUP(BD5,Pointage[#All],2,FALSE)*BE$2) -> 6 | BF5: 65.5 | BG5: =IF(BF5=0,"",RANK(BF5,BF$4:BF$7,0)) -> 1 | BH5: =IF(BG5="",0,VLOOKUP(BG5,Pointage[#All],2,FALSE)*BH$2) -> 12 | BI5: 64.69 | BJ5: 2 | BK5: =IF(BJ5="",0,VLOOKUP(BJ5,Pointage[#All],2,FALSE)*BK$2) -> 25 | BL5: =IF(BE5="","",BE5+BH5+BK5) -> 43 | BM5: 63.484 | BN5: =IF(BM5=0,"",RANK(BM5,BM$4:BM$7,0)) -> 2 | BO5: =IF(BN5="",0,VLOOKUP(BN5,Pointage[#All],2,FALSE)*BO$2) -> 10 | BP5: 63.611 | BQ5: =IF(BP5=0,"",RANK(BP5,BP$4:BP$7,0)) -> 2 | BR5: =IF(BQ5="",0,VLOOKUP(BQ5,Pointage[#All],2,FALSE)*BR$2) -> 10 | BS5: 64.583 | BT5: 6 | BU5: =IF(BT5="",0,VLOOKUP(BT5,Pointage[#All],2,FALSE)*BU$2) -> 8 | BV5: =IF(BO5="","",BO5+BR5+BU5)*1.25 -> 35 | BW5: =T5+AD5+AN5+BA5+BU5*1.25+BK5 -> 41 | BX5: =AVERAGE(V5,Y5,AB5) -> 62.76
E6: =U6+AE6++AO6+BB6+BV6 -> 0 | F6: =IF(E6=0,"",RANK(E6,E$10:E$18,0)) | G6: =IF(BW6=0,"",RANK(BW6,BW$4:BW$35,0)) | H6: =IF(F6=1,"Or",IF(F6=2,"Argent",IF(F6=3,"Bronze",""))) | J6: =IF(I6=0,"",RANK(I6,I$4:I$7,0)) | K6: =IF(J6="",0,VLOOKUP(J6,Pointage[#All],2,FALSE)*K$2) -> 0 | M6: =IF(L6=0,"",RANK(L6,L$4:L$7,0)) | N6: =IF(M6="",0,VLOOKUP(M6,Pointage[#All],2,FALSE)*N$2) -> 0 | P6: =IF(O6=0,"",RANK(O6,O$4:O$7,0)) | Q6: =IF(P6="",0,VLOOKUP(P6,Pointage[#All],2,FALSE)*Q$2) -> 0 | S6: =IF(R6=0,"",RANK(R6,R$4:R$35,0)) | T6: =IF(S6="",0,VLOOKUP(S6,Pointage[#All],2,FALSE)*T$2) -> 0 | U6: =IF(K6="","",K6+N6+T6) -> 0 | W6: =IF(V6=0,"",RANK(V6,V$4:V$7,0)) | X6: =IF(W6="",0,VLOOKUP(W6,Pointage[#All],2,FALSE)*X$2) -> 0 | Z6: =IF(Y6=0,"",RANK(Y6,Y$4:Y$7,0)) | AA6: =IF(Z6="",0,VLOOKUP(Z6,Pointage[#All],2,FALSE)*AA$2) -> 0 | AC6: =IF(AB6=0,"",RANK(AB6,AB$4:AB$7,0)) | AD6: =IF(AC6="",0,VLOOKUP(AC6,Pointage[#All],2,FALSE)*AD$2) -> 0 | AE6: =IF(X6="","",X6+AA6+AD6) -> 0 | AG6: =IF(AF6=0,"",RANK(AF6,AF$4:AF$7,0)) | AH6: =IF(AG6="",0,VLOOKUP(AG6,Pointage[#All],2,FALSE)*AH$2) -> 0 | AJ6: =IF(AI6=0,"",RANK(AI6,AI$4:AI$7,0)) | AK6: =IF(AJ6="",0,VLOOKUP(AJ6,Pointage[#All],2,FALSE)*AK$2) -> 0 | AM6: =IF(AL6=0,"",RANK(AL6,AL$4:AL$7,0)) | AN6: =IF(AM6="",0,VLOOKUP(AM6,Pointage[#All],2,FALSE)*AN$2) -> 0 | AO6: =IF(AH6="","",AH6+AK6+AN6) -> 0 | AQ6: =IF(AP6=0,"",RANK(AP6,AP$4:AP$7,0)) | AR6: =IF(AQ6="",0,VLOOKUP(AQ6,Pointage[#All],2,FALSE)*AR$2) -> 0 | AT6: =IF(AS6=0,"",RANK(AS6,AS$4:AS$7,0)) | AU6: =IF(AT6="",0,VLOOKUP(AT6,Pointage[#All],2,FALSE)*AU$2) -> 0 | AW6: =IF(AV6=0,"",RANK(AV6,AV$4:AV$7,0)) | AX6: =IF(AW6="",0,VLOOKUP(AW6,Pointage[#All],2,FALSE)*AX$2) -> 0 | AZ6: =IF(AY6=0,"",RANK(AY6,AY$4:AY$7,0)) | BA6: =IF(AZ6="",0,VLOOKUP(AZ6,Pointage[#All],2,FALSE)*BA$2) -> 0 | BB6: =IF(AU6="","",AU6+AX6+BA6) -> 0 | BD6: =IF(BC6=0,"",RANK(BC6,BC$4:BC$7,0)) | BE6: =IF(BD6="",0,VLOOKUP(BD6,Pointage[#All],2,FALSE)*BE$2) -> 0 | BG6: =IF(BF6=0,"",RANK(BF6,BF$4:BF$7,0)) | BH6: =IF(BG6="",0,VLOOKUP(BG6,Pointage[#All],2,FALSE)*BH$2) -> 0 | BJ6: =IF(BI6=0,"",RANK(BI6,BI$4:BI$7,0)) | BK6: =IF(BJ6="",0,VLOOKUP(BJ6,Pointage[#All],2,FALSE)*BK$2) -> 0 | BL6: =IF(BE6="","",BE6+BH6+BK6) -> 0 | BN6: =IF(BM6=0,"",RANK(BM6,BM$4:BM$7,0)) | BO6: =IF(BN6="",0,VLOOKUP(BN6,Pointage[#All],2,FALSE)*BO$2) -> 0 | BQ6: =IF(BP6=0,"",RANK(BP6,BP$4:BP$7,0)) | BR6: =IF(BQ6="",0,VLOOKUP(BQ6,Pointage[#All],2,FALSE)*BR$2) -> 0 | BT6: =IF(BS6=0,"",RANK(BS6,BS$4:BS$7,0)) | BU6: =IF(BT6="",0,VLOOKUP(BT6,Pointage[#All],2,FALSE)*BU$2) -> 0 | BV6: =IF(BO6="","",BO6+BR6+BU6)*1.25 -> 0 | BW6: =T6+AD6+AN6+BA6+BU6*1.25+BK6 -> 0 | BX6: =AVERAGE(V6,Y6,AB6) -> #DIV/0!
E7: =U7+AE7++AO7+BB7+BV7 -> 0 | F7: =IF(E7=0,"",RANK(E7,E$10:E$18,0)) | G7: =IF(BW7=0,"",RANK(BW7,BW$4:BW$35,0)) | H7: =IF(F7=1,"Or",IF(F7=2,"Argent",IF(F7=3,"Bronze",""))) | J7: =IF(I7=0,"",RANK(I7,I$4:I$7,0)) | K7: =IF(J7="",0,VLOOKUP(J7,Pointage[#All],2,FALSE)*K$2) -> 0 | M7: =IF(L7=0,"",RANK(L7,L$4:L$7,0)) | N7: =IF(M7="",0,VLOOKUP(M7,Pointage[#All],2,FALSE)*N$2) -> 0 | P7: =IF(O7=0,"",RANK(O7,O$4:O$7,0)) | Q7: =IF(P7="",0,VLOOKUP(P7,Pointage[#All],2,FALSE)*Q$2) -> 0 | S7: =IF(R7=0,"",RANK(R7,R$4:R$35,0)) | T7: =IF(S7="",0,VLOOKUP(S7,Pointage[#All],2,FALSE)*T$2) -> 0 | U7: =IF(K7="","",K7+N7+T7) -> 0 | W7: =IF(V7=0,"",RANK(V7,V$4:V$7,0)) | X7: =IF(W7="",0,VLOOKUP(W7,Pointage[#All],2,FALSE)*X$2) -> 0 | Z7: =IF(Y7=0,"",RANK(Y7,Y$4:Y$7,0)) | AA7: =IF(Z7="",0,VLOOKUP(Z7,Pointage[#All],2,FALSE)*AA$2) -> 0 | AC7: =IF(AB7=0,"",RANK(AB7,AB$4:AB$7,0)) | AD7: =IF(AC7="",0,VLOOKUP(AC7,Pointage[#All],2,FALSE)*AD$2) -> 0 | AE7: =IF(X7="","",X7+AA7+AD7) -> 0 | AG7: =IF(AF7=0,"",RANK(AF7,AF$4:AF$7,0)) | AH7: =IF(AG7="",0,VLOOKUP(AG7,Pointage[#All],2,FALSE)*AH$2) -> 0 | AJ7: =IF(AI7=0,"",RANK(AI7,AI$4:AI$7,0)) | AK7: =IF(AJ7="",0,VLOOKUP(AJ7,Pointage[#All],2,FALSE)*AK$2) -> 0 | AM7: =IF(AL7=0,"",RANK(AL7,AL$4:AL$7,0)) | AN7: =IF(AM7="",0,VLOOKUP(AM7,Pointage[#All],2,FALSE)*AN$2) -> 0 | AO7: =IF(AH7="","",AH7+AK7+AN7) -> 0 | AQ7: =IF(AP7=0,"",RANK(AP7,AP$4:AP$7,0)) | AR7: =IF(AQ7="",0,VLOOKUP(AQ7,Pointage[#All],2,FALSE)*AR$2) -> 0 | AT7: =IF(AS7=0,"",RANK(AS7,AS$4:AS$7,0)) | AU7: =IF(AT7="",0,VLOOKUP(AT7,Pointage[#All],2,FALSE)*AU$2) -> 0 | AW7: =IF(AV7=0,"",RANK(AV7,AV$4:AV$7,0)) | AX7: =IF(AW7="",0,VLOOKUP(AW7,Pointage[#All],2,FALSE)*AX$2) -> 0 | AZ7: =IF(AY7=0,"",RANK(AY7,AY$4:AY$7,0)) | BA7: =IF(AZ7="",0,VLOOKUP(AZ7,Pointage[#All],2,FALSE)*BA$2) -> 0 | BB7: =IF(AU7="","",AU7+AX7+BA7) -> 0 | BD7: =IF(BC7=0,"",RANK(BC7,BC$4:BC$7,0)) | BE7: =IF(BD7="",0,VLOOKUP(BD7,Pointage[#All],2,FALSE)*BE$2) -> 0 | BG7: =IF(BF7=0,"",RANK(BF7,BF$4:BF$7,0)) | BH7: =IF(BG7="",0,VLOOKUP(BG7,Pointage[#All],2,FALSE)*BH$2) -> 0 | BJ7: =IF(BI7=0,"",RANK(BI7,BI$4:BI$7,0)) | BK7: =IF(BJ7="",0,VLOOKUP(BJ7,Pointage[#All],2,FALSE)*BK$2) -> 0 | BL7: =IF(BE7="","",BE7+BH7+BK7) -> 0 | BN7: =IF(BM7=0,"",RANK(BM7,BM$4:BM$7,0)) | BO7: =IF(BN7="",0,VLOOKUP(BN7,Pointage[#All],2,FALSE)*BO$2) -> 0 | BQ7: =IF(BP7=0,"",RANK(BP7,BP$4:BP$7,0)) | BR7: =IF(BQ7="",0,VLOOKUP(BQ7,Pointage[#All],2,FALSE)*BR$2) -> 0 | BT7: =IF(BS7=0,"",RANK(BS7,BS$4:BS$7,0)) | BU7: =IF(BT7="",0,VLOOKUP(BT7,Pointage[#All],2,FALSE)*BU$2) -> 0 | BV7: =IF(BO7="","",BO7+BR7+BU7)*1.25 -> 0 | BW7: =T7+AD7+AN7+BA7+BU7*1.25+BK7 -> 0 | BX7: =AVERAGE(V7,Y7,AB7) -> #DIV/0!
A8: Niveau 1 Junior | I8: Reprise 1 | J8: Nbr de cavalier | K8: 6 | L8: Reprise 2 | M8: Nbr de cavalier | N8: 5 | O8: Reprise 3 | P8: Nbr de cavalier | R8: Kur | S8: Nbr de cavalier | T8: 7 | U8: TOTAL POINT | V8: Reprise 1 | W8: Nbr de cavalier | Y8: Reprise 2 | Z8: Nbr de cavalier | AB8: Kur | AC8: Nbr de cavalier | AE8: TOTAL POINT | AF8: Reprise 1 | AG8: Nbr de cavalier | AH8: 6 | AI8: Reprise 2 | AJ8: Nbr de cavalier | AK8: 6 | AL8: Kur | AM8: Nbr de cavalier | AN8: 6 | AO8: TOTAL POINT | AP8: Reprise 1 | AQ8: Nbr de cavalier | AS8: Reprise 2 | AT8: Nbr de cavalier | AU8: 5 | AV8: Reprise 3 | AW8: Nbr de cavalier | AX8: 4 | AY8: Kur | AZ8: Nbr de cavalier | BA8: 6 | BB8: TOTAL POINT | BC8: Reprise 2 | BD8: Nbr de cavalier | BE8: 1 | BF8: Reprise 3 | BG8: Nbr de cavalier | BH8: 1 | BI8: Kur | BJ8: Nbr de cavalier | BK8: 5 | BL8: TOTAL POINT | BM8: Reprise 2 | BN8: Nbr de cavalier | BO8: 4 | BP8: Reprise 3 | BQ8: Nbr de cavalier | BR8: 4 | BS8: Kur | BT8: Nbr de cavalier | BU8: 8 | BV8: TOTAL POINT | BW8: TOTAL POINT
I9: Résultats | J9: Position | K9: Points | L9: Résultats | M9: Position | N9: Points | O9: Résultats | P9: Position | Q9: Points | R9: Résultats | S9: Position | T9: Points | V9: Résultats | W9: Position | X9: Points | Y9: Résultats | Z9: Position | AA9: Points | AB9: Résultats | AC9: Position | AD9: Points | AF9: Résultats | AG9: Position | AH9: Points | AI9: Résultats | AJ9: Position | AK9: Points | AL9: Résultats | AM9: Position | AN9: Points | AP9: Résultats | AQ9: Position | AR9: Points | AS9: Résultats | AT9: Position | AU9: Points | AV9: Résultats | AW9: Position | AX9: Points | AY9: Résultats | AZ9: Position | BA9: Points | BC9: Résultats | BD9: Position | BE9: Points | BF9: Résultats | BG9: Position | BH9: Points | BI9: Résultats | BJ9: Position | BK9: Points | BM9: Résultats | BN9: Position | BO9: Points | BP9: Résultats | BQ9: Position | BR9: Points | BS9: Résultats | BT9: Position | BU9: Points
B10: Paula | C10: Auersperg | D10: Bucati | E10: =U10+AE10++AO10+BB10+BV10 -> 366 | F10: =IF(E10=0,"",RANK(E10,E$10:E$18,0)) -> 1 | G10: =IF(BW10=0,"",RANK(BW10,BW$4:BW$35,0)) -> 2 | H10: =IF(F10=1,"Or",IF(F10=2,"Argent",IF(F10=3,"Bronze",""))) -> Or | I10: 62.129 | J10: =IF(I10=0,"",RANK(I10,I$10:I$18,0)) -> 3 | K10: =IF(J10="",0,VLOOKUP(J10,Pointage[#All],2,FALSE)*K$8) -> 24 | L10: 65.53 | M10: =IF(L10=0,"",RANK(L10,L$10:L$18,0)) -> 1 | N10: =IF(M10="",0,VLOOKUP(M10,Pointage[#All],2,FALSE)*N$8) -> 30 | P10: =IF(O10=0,"",RANK(O10,O$10:O$18,0)) | Q10: 0 | R10: 65.675 | S10: 2 | T10: =IF(S10="",0,VLOOKUP(S10,Pointage[#All],2,FALSE)*T$8) -> 35 | U10: =IF(K10="","",K10+N10+T10) -> 89 | W10: =IF(V10=0,"",RANK(V10,V$10:V$18,0)) | X10: =IF(W10="",0,VLOOKUP(W10,Pointage[#All],2,FALSE)*X$8) -> 0 | Z10: =IF(Y10=0,"",RANK(Y10,Y$10:Y$18,0)) | AA10: =IF(Z10="",0,VLOOKUP(Z10,Pointage[#All],2,FALSE)*AA$8) -> 0 | AC10: =IF(AB10=0,"",RANK(AB10,AB$10:AB$18,0)) | AD10: =IF(AC10="",0,VLOOKUP(AC10,Pointage[#All],2,FALSE)*AD$8) -> 0 | AE10: =IF(X10="","",X10+AA10+AD10) -> 0 | AF10: 70.19 | AG10: =IF(AF10=0,"",RANK(AF10,AF$10:AF$18,0)) -> 1 | AH10: =IF(AG10="",0,VLOOKUP(AG10,Pointage[#All],2,FALSE)*AH$8) -> 36 | AI10: 66.82 | AJ10: =IF(AI10=0,"",RANK(AI10,AI$10:AI$18,0)) -> 1 | AK10: =IF(AJ10="",0,VLOOKUP(AJ10,Pointage[#All],2,FALSE)*AK$8) -> 36 | AL10: 60.69 | AM10: 6 | AN10: =IF(AM10="",0,VLOOKUP(AM10,Pointage[#All],2,FALSE)*AN$8) -> 6 | AO10: =IF(AH10="","",AH10+AK10+AN10) -> 78 | AQ10: =IF(AP10=0,"",RANK(AP10,AP$10:AP$18,0)) | AR10: =IF(AQ10="",0,VLOOKUP(AQ10,Pointage[#All],2,FALSE)*AR$8) -> 0 | AS10: 70 | AT10: =IF(AS10=0,"",RANK(AS10,AS$10:AS$18,0)) -> 1 | AU10: =IF(AT10="",0,VLOOKUP(AT10,Pointage[#All],2,FALSE)*AU$8) -> 30 | AV10: 71.94 | AW10: =IF(AV10=0,"",RANK(AV10,AV$10:AV$18,0)) -> 1 | AX10: =IF(AW10="",0,VLOOKUP(AW10,Pointage[#All],2,FALSE)*AX$8) -> 24 | AY10: 71.5 | AZ10: =IF(AY10=0,"",RANK(AY10,AY$10:AY$18,0)) -> 2 | BA10: =IF(AZ10="",0,VLOOKUP(AZ10,Pointage[#All],2,FALSE)*BA$8) -> 30 | BB10: =IF(AU10="","",AU10+AX10+BA10) -> 84 | BD10: =IF(BC10=0,"",RANK(BC10,BC$10:BC$18,0)) | BE10: =IF(BD10="",0,VLOOKUP(BD10,Pointage[#All],2,FALSE)*BE$8) -> 0 | BG10: =IF(BF10=0,"",RANK(BF10,BF$10:BF$18,0)) | BH10: =IF(BG10="",0,VLOOKUP(BG10,Pointage[#All],2,FALSE)*BH$8) -> 0 | BJ10: =IF(BI10=0,"",RANK(BI10,BI$10:BI$18,0)) | BK10: =IF(BJ10="",0,VLOOKUP(BJ10,Pointage[#All],2,FALSE)*BK$8) -> 0 | BL10: =IF(BE10="","",BE10+BH10+BK10) -> 0 | BM10: 70.303 | BN10: =IF(BM10=0,"",RANK(BM10,BM$10:BM$18,0)) -> 1 | BO10: =IF(BN10="",0,VLOOKUP(BN10,Pointage[#All],2,FALSE)*BO$8) -> 24 | BP10: 66.805 | BQ10: =IF(BP10=0,"",RANK(BP10,BP$10:BP$18,0)) -> 2 | BR10: =IF(BQ10="",0,VLOOKUP(BQ10,Pointage[#All],2,FALSE)*BR$8) -> 20 | BS10: 71.027 | BT10: =IF(BS10=0,"",RANK(BS10,BS$10:BS$35,0)) -> 1 | BU10: =IF(BT10="",0,VLOOKUP(BT10,Pointage[#All],2,FALSE)*BU$8) -> 48 | BV10: =IF(BO10="","",BO10+BR10+BU10)*1.25 -> 115 | BW10: =T10+AD10+AN10+BA10+BU10*1.25+BK10 -> 131 | BX10: =AVERAGE(V10,Y10,AB10) -> #DIV/0!
B11: Juliette | C11: Saint-Pierre | D11: Magnum | E11: =U11+AE11++AO11+BB11+BV11+BL11 -> 155 | F11: =IF(E11=0,"",RANK(E11,E$10:E$18,0)) -> 4 | G11: =IF(BW11=0,"",RANK(BW11,BW$4:BW$35,0)) -> 5 | H11: =IF(F11=1,"Or",IF(F11=2,"Argent",IF(F11=3,"Bronze",""))) | I11: 59.629 | J11: =IF(I11=0,"",RANK(I11,I$10:I$18,0)) -> 5 | K11: =IF(J11="",0,VLOOKUP(J11,Pointage[#All],2,FALSE)*K$8) -> 12 | L11: 60.833 | M11: =IF(L11=0,"",RANK(L11,L$10:L$18,0)) -> 5 | N11: =IF(M11="",0,VLOOKUP(M11,Pointage[#All],2,FALSE)*N$8) -> 10 | P11: =IF(O11=0,"",RANK(O11,O$10:O$18,0)) | Q11: 0 | R11: 64.231 | S11: =IF(R11=0,"",RANK(R11,R$10:R$18,0)) -> 3 | T11: =IF(S11="",0,VLOOKUP(S11,Pointage[#All],2,FALSE)*T$8) -> 28 | U11: =IF(K11="","",K11+N11+T11) -> 50 | W11: =IF(V11=0,"",RANK(V11,V$10:V$18,0)) | X11: =IF(W11="",0,VLOOKUP(W11,Pointage[#All],2,FALSE)*X$8) -> 0 | Z11: =IF(Y11=0,"",RANK(Y11,Y$10:Y$18,0)) | AA11: =IF(Z11="",0,VLOOKUP(Z11,Pointage[#All],2,FALSE)*AA$8) -> 0 | AC11: =IF(AB11=0,"",RANK(AB11,AB$10:AB$18,0)) | AD11: =IF(AC11="",0,VLOOKUP(AC11,Pointage[#All],2,FALSE)*AD$8) -> 0 | AE11: =IF(X11="","",X11+AA11+AD11) -> 0 | AF11: 0 | AG11: =IF(AF11=0,"",RANK(AF11,AF$10:AF$18,0)) | AH11: =IF(AG11="",0,VLOOKUP(AG11,Pointage[#All],2,FALSE)*AH$8) -> 0 | AI11: 66.21 | AJ11: =IF(AI11=0,"",RANK(AI11,AI$10:AI$18,0)) -> 2 | AK11: =IF(AJ11="",0,VLOOKUP(AJ11,Pointage[#All],2,FALSE)*AK$8) -> 30 | AL11: 69.33 | AM11: =IF(AL11=0,"",RANK(AL11,AL$10:AL$18,0)) -> 1 | AN11: =IF(AM11="",0,VLOOKUP(AM11,Pointage[#All],2,FALSE)*AN$8) -> 36 | AO11: =IF(AH11="","",AH11+AK11+AN11) -> 66 | AQ11: =IF(AP11=0,"",RANK(AP11,AP$10:AP$18,0)) | AR11: =IF(AQ11="",0,VLOOKUP(AQ11,Pointage[#All],2,FALSE)*AR$8) -> 0 | AS11: 56.52 | AT11: =IF(AS11=0,"",RANK(AS11,AS$10:AS$18,0)) -> 4 | AU11: =IF(AT11="",0,VLOOKUP(AT11,Pointage[#All],2,FALSE)*AU$8) -> 15 | AV11: 59.17 | AW11: =IF(AV11=0,"",RANK(AV11,AV$10:AV$18,0)) -> 4 | AX11: =IF(AW11="",0,VLOOKUP(AW11,Pointage[#All],2,FALSE)*AX$8) -> 12 | AY11: 62.78 | AZ11: 5 | BA11: =IF(AZ11="",0,VLOOKUP(AZ11,Pointage[#All],2,FALSE)*BA$8) -> 12 | BB11: =IF(AU11="","",AU11+AX11+BA11) -> 39 | BD11: =IF(BC11=0,"",RANK(BC11,BC$10:BC$18,0)) | BE11: =IF(BD11="",0,VLOOKUP(BD11,Pointage[#All],2,FALSE)*BE$8) -> 0 | BG11: =IF(BF11=0,"",RANK(BF11,BF$10:BF$18,0)) | BH11: =IF(BG11="",0,VLOOKUP(BG11,Pointage[#All],2,FALSE)*BH$8) -> 0 | BJ11: =IF(BI11=0,"",RANK(BI11,BI$10:BI$18,0)) | BK11: =IF(BJ11="",0,VLOOKUP(BJ11,Pointage[#All],2,FALSE)*BK$8) -> 0 | BL11: =IF(BE11="","",BE11+BH11+BK11) -> 0 | BN11: =IF(BM11=0,"",RANK(BM11,BM$10:BM$18,0)) | BO11: =IF(BN11="",0,VLOOKUP(BN11,Pointage[#All],2,FALSE)*BO$8) -> 0 | BQ11: =IF(BP11=0,"",RANK(BP11,BP$10:BP$18,0)) | BR11: =IF(BQ11="",0,VLOOKUP(BQ11,Pointage[#All],2,FALSE)*BR$8) -> 0 | BT11: =IF(BS11=0,"",RANK(BS11,BS$10:BS$35,0)) | BU11: =IF(BT11="",0,VLOOKUP(BT11,Pointage[#All],2,FALSE)*BU$8) -> 0 | BV11: =IF(BO11="","",BO11+BR11+BU11)*1.25 -> 0 | BW11: =T11+AD11+AN11+BA11+BU11*1.25+BK11 -> 76 | BX11: =AVERAGE(V11,Y11,AB11) -> #DIV/0!
B12: Flavie | C12: Tremblay | D12: dao | E12: =U12+AE12++AO12+BB12+BV12+BL12 -> 297 | F12: =IF(E12=0,"",RANK(E12,E$10:E$18,0)) -> 2 | G12: =IF(BW12=0,"",RANK(BW12,BW$4:BW$35,0)) -> 4 | H12: =IF(F12=1,"Or",IF(F12=2,"Argent",IF(F12=3,"Bronze",""))) -> Argent | I12: 63.148 | J12: =IF(I12=0,"",RANK(I12,I$10:I$18,0)) -> 1 | K12: =IF(J12="",0,VLOOKUP(J12,Pointage[#All],2,FALSE)*K$8) -> 36 | L12: 64.545 | M12: =IF(L12=0,"",RANK(L12,L$10:L$18,0)) -> 2 | N12: =IF(M12="",0,VLOOKUP(M12,Pointage[#All],2,FALSE)*N$8) -> 25 | P12: =IF(O12=0,"",RANK(O12,O$10:O$18,0)) | Q12: 0 | R12: 63.962 | S12: =IF(R12=0,"",RANK(R12,R$10:R$18,0)) -> 4 | T12: =IF(S12="",0,VLOOKUP(S12,Pointage[#All],2,FALSE)*T$8) -> 21 | U12: =IF(K12="","",K12+N12+T12) -> 82 | W12: =IF(V12=0,"",RANK(V12,V$10:V$18,0)) | X12: =IF(W12="",0,VLOOKUP(W12,Pointage[#All],2,FALSE)*X$8) -> 0 | Z12: =IF(Y12=0,"",RANK(Y12,Y$10:Y$18,0)) | AA12: =IF(Z12="",0,VLOOKUP(Z12,Pointage[#All],2,FALSE)*AA$8) -> 0 | AC12: =IF(AB12=0,"",RANK(AB12,AB$10:AB$18,0)) | AD12: =IF(AC12="",0,VLOOKUP(AC12,Pointage[#All],2,FALSE)*AD$8) -> 0 | AE12: =IF(X12="","",X12+AA12+AD12) -> 0 | AF12: 63.15 | AG12: =IF(AF12=0,"",RANK(AF12,AF$10:AF$18,0)) -> 2 | AH12: =IF(AG12="",0,VLOOKUP(AG12,Pointage[#All],2,FALSE)*AH$8) -> 30 | AI12: 65.61 | AJ12: =IF(AI12=0,"",RANK(AI12,AI$10:AI$18,0)) -> 3 | AK12: =IF(AJ12="",0,VLOOKUP(AJ12,Pointage[#All],2,FALSE)*AK$8) -> 24 | AL12: 62.86 | AM12: 3 | AN12: =IF(AM12="",0,VLOOKUP(AM12,Pointage[#All],2,FALSE)*AN$8) -> 24 | AO12: =IF(AH12="","",AH12+AK12+AN12) -> 78 | AQ12: =IF(AP12=0,"",RANK(AP12,AP$10:AP$18,0)) | AR12: =IF(AQ12="",0,VLOOKUP(AQ12,Pointage[#All],2,FALSE)*AR$8) -> 0 | AS12: 62.12 | AT12: =IF(AS12=0,"",RANK(AS12,AS$10:AS$18,0)) -> 3 | AU12: =IF(AT12="",0,VLOOKUP(AT12,Pointage[#All],2,FALSE)*AU$8) -> 20 | AV12: 66.11 | AW12: =IF(AV12=0,"",RANK(AV12,AV$10:AV$18,0)) -> 3 | AX12: =IF(AW12="",0,VLOOKUP(AW12,Pointage[#All],2,FALSE)*AX$8) -> 16 | AY12: 67.39 | AZ12: =IF(AY12=0,"",RANK(AY12,AY$10:AY$18,0)) -> 3 | BA12: =IF(AZ12="",0,VLOOKUP(AZ12,Pointage[#All],2,FALSE)*BA$8) -> 24 | BB12: =IF(AU12="","",AU12+AX12+BA12) -> 60 | BC12: 59.5 | BD12: =IF(BC12=0,"",RANK(BC12,BC$10:BC$18,0)) -> 1 | BE12: =IF(BD12="",0,VLOOKUP(BD12,Pointage[#All],2,FALSE)*BE$8) -> 6 | BF12: 63.88 | BG12: =IF(BF12=0,"",RANK(BF12,BF$10:BF$18,0)) -> 1 | BH12: =IF(BG12="",0,VLOOKUP(BG12,Pointage[#All],2,FALSE)*BH$8) -> 6 | BI12: 63.25 | BJ12: 5 | BK12: =IF(BJ12="",0,VLOOKUP(BJ12,Pointage[#All],2,FALSE)*BK$8) -> 10 | BL12: =IF(BE12="","",BE12+BH12+BK12) -> 22 | BM12: 68.484 | BN12: =IF(BM12=0,"",RANK(BM12,BM$10:BM$18,0)) -> 2 | BO12: =IF(BN12="",0,VLOOKUP(BN12,Pointage[#All],2,FALSE)*BO$8) -> 20 | BP12: 68.472 | BQ12: =IF(BP12=0,"",RANK(BP12,BP$10:BP$18,0)) -> 1 | BR12: =IF(BQ12="",0,VLOOKUP(BQ12,Pointage[#All],2,FALSE)*BR$8) -> 24 | BS12: 58.805 | BT12: 8 | BU12: =IF(BT12="",0,VLOOKUP(BT12,Pointage[#All],2,FALSE)*BU$8) -> 0 | BV12: =IF(BO12="","",BO12+BR12+BU12)*1.25 -> 55 | BW12: =T12+AD12+AN12+BA12+BU12*1.25+BK12 -> 79 | BX12: =AVERAGE(V12,Y12,AB12) -> #DIV/0!
