Workbook

Sheet INSTRUCTION
A1: Comment utiliser le fichier :
A2: 1. Aller dans l'onglet concours
A3: 2. Modifier seulement le nom des concours
A4: 3. Procéder à la rentrée des données
A5: Toutes les cellules grises ne devraient PAS être modifiées car elle contiennent des formules.
A6: 4.Évitez de remplir la dernière ligne de chaque tableau. Si il vous manque de lignes, sélectionnez la dernière ligne au complet (en cliquant sur le chiffre à gauche associé), faites clique-droit sur le chiffre de la ligne sélectionnez "Copier". Puis refaites clique-droit sur le chiffre de la même ligne et sélectionner "Insérer les cellules copiées". Comme ça les formules vont se suivre.
A10: 5. Pour masquer des lignes vides, sélectionnez les lignes au complet vides, faites clique-droit sur le chiffre de la ligne et sélectionner "Masquer".
A11: Pour les afficher, faites le même procéder et cliquez sur "Afficher". Magie, ça fonctionne aussi avec les colonnes !
A12: Je vous recommande de faire cette opération avant l'impression pour évitez d'imprimer un fichier avec plein de cellules vides
A13: Également, comme le fichier est gros, je recommande de Masquer les colonnes des concours n'ayant pas encore eu lieu.
A14: 6. Pour imprimer le document en PDF, sélectionnez "Imprimer le classeur entier". Indiquez la page 3 dans la première case
A15: Et indiquez la page max dans la deuxième case (ex: 5 ou plus)
A16: S'assurer de sélectionner en dernier "Ajuster toute les colonnes à…"

Sheet Concours
A1: Concours
A2: 1 | B2: Bromont 16-17 mai 2026
A3: 2 | B3: Géronimo 27-28 juin 2026
A4: 3 | B4: Équilibre 18-19 juillet 2026
A5: 4 | B5: Domaine Avalon 8-9 août 2026
A6: 5 | B6: Royale 22-23 août 2026
A7: 6 | B7: Bromont Finale 5-6 septembre 2026

Sheet Initiation
A1: #AERE | B1: Prénom | C1: Cavalier | D1: Cheval | E1: Cumulatif | F1: Rang | G1: Rang Gala | H1: =VLOOKUP(1,Concours!$A$2:$B$6,2,FALSE) -> Bromont 16-17 mai 2026 | R1: =VLOOKUP(2,Concours!$A$2:$B$6,2,FALSE) -> Géronimo 27-28 juin 2026 | AB1: =VLOOKUP(3,Concours!$A$2:$B$6,2,FALSE) -> Équilibre 18-19 juillet 2026 | AL1: =VLOOKUP(4,Concours!$A$2:$B$6,2,FALSE) -> Domaine Avalon 8-9 août 2026 | AV1: =Concours!B6 -> Royale 22-23 août 2026 | BF1: =Concours!B7 -> Bromont Finale 5-6 septembre 2026
A2: Initiation Poney | H2: Reprise 1 | I2: Nbr de cavalier | J2: 1 | K2: Reprise 2 | L2: Nbr de cavalier | M2: 1 | N2: Reprise 3 | O2: Nbr de cavalier | P2: 1 | Q2: TOTAL POINT | R2: Reprise 1 | S2: Nbr de cavalier | T2: 1 | U2: Reprise 2 | V2: Nbr de cavalier | W2: 1 | X2: Reprise 3 | Y2: Nbr de cavalier | Z2: 1 | AA2: TOTAL POINT | AB2: Reprise 1 | AC2: Nbr de cavalier | AD2: 3 | AE2: Reprise 2 | AF2: Nbr de cavalier | AG2: 3 | AH2: Reprise 3 | AI2: Nbr de cavalier | AJ2: 3 | AK2: TOTAL POINT | AL2: Reprise 1 | AM2: Nbr de cavalier | AN2: 1 | AO2: Reprise 2 | AP2: Nbr de cavalier | AQ2: 1 | AR2: Reprise 3 | AS2: Nbr de cavalier | AT2: 1 | AU2: TOTAL POINT | AV2: Reprise 1 | AW2: Nbr de cavalier | AX2: 2 | AY2: Reprise 2 | AZ2: Nbr de cavalier | BA2: 2 | BB2: Reprise 3 | BC2: Nbr de cavalier | BD2: 2 | BE2: TOTAL POINT | BF2: Reprise 1 | BG2: Nbr de cavalier | BH2: 3 | BI2: Reprise 2 | BJ2: Nbr de cavalier | BK2: 2 | BL2: Reprise 3 | BM2: Nbr de cavalier | BN2: 3 | BO2: TOTAL POINT
H3: Résultats | I3: Position | J3: Points | K3: Résultats | L3: Position | M3: Points | N3: Résultats | O3: Position | P3: Points | R3: Résultats | S3: Position | T3: Points | U3: Résultats | V3: Position | W3: Points | X3: Résultats | Y3: Position | Z3: Points | AB3: Résultats | AC3: Position | AD3: Points | AE3: Résultats | AF3: Position | AG3: Points | AH3: Résultats | AI3: Position | AJ3: Points | AL3: Résultats | AM3: Position | AN3: Points | AO3: Résultats | AP3: Position | AQ3: Points | AR3: Résultats | AS3: Position | AT3: Points | AV3: Résultats | AW3: Position | AX3: Points | AY3: Résultats | AZ3: Position | BA3: Points | BB3: Résultats | BC3: Position | BD3: Points | BF3: Résultats | BG3: Position | BH3: Points | BI3: Résultats | BJ3: Position | BK3: Points | BL3: Résultats | BM3: Position | BN3: Points
B4: Éliane | C4: Boudreau | D4: Lilas | E4: =Q4+AA4++AK4+AU4+BO4+BE4 -> 52 | F4: =IF(E4=0,"",RANK(E4,E$4:E$9,0)) -> 3 | G4: =IF(F4=1,"Or",IF(F4=2,"Argent",IF(F4=3,"Bronze",""))) -> Bronze | H4: 66.562 | I4: =IF(H4=0,"",RANK(H4,H$4:H$9,0)) -> 1 | J4: =IF(I4="",0,VLOOKUP(I4,Pointage[#All],2,FALSE)*J$2) -> 6 | K4: 63.437 | L4: =IF(K4=0,"",RANK(K4,K$4:K$9,0)) -> 1 | M4: =IF(L4="",0,VLOOKUP(L4,Pointage[#All],2,FALSE)*M$2) -> 6 | N4: 64750 | O4: =IF(N4=0,"",RANK(N4,N$4:N$9,0)) -> 1 | P4: =IF(O4="",0,VLOOKUP(O4,Pointage[#All],2,FALSE)*P$2) -> 6 | Q4: =IF(J4="","",J4+M4+P4) -> 18 | S4: =IF(R4=0,"",RANK(R4,R$4:R$9,0)) | T4: =IF(S4="",0,VLOOKUP(S4,Pointage[#All],2,FALSE)*T$2) -> 0 | V4: =IF(U4=0,"",RANK(U4,U$4:U$9,0)) | W4: =IF(V4="",0,VLOOKUP(V4,Pointage[#All],2,FALSE)*W$2) -> 0 | Y4: =IF(X4=0,"",RANK(X4,X$4:X$9,0)) | Z4: =IF(Y4="",0,VLOOKUP(Y4,Pointage[#All],2,FALSE)*Z$2) -> 0 | AA4: =IF(T4="","",T4+W4+Z4) -> 0 | AC4: =IF(AB4=0,"",RANK(AB4,AB$4:AB$9,0)) | AD4: =IF(AC4="",0,VLOOKUP(AC4,Pointage[#All],2,FALSE)*AD$2) -> 0 | AF4: =IF(AE4=0,"",RANK(AE4,AE$4:AE$9,0)) | AG4: =IF(AF4="",0,VLOOKUP(AF4,Pointage[#All],2,FALSE)*AG$2) -> 0 | AI4: =IF(AH4=0,"",RANK(AH4,AH$4:AH$9,0)) | AJ4: =IF(AI4="",0,VLOOKUP(AI4,Pointage[#All],2,FALSE)*AJ$2) -> 0 | AK4: =IF(AD4="","",AD4+AG4+AJ4) -> 0 | AM4: =IF(AL4=0,"",RANK(AL4,AL$4:AL$9,0)) | AN4: =IF(AM4="",0,VLOOKUP(AM4,Pointage[#All],2,FALSE)*AN$2) -> 0 | AP4: =IF(AO4=0,"",RANK(AO4,AO$4:AO$9,0)) | AQ4: =IF(AP4="",0,VLOOKUP(AP4,Pointage[#All],2,FALSE)*AQ$2) -> 0 | AS4: =IF(AR4=0,"",RANK(AR4,AR$4:AR$9,0)) | AT4: =IF(AS4="",0,VLOOKUP(AS4,Pointage[#All],2,FALSE)*AT$2) -> 0 | AU4: =IF(AN4="","",AN4+AQ4+AT4) -> 0 | AV4: 67.5 | AW4: =IF(AV4=0,"",RANK(AV4,AV$4:AV$9,0)) -> 2 | AX4: =IF(AW4="",0,VLOOKUP(AW4,Pointage[#All],2,FALSE)*AX$2) -> 10 | AY4: 65.9 | AZ4: =IF(AY4=0,"",RANK(AY4,AY$4:AY$9,0)) -> 1 | BA4: =IF(AZ4="",0,VLOOKUP(AZ4,Pointage[#All],2,FALSE)*BA$2) -> 12 | BB4: 64.25 | BC4: =IF(BB4=0,"",RANK(BB4,BB$4:BB$9,0)) -> 1 | BD4: =IF(BC4="",0,VLOOKUP(BC4,Pointage[#All],2,FALSE)*BD$2) -> 12 | BE4: =IF(AX4="","",AX4+BA4+BD4) -> 34 | BG4: =IF(BF4=0,"",RANK(BF4,BF$4:BF$9,0)) | BH4: =IF(BG4="",0,VLOOKUP(BG4,Pointage[#All],2,FALSE)*BH$2) -> 0 | BJ4: =IF(BI4=0,"",RANK(BI4,BI$4:BI$9,0)) | BK4: =IF(BJ4="",0,VLOOKUP(BJ4,Pointage[#All],2,FALSE)*BK$2) -> 0 | BM4: =IF(BL4=0,"",RANK(BL4,BL$4:BL$9,0)) | BN4: =IF(BM4="",0,VLOOKUP(BM4,Pointage[#All],2,FALSE)*BN$2) -> 0 | BO4: =IF(BH4="","",BH4+BK4+BN4)*1.25 -> 0
B5: Elia | C5: Forgues | D5: Odette | E5: =Q5+AA5++AK5+AU5+BO5+BE5 -> 95 | F5: =IF(E5=0,"",RANK(E5,E$4:E$9,0)) -> 1 | G5: =IF(F5=1,"Or",IF(F5=2,"Argent",IF(F5=3,"Bronze",""))) -> Or | I5: =IF(H5=0,"",RANK(H5,H$4:H$9,0)) | J5: =IF(I5="",0,VLOOKUP(I5,Pointage[#All],2,FALSE)*J$2) -> 0 | L5: =IF(K5=0,"",RANK(K5,K$4:K$9,0)) | M5: =IF(L5="",0,VLOOKUP(L5,Pointage[#All],2,FALSE)*M$2) -> 0 | O5: =IF(N5=0,"",RANK(N5,N$4:N$9,0)) | P5: =IF(O5="",0,VLOOKUP(O5,Pointage[#All],2,FALSE)*P$2) -> 0 | Q5: =IF(J5="","",J5+M5+P5) -> 0 | R5: 0 | S5: =IF(R5=0,"",RANK(R5,R$4:R$9,0)) | T5: =IF(S5="",0,VLOOKUP(S5,Pointage[#All],2,FALSE)*T$2) -> 0 | U5: 65.31 | V5: =IF(U5=0,"",RANK(U5,U$4:U$9,0)) -> 1 | W5: =IF(V5="",0,VLOOKUP(V5,Pointage[#All],2,FALSE)*W$2) -> 6 | X5: 59.5 | Y5: =IF(X5=0,"",RANK(X5,X$4:X$9,0)) -> 1 | Z5: =IF(Y5="",0,VLOOKUP(Y5,Pointage[#All],2,FALSE)*Z$2) -> 6 | AA5: =IF(T5="","",T5+W5+Z5) -> 12 | AB5: 66.25 | AC5: 2 | AD5: =IF(AC5="",0,VLOOKUP(AC5,Pointage[#All],2,FALSE)*AD$2) -> 15 | AE5: 68.75 | AF5: =IF(AE5=0,"",RANK(AE5,AE$4:AE$9,0)) -> 1 | AG5: =IF(AF5="",0,VLOOKUP(AF5,Pointage[#All],2,FALSE)*AG$2) -> 18 | AH5: 67 | AI5: =IF(AH5=0,"",RANK(AH5,AH$4:AH$9,0)) -> 1 | AJ5: =IF(AI5="",0,VLOOKUP(AI5,Pointage[#All],2,FALSE)*AJ$2) -> 18 | AK5: =IF(AD5="","",AD5+AG5+AJ5) -> 51 | AM5: =IF(AL5=0,"",RANK(AL5,AL$4:AL$9,0)) | AN5: =IF(AM5="",0,VLOOKUP(AM5,Pointage[#All],2,FALSE)*AN$2) -> 0 | AP5: =IF(AO5=0,"",RANK(AO5,AO$4:AO$9,0)) | AQ5: =IF(AP5="",0,VLOOKUP(AP5,Pointage[#All],2,FALSE)*AQ$2) -> 0 | AS5: =IF(AR5=0,"",RANK(AR5,AR$4:AR$9,0)) | AT5: =IF(AS5="",0,VLOOKUP(AS5,Pointage[#All],2,FALSE)*AT$2) -> 0 | AU5: =IF(AN5="","",AN5+AQ5+AT5) -> 0 | AV5: 72.5 | AW5: =IF(AV5=0,"",RANK(AV5,AV$4:AV$9,0)) -> 1 | AX5: =IF(AW5="",0,VLOOKUP(AW5,Pointage[#All],2,FALSE)*AX$2) -> 12 | AY5: 65.62 | AZ5: =IF(AY5=0,"",RANK(AY5,AY$4:AY$9,0)) -> 2 | BA5: =IF(AZ5="",0,VLOOKUP(AZ5,Pointage[#All],2,FALSE)*BA$2) -> 10 | BB5: 63.25 | BC5: =IF(BB5=0,"",RANK(BB5,BB$4:BB$9,0)) -> 2 | BD5: =IF(BC5="",0,VLOOKUP(BC5,Pointage[#All],2,FALSE)*BD$2) -> 10 | BE5: =IF(AX5="","",AX5+BA5+BD5) -> 32 | BG5: =IF(BF5=0,"",RANK(BF5,BF$4:BF$9,0)) | BH5: =IF(BG5="",0,VLOOKUP(BG5,Pointage[#All],2,FALSE)*BH$2) -> 0 | BJ5: =IF(BI5=0,"",RANK(BI5,BI$4:BI$9,0)) | BK5: =IF(BJ5="",0,VLOOKUP(BJ5,Pointage[#All],2,FALSE)*BK$2) -> 0 | BM5: =IF(BL5=0,"",RANK(BL5,BL$4:BL$9,0)) | BN5: =IF(BM5="",0,VLOOKUP(BM5,Pointage[#All],2,FALSE)*BN$2) -> 0 | BO5: =IF(BH5="","",BH5+BK5+BN5)*1.25 -> 0
B6: Élizabeth | C6: Ducharme | D6: Charlot | E6: =Q6+AA6++AK6+AU6+BO6+BE6 -> 74.25 | F6: =IF(E6=0,"",RANK(E6,E$4:E$9,0)) -> 2 | G6: =IF(F6=1,"Or",IF(F6=2,"Argent",IF(F6=3,"Bronze",""))) -> Argent | I6: =IF(H6=0,"",RANK(H6,H$4:H$9,0)) | J6: =IF(I6="",0,VLOOKUP(I6,Pointage[#All],2,FALSE)*J$2) -> 0 | L6: =IF(K6=0,"",RANK(K6,K$4:K$9,0)) | M6: =IF(L6="",0,VLOOKUP(L6,Pointage[#All],2,FALSE)*M$2) -> 0 | O6: =IF(N6=0,"",RANK(N6,N$4:N$9,0)) | P6: =IF(O6="",0,VLOOKUP(O6,Pointage[#All],2,FALSE)*P$2) -> 0 | Q6: =IF(J6="","",J6+M6+P6) -> 0 | S6: =IF(R6=0,"",RANK(R6,R$4:R$9,0)) | T6: =IF(S6="",0,VLOOKUP(S6,Pointage[#All],2,FALSE)*T$2) -> 0 | V6: =IF(U6=0,"",RANK(U6,U$4:U$9,0)) | W6: =IF(V6="",0,VLOOKUP(V6,Pointage[#All],2,FALSE)*W$2) -> 0 | Y6: =IF(X6=0,"",RANK(X6,X$4:X$9,0)) | Z6: =IF(Y6="",0,VLOOKUP(Y6,Pointage[#All],2,FALSE)*Z$2) -> 0 | AA6: =IF(T6="","",T6+W6+Z6) -> 0 | AC6: =IF(AB6=0,"",RANK(AB6,AB$4:AB$9,0)) | AD6: =IF(AC6="",0,VLOOKUP(AC6,Pointage[#All],2,FALSE)*AD$2) -> 0 | AF6: =IF(AE6=0,"",RANK(AE6,AE$4:AE$9,0)) | AG6: =IF(AF6="",0,VLOOKUP(AF6,Pointage[#All],2,FALSE)*AG$2) -> 0 | AI6: =IF(AH6=0,"",RANK(AH6,AH$4:AH$9,0)) | AJ6: =IF(AI6="",0,VLOOKUP(AI6,Pointage[#All],2,FALSE)*AJ$2) -> 0 | AK6: =IF(AD6="","",AD6+AG6+AJ6) -> 0 | AL6: 64.69 | AM6: =IF(AL6=0,"",RANK(AL6,AL$4:AL$9,0)) -> 1 | AN6: =IF(AM6="",0,VLOOKUP(AM6,Pointage[#All],2,FALSE)*AN$2) -> 6 | AO6: 62.81 | AP6: =IF(AO6=0,"",RANK(AO6,AO$4:AO$9,0)) -> 1 | AQ6: =IF(AP6="",0,VLOOKUP(AP6,Pointage[#All],2,FALSE)*AQ$2) -> 6 | AR6: 62.25 | AS6: =IF(AR6=0,"",RANK(AR6,AR$4:AR$9,0)) -> 1 | AT6: =IF(AS6="",0,VLOOKUP(AS6,Pointage[#All],2,FALSE)*AT$2) -> 6 | AU6: =IF(AN6="","",AN6+AQ6+AT6) -> 18 | AW6: =IF(AV6=0,"",RANK(AV6,AV$4:AV$9,0)) | AX6: =IF(AW6="",0,VLOOKUP(AW6,Pointage[#All],2,FALSE)*AX$2) -> 0 | AZ6: =IF(AY6=0,"",RANK(AY6,AY$4:AY$9,0)) | BA6: =IF(AZ6="",0,VLOOKUP(AZ6,Pointage[#All],2,FALSE)*BA$2) -> 0 | BC6: =IF(BB6=0,"",RANK(BB6,BB$4:BB$9,0)) | BD6: =IF(BC6="",0,VLOOKUP(BC6,Pointage[#All],2,FALSE)*BD$2) -> 0 | BE6: =IF(AX6="","",AX6+BA6+BD6) -> 0 | BF6: 68.437 | BG6: =IF(BF6=0,"",RANK(BF6,BF$4:BF$9,0)) -> 2 | BH6: =IF(BG6="",0,VLOOKUP(BG6,Pointage[#All],2,FALSE)*BH$2) -> 15 | BI6: 74.062 | BJ6: =IF(BI6=0,"",RANK(BI6,BI$4:BI$9,0)) -> 1 | BK6: =IF(BJ6="",0,VLOOKUP(BJ6,Pointage[#All],2,FALSE)*BK$2) -> 12 | BL6: 65.5 | BM6: =IF(BL6=0,"",RANK(BL6,BL$4:BL$9,0)) -> 1 | BN6: =IF(BM6="",0,VLOOKUP(BM6,Pointage[#All],2,FALSE)*BN$2) -> 18 | BO6: =IF(BH6="","",BH6+BK6+BN6)*1.25 -> 56.25
B7: Sofia | C7: Keuremtjes | D7: Pickles | E7: =Q7+AA7++AK7+AU7+BO7 -> 41.25 | F7: =IF(E7=0,"",RANK(E7,E$4:E$9,0)) -> 5 | G7: =IF(F7=1,"Or",IF(F7=2,"Argent",IF(F7=3,"Bronze",""))) | I7: =IF(H7=0,"",RANK(H7,H$4:H$9,0)) | J7: =IF(I7="",0,VLOOKUP(I7,Pointage[#All],2,FALSE)*J$2) -> 0 | L7: =IF(K7=0,"",RANK(K7,K$4:K$9,0)) | M7: =IF(L7="",0,VLOOKUP(L7,Pointage[#All],2,FALSE)*M$2) -> 0 | O7: =IF(N7=0,"",RANK(N7,N$4:N$9,0)) | P7: =IF(O7="",0,VLOOKUP(O7,Pointage[#All],2,FALSE)*P$2) -> 0 | Q7: =IF(J7="","",J7+M7+P7) -> 0 | S7: =IF(R7=0,"",RANK(R7,R$4:R$9,0)) | T7: =IF(S7="",0,VLOOKUP(S7,Pointage[#All],2,FALSE)*T$2) -> 0 | V7: =IF(U7=0,"",RANK(U7,U$4:U$9,0)) | W7: =IF(V7="",0,VLOOKUP(V7,Pointage[#All],2,FALSE)*W$2) -> 0 | Y7: =IF(X7=0,"",RANK(X7,X$4:X$9,0)) | Z7: =IF(Y7="",0,VLOOKUP(Y7,Pointage[#All],2,FALSE)*Z$2) -> 0 | AA7: =IF(T7="","",T7+W7+Z7) -> 0 | AC7: =IF(AB7=0,"",RANK(AB7,AB$4:AB$9,0)) | AD7: =IF(AC7="",0,VLOOKUP(AC7,Pointage[#All],2,FALSE)*AD$2) -> 0 | AF7: =IF(AE7=0,"",RANK(AE7,AE$4:AE$9,0)) | AG7: =IF(AF7="",0,VLOOKUP(AF7,Pointage[#All],2,FALSE)*AG$2) -> 0 | AI7: =IF(AH7=0,"",RANK(AH7,AH$4:AH$9,0)) | AJ7: =IF(AI7="",0,VLOOKUP(AI7,Pointage[#All],2,FALSE)*AJ$2) -> 0 | AK7: =IF(AD7="","",AD7+AG7+AJ7) -> 0 | AM7: =IF(AL7=0,"",RANK(AL7,AL$4:AL$9,0)) | AN7: =IF(AM7="",0,VLOOKUP(AM7,Pointage[#All],2,FALSE)*AN$2) -> 0 | AP7: =IF(AO7=0,"",RANK(AO7,AO$4:AO$9,0)) | AQ7: =IF(AP7="",0,VLOOKUP(AP7,Pointage[#All],2,FALSE)*AQ$2) -> 0 | AS7: =IF(AR7=0,"",RANK(AR7,AR$4:AR$9,0)) | AT7: =IF(AS7="",0,VLOOKUP(AS7,Pointage[#All],2,FALSE)*AT$2) -> 0 | AU7: =IF(AN7="","",AN7+AQ7+AT7) -> 0 | AW7: =IF(AV7=0,"",RANK(AV7,AV$4:AV$9,0)) | AX7: =IF(AW7="",0,VLOOKUP(AW7,Pointage[#All],2,FALSE)*AX$2) -> 0 | AZ7: =IF(AY7=0,"",RANK(AY7,AY$4:AY$9,0)) | BA7: =IF(AZ7="",0,VLOOKUP(AZ7,Pointage[#All],2,FALSE)*BA$2) -> 0 | BC7: =IF(BB7=0,"",RANK(BB7,BB$4:BB$9,0)) | BD7: =IF(BC7="",0,VLOOKUP(BC7,Pointage[#All],2,FALSE)*BD$2) -> 0 | BE7: =IF(AX7="","",AX7+BA7+BD7) -> 0 | BF7: 70 | BG7: =IF(BF7=0,"",RANK(BF7,BF$4:BF$9,0)) -> 1 | BH7: =IF(BG7="",0,VLOOKUP(BG7,Pointage[#All],2,FALSE)*BH$2) -> 18 | BJ7: =IF(BI7=0,"",RANK(BI7,BI$4:BI$9,0)) | BK7: =IF(BJ7="",0,VLOOKUP(BJ7,Pointage[#All],2,FALSE)*BK$2) -> 0 | BL7: 64.75 | BM7: =IF(BL7=0,"",RANK(BL7,BL$4:BL$9,0)) -> 2 | BN7: =IF(BM7="",0,VLOOKUP(BM7,Pointage[#All],2,FALSE)*BN$2) -> 15 | BO7: =IF(BH7="","",BH7+BK7+BN7)*1.25 -> 41.25
B8: Juan Sebastian | C8: Dudoit | D8: Bv Sandpiper | E8: =Q8+AA8++AK8+AU8+BO8 -> 42.5 | F8: =IF(E8=0,"",RANK(E8,E$4:E$9,0)) -> 4 | G8: =IF(F8=1,"Or",IF(F8=2,"Argent",IF(F8=3,"Bronze",""))) | I8: =IF(H8=0,"",RANK(H8,H$4:H$9,0)) | J8: =IF(I8="",0,VLOOKUP(I8,Pointage[#All],2,FALSE)*J$2) -> 0 | L8: =IF(K8=0,"",RANK(K8,K$4:K$9,0)) | M8: =IF(L8="",0,VLOOKUP(L8,Pointage[#All],2,FALSE)*M$2) -> 0 | O8: =IF(N8=0,"",RANK(N8,N$4:N$9,0)) | P8: =IF(O8="",0,VLOOKUP(O8,Pointage[#All],2,FALSE)*P$2) -> 0 | Q8: =IF(J8="","",J8+M8+P8) -> 0 | S8: =IF(R8=0,"",RANK(R8,R$4:R$9,0)) | T8: =IF(S8="",0,VLOOKUP(S8,Pointage[#All],2,FALSE)*T$2) -> 0 | V8: =IF(U8=0,"",RANK(U8,U$4:U$9,0)) | W8: =IF(V8="",0,VLOOKUP(V8,Pointage[#All],2,FALSE)*W$2) -> 0 | Y8: =IF(X8=0,"",RANK(X8,X$4:X$9,0)) | Z8: =IF(Y8="",0,VLOOKUP(Y8,Pointage[#All],2,FALSE)*Z$2) -> 0 | AA8: =IF(T8="","",T8+W8+Z8) -> 0 | AC8: =IF(AB8=0,"",RANK(AB8,AB$4:AB$9,0)) | AD8: =IF(AC8="",0,VLOOKUP(AC8,Pointage[#All],2,FALSE)*AD$2) -> 0 | AF8: =IF(AE8=0,"",RANK(AE8,AE$4:AE$9,0)) | AG8: =IF(AF8="",0,VLOOKUP(AF8,Pointage[#All],2,FALSE)*AG$2) -> 0 | AI8: =IF(AH8=0,"",RANK(AH8,AH$4:AH$9,0)) | AJ8: =IF(AI8="",0,VLOOKUP(AI8,Pointage[#All],2,FALSE)*AJ$2) -> 0 | AK8: =IF(AD8="","",AD8+AG8+AJ8) -> 0 | AM8: =IF(AL8=0,"",RANK(AL8,AL$4:AL$9,0)) | AN8: =IF(AM8="",0,VLOOKUP(AM8,Pointage[#All],2,FALSE)*AN$2) -> 0 | AP8: =IF(AO8=0,"",RANK(AO8,AO$4:AO$9,0)) | AQ8: =IF(AP8="",0,VLOOKUP(AP8,Pointage[#All],2,FALSE)*AQ$2) -> 0 | AS8: =IF(AR8=0,"",RANK(AR8,AR$4:AR$9,0)) | AT8: =IF(AS8="",0,VLOOKUP(AS8,Pointage[#All],2,FALSE)*AT$2) -> 0 | AU8: =IF(AN8="","",AN8+AQ8+AT8) -> 0 | AW8: =IF(AV8=0,"",RANK(AV8,AV$4:AV$9,0)) | AX8: =IF(AW8="",0,VLOOKUP(AW8,Pointage[#All],2,FALSE)*AX$2) -> 0 | AZ8: =IF(AY8=0,"",RANK(AY8,AY$4:AY$9,0)) | BA8: =IF(AZ8="",0,VLOOKUP(AZ8,Pointage[#All],2,FALSE)*BA$2) -> 0 | BC8: =IF(BB8=0,"",RANK(BB8,BB$4:BB$9,0)) | BD8: =IF(BC8="",0,VLOOKUP(BC8,Pointage[#All],2,FALSE)*BD$2) -> 0 | BE8: =IF(AX8="","",AX8+BA8+BD8) -> 0 | BF8: 66.562 | BG8: =IF(BF8=0,"",RANK(BF8,BF$4:BF$9,0)) -> 3 | BH8: =IF(BG8="",0,VLOOKUP(BG8,Pointage[#All],2,FALSE)*BH$2) -> 12 | BI8: 64.375 | BJ8: =IF(BI8=0,"",RANK(BI8,BI$4:BI$9,0)) -> 2 | BK8: =IF(BJ8="",0,VLOOKUP(BJ8,Pointage[#All],2,FALSE)*BK$2) -> 10 | BL8: 63.75 | BM8: =IF(BL8=0,"",RANK(BL8,BL$4:BL$9,0)) -> 3 | BN8: =IF(BM8="",0,VLOOKUP(BM8,Pointage[#All],2,FALSE)*BN$2) -> 12 | BO8: =IF(BH8="","",BH8+BK8+BN8)*1.25 -> 42.5
E9: =Q9+AA9++AK9+AU9+BO9 -> 0 | F9: =IF(E9=0,"",RANK(E9,E$4:E$9,0)) | G9: =IF(F9=1,"Or",IF(F9=2,"Argent",IF(F9=3,"Bronze",""))) | I9: =IF(H9=0,"",RANK(H9,H$4:H$9,0)) | J9: =IF(I9="",0,VLOOKUP(I9,Pointage[#All],2,FALSE)*J$2) -> 0 | L9: =IF(K9=0,"",RANK(K9,K$4:K$9,0)) | M9: =IF(L9="",0,VLOOKUP(L9,Pointage[#All],2,FALSE)*M$2) -> 0 | O9: =IF(N9=0,"",RANK(N9,N$4:N$9,0)) | P9: =IF(O9="",0,VLOOKUP(O9,Pointage[#All],2,FALSE)*P$2) -> 0 | Q9: =IF(J9="","",J9+M9+P9) -> 0 | S9: =IF(R9=0,"",RANK(R9,R$4:R$9,0)) | T9: =IF(S9="",0,VLOOKUP(S9,Pointage[#All],2,FALSE)*T$2) -> 0 | V9: =IF(U9=0,"",RANK(U9,U$4:U$9,0)) | W9: =IF(V9="",0,VLOOKUP(V9,Pointage[#All],2,FALSE)*W$2) -> 0 | Y9: =IF(X9=0,"",RANK(X9,X$4:X$9,0)) | Z9: =IF(Y9="",0,VLOOKUP(Y9,Pointage[#All],2,FALSE)*Z$2) -> 0 | AA9: =IF(T9="","",T9+W9+Z9) -> 0 | AC9: =IF(AB9=0,"",RANK(AB9,AB$4:AB$9,0)) | AD9: =IF(AC9="",0,VLOOKUP(AC9,Pointage[#All],2,FALSE)*AD$2) -> 0 | AF9: =IF(AE9=0,"",RANK(AE9,AE$4:AE$9,0)) | AG9: =IF(AF9="",0,VLOOKUP(AF9,Pointage[#All],2,FALSE)*AG$2) -> 0 | AI9: =IF(AH9=0,"",RANK(AH9,AH$4:AH$9,0)) | AJ9: =IF(AI9="",0,VLOOKUP(AI9,Pointage[#All],2,FALSE)*AJ$2) -> 0 | AK9: =IF(AD9="","",AD9+AG9+AJ9) -> 0 | AM9: =IF(AL9=0,"",RANK(AL9,AL$4:AL$9,0)) | AN9: =IF(AM9="",0,VLOOKUP(AM9,Pointage[#All],2,FALSE)*AN$2) -> 0 | AP9: =IF(AO9=0,"",RANK(AO9,AO$4:AO$9,0)) | AQ9: =IF(AP9="",0,VLOOKUP(AP9,Pointage[#All],2,FALSE)*AQ$2) -> 0 | AS9: =IF(AR9=0,"",RANK(AR9,AR$4:AR$9,0)) | AT9: =IF(AS9="",0,VLOOKUP(AS9,Pointage[#All],2,FALSE)*AT$2) -> 0 | AU9: =IF(AN9="","",AN9+AQ9+AT9) -> 0 | AW9: =IF(AV9=0,"",RANK(AV9,AV$4:AV$9,0)) | AX9: =IF(AW9="",0,VLOOKUP(AW9,Pointage[#All],2,FALSE)*AX$2) -> 0 | AZ9: =IF(AY9=0,"",RANK(AY9,AY$4:AY$9,0)) | BA9: =IF(AZ9="",0,VLOOKUP(AZ9,Pointage[#All],2,FALSE)*BA$2) -> 0 | BC9: =IF(BB9=0,"",RANK(BB9,BB$4:BB$9,0)) | BD9: =IF(BC9="",0,VLOOKUP(BC9,Pointage[#All],2,FALSE)*BD$2) -> 0 | BE9: =IF(AX9="","",AX9+BA9+BD9) -> 0 | BG9: =IF(BF9=0,"",RANK(BF9,BF$4:BF$9,0)) | BH9: =IF(BG9="",0,VLOOKUP(BG9,Pointage[#All],2,FALSE)*BH$2) -> 0 | BJ9: =IF(BI9=0,"",RANK(BI9,BI$4:BI$9,0)) | BK9: =IF(BJ9="",0,VLOOKUP(BJ9,Pointage[#All],2,FALSE)*BK$2) -> 0 | BM9: =IF(BL9=0,"",RANK(BL9,BL$4:BL$9,0)) | BN9: =IF(BM9="",0,VLOOKUP(BM9,Pointage[#All],2,FALSE)*BN$2) -> 0 | BO9: =IF(BH9="","",BH9+BK9+BN9)*1.25 -> 0
A10: Initiation Junior | H10: Reprise 1 | I10: Nbr de cavalier | J10: 2 | K10: Reprise 2 | L10: Nbr de cavalier | M10: 2 | N10: Reprise 3 | O10: Nbr de cavalier | P10: 2 | Q10: TOTAL POINT | R10: Reprise 1 | S10: Nbr de cavalier | U10: Reprise 2 | V10: Nbr de cavalier | X10: Reprise 3 | Y10: Nbr de cavalier | AA10: TOTAL POINT | AB10: Reprise 1 | AC10: Nbr de cavalier | AD10: 3 | AE10: Reprise 2 | AF10: Nbr de cavalier | AG10: 3 | AH10: Reprise 3 | AI10: Nbr de cavalier | AJ10: 3 | AK10: TOTAL POINT | AL10: Reprise 1 | AM10: Nbr de cavalier | AN10: 2 | AO10: Reprise 2 | AP10: Nbr de cavalier | AQ10: 2 | AR10: Reprise 3 | AS10: Nbr de cavalier | AT10: 2 | AU10: TOTAL POINT | AV10: Reprise 1 | AW10: Nbr de cavalier | AX10: 3 | AY10: Reprise 2 | AZ10: Nbr de cavalier | BA10: 2 | BB10: Reprise 3 | BC10: Nbr de cavalier | BD10: 1 | BE10: TOTAL POINT | BF10: Reprise 1 | BG10: Nbr de cavalier | BH10: 3 | BI10: Reprise 2 | BJ10: Nbr de cavalier | BK10: 3 | BL10: Reprise 3 | BM10: Nbr de cavalier | BN10: 2 | BO10: TOTAL POINT
H11: Résultats | I11: Position | J11: Points | K11: Résultats | L11: Position | M11: Points | N11: Résultats | O11: Position | P11: Points | R11: Résultats | S11: Position | T11: Points | U11: Résultats | V11: Position | W11: Points | X11: Résultats | Y11: Position | Z11: Points | AB11: Résultats | AC11: Position | AD11: Points | AE11: Résultats | AF11: Position | AG11: Points | AH11: Résultats | AI11: Position | AJ11: Points | AL11: Résultats | AM11: Position | AN11: Points | AO11: Résultats | AP11: Position | AQ11: Points | AR11: Résultats | AS11: Position | AT11: Points | AV11: Résultats | AW11: Position | AX11: Points | AY11: Résultats | AZ11: Position | BA11: Points | BB11: Résultats | BC11: Position | BD11: Points | BF11: Résultats | BG11: Position | BH11: Points | BI11: Résultats | BJ11: Position | BK11: Points | BL11: Résultats | BM11: Position | BN11: Points
B12: Alexane | C12: Boulerice | D12: Just Call me Virgule | E12: =Q12+AA12++AK12+AU12+BO12+BE12 -> 203.25 | F12: =IF(E12=0,"",RANK(E12,E$12:E$17,0)) -> 1 | G12: =IF(F12=1,"Or",IF(F12=2,"Argent",IF(F12=3,"Bronze",""))) -> Or | H12: 63.125 | I12: =IF(H12=0,"",RANK(H12,H$12:H$17,0)) -> 1 | J12: =IF(I12="",0,VLOOKUP(I12,Pointage[#All],2,FALSE)*J$10) -> 12 | K12: 63.125 | L12: =IF(K12=0,"",RANK(K12,K$12:K$17,0)) -> 1 | M12: =IF(L12="",0,VLOOKUP(L12,Pointage[#All],2,FALSE)*M$10) -> 12 | N12: 64.75 | O12: =IF(N12=0,"",RANK(N12,N$12:N$17,0)) -> 1 | P12: =IF(O12="",0,VLOOKUP(O12,Pointage[#All],2,FALSE)*P$10) -> 12 | Q12: =IF(J12="","",J12+M12+P12) -> 36 | S12: =IF(R12=0,"",RANK(R12,R$12:R$17,0)) | T12: =IF(S12="",0,VLOOKUP(S12,Pointage[#All],2,FALSE)*T$10) -> 0 | V12: =IF(U12=0,"",RANK(U12,U$12:U$17,0)) | W12: =IF(V12="",0,VLOOKUP(V12,Pointage[#All],2,FALSE)*W$10) -> 0 | Y12: =IF(X12=0,"",RANK(X12,X$12:X$17,0)) | Z12: =IF(Y12="",0,VLOOKUP(Y12,Pointage[#All],2,FALSE)*Z$10) -> 0 | AA12: =IF(T12="","",T12+W12+Z12) -> 0 | AB12: 61.56 | AC12: 3 | AD12: =IF(AC12="",0,VLOOKUP(AC12,Pointage[#All],2,FALSE)*AD$10) -> 12 | AE12: 66.88 | AF12: 3 | AG12: =IF(AF12="",0,VLOOKUP(AF12,Pointage[#All],2,FALSE)*AG$10) -> 12 | AH12: 65.25 | AI12: 2 | AJ12: =IF(AI12="",0,VLOOKUP(AI12,Pointage[#All],2,FALSE)*AJ$10) -> 15 | AK12: =IF(AD12="","",AD12+AG12+AJ12) -> 39 | AL12: 70 | AM12: =IF(AL12=0,"",RANK(AL12,AL$12:AL$17,0)) -> 1 | AN12: =IF(AM12="",0,VLOOKUP(AM12,Pointage[#All],2,FALSE)*AN$10) -> 12 | AO12: 68.44 | AP12: =IF(AO12=0,"",RANK(AO12,AO$12:AO$17,0)) -> 1 | AQ12: =IF(AP12="",0,VLOOKUP(AP12,Pointage[#All],2,FALSE)*AQ$10) -> 12 | AR12: 62 | AS12: =IF(AR12=0,"",RANK(AR12,AR$12:AR$17,0)) -> 1 | AT12: =IF(AS12="",0,VLOOKUP(AS12,Pointage[#All],2,FALSE)*AT$10) -> 12 | AU12: =IF(AN12="","",AN12+AQ12+AT12) -> 36 | AV12: 61.875 | AW12: 1 | AX12: =IF(AW12="",0,VLOOKUP(AW12,Pointage[#All],2,FALSE)*AX$10) -> 18 | AY12: 69.68 | AZ12: =IF(AY12=0,"",RANK(AY12,AY$12:AY$17,0)) -> 1 | BA12: =IF(AZ12="",0,VLOOKUP(AZ12,Pointage[#All],2,FALSE)*BA$10) -> 12 | BB12: 69 | BC12: =IF(BB12=0,"",RANK(BB12,BB$12:BB$17,0)) -> 1 | BD12: =IF(BC12="",0,VLOOKUP(BC12,Pointage[#All],2,FALSE)*BD$10) -> 6 | BE12: =IF(AX12="","",AX12+BA12+BD12) -> 36 | BF12: 67.5 | BG12: =IF(BF12=0,"",RANK(BF12,BF$12:BF$17,0)) -> 2 | BH12: =IF(BG12="",0,VLOOKUP(BG12,Pointage[#All],2,FALSE)*BH$10) -> 15 | BI12: 74.375 | BJ12: =IF(BI12=0,"",RANK(BI12,BI$12:BI$17,0)) -> 1 | BK12: =IF(BJ12="",0,VLOOKUP(BJ12,Pointage[#All],2,FALSE)*BK$10) -> 18 | BL12: 75 | BM12: =IF(BL12=0,"",RANK(BL12,BL$12:BL$17,0)) -> 1 | BN12: =IF(BM12="",0,VLOOKUP(BM12,Pointage[#All],2,FALSE)*BN$10) -> 12 | BO12: =IF(BH12="","",BH12+BK12+BN12)*1.25 -> 56.25
B13: Béatrice | C13: Pontbriand | D13: Porto Bello | E13: =Q13+AA13++AK13+AU13+BO13+BE13 -> 158.75 | F13: =IF(E13=0,"",RANK(E13,E$12:E$17,0)) -> 2 | G13: =IF(F13=1,"Or",IF(F13=2,"Argent",IF(F13=3,"Bronze",""))) -> Argent | H13: 61.25 | I13: =IF(H13=0,"",RANK(H13,H$12:H$17,0)) -> 2 | J13: =IF(I13="",0,VLOOKUP(I13,Pointage[#All],2,FALSE)*J$10) -> 10 | K13: 59.375 | L13: =IF(K13=0,"",RANK(K13,K$12:K$17,0)) -> 2 | M13: =IF(L13="",0,VLOOKUP(L13,Pointage[#All],2,FALSE)*M$10) -> 10 | N13: 60 | O13: =IF(N13=0,"",RANK(N13,N$12:N$17,0)) -> 2 | P13: =IF(O13="",0,VLOOKUP(O13,Pointage[#All],2,FALSE)*P$10) -> 10 | Q13: =IF(J13="","",J13+M13+P13) -> 30 | S13: =IF(R13=0,"",RANK(R13,R$12:R$17,0)) | T13: =IF(S13="",0,VLOOKUP(S13,Pointage[#All],2,FALSE)*T$10) -> 0 | V13: =IF(U13=0,"",RANK(U13,U$12:U$17,0)) | W13: =IF(V13="",0,VLOOKUP(V13,Pointage[#All],2,FALSE)*W$10) -> 0 | Y13: =IF(X13=0,"",RANK(X13,X$12:X$17,0)) | Z13: =IF(Y13="",0,VLOOKUP(Y13,Pointage[#All],2,FALSE)*Z$10) -> 0 | AA13: =IF(T13="","",T13+W13+Z13) -> 0 | AB13: 66.88 | AC13: 1 | AD13: =IF(AC13="",0,VLOOKUP(AC13,Pointage[#All],2,FALSE)*AD$10) -> 18 | AE13: 67.19 | AF13: 2 | AG13: =IF(AF13="",0,VLOOKUP(AF13,Pointage[#All],2,FALSE)*AG$10) -> 15 | AH13: 64.5 | AI13: 3 | AJ13: =IF(AI13="",0,VLOOKUP(AI13,Pointage[#All],2,FALSE)*AJ$10) -> 12 | AK13: =IF(AD13="","",AD13+AG13+AJ13) -> 45 | AL13: 67.19 | AM13: =IF(AL13=0,"",RANK(AL13,AL$12:AL$17,0)) -> 2 | AN13: =IF(AM13="",0,VLOOKUP(AM13,Pointage[#All],2,FALSE)*AN$10) -> 10 | AO13: 62.5 | AP13: =IF(AO13=0,"",RANK(AO13,AO$12:AO$17,0)) -> 2 | AQ13: =IF(AP13="",0,VLOOKUP(AP13,Pointage[#All],2,FALSE)*AQ$10) -> 10 | AR13: 61.25 | AS13: =IF(AR13=0,"",RANK(AR13,AR$12:AR$17,0)) -> 2 | AT13: =IF(AS13="",0,VLOOKUP(AS13,Pointage[#All],2,FALSE)*AT$10) -> 10 | AU13: =IF(AN13="","",AN13+AQ13+AT13) -> 30 | AW13: =IF(AV13=0,"",RANK(AV13,AV$12:AV$17,0)) | AX13: =IF(AW13="",0,VLOOKUP(AW13,Pointage[#All],2,FALSE)*AX$10) -> 0 | AZ13: =IF(AY13=0,"",RANK(AY13,AY$12:AY$17,0)) | BA13: =IF(AZ13="",0,VLOOKUP(AZ13,Pointage[#All],2,FALSE)*BA$10) -> 0 | BC13: =IF(BB13=0,"",RANK(BB13,BB$12:BB$17,0)) | BD13: =IF(BC13="",0,VLOOKUP(BC13,Pointage[#All],2,FALSE)*BD$10) -> 0 | BE13: =IF(AX13="","",AX13+BA13+BD13) -> 0 | BF13: 73.125 | BG13: =IF(BF13=0,"",RANK(BF13,BF$12:BF$17,0)) -> 1 | BH13: =IF(BG13="",0,VLOOKUP(BG13,Pointage[#All],2,FALSE)*BH$10) -> 18 | BI13: 70.312 | BJ13: =IF(BI13=0,"",RANK(BI13,BI$12:BI$17,0)) -> 2 | BK13: =IF(BJ13="",0,VLOOKUP(BJ13,Pointage[#All],2,FALSE)*BK$10) -> 15 | BL13: 68 | BM13: =IF(BL13=0,"",RANK(BL13,BL$12:BL$17,0)) -> 2 | BN13: =IF(BM13="",0,VLOOKUP(BM13,Pointage[#All],2,FALSE)*BN$10) -> 10 | BO13: =IF(BH13="","",BH13+BK13+BN13)*1.25 -> 53.75
B14: Juliane | C14: Rouleau | D14: Pickolo | E14: =Q14+AA14++AK14+AU14+BO14+BE14 -> 48 | F14: =IF(E14=0,"",RANK(E14,E$12:E$17,0)) -> 3 | G14: =IF(F14=1,"Or",IF(F14=2,"Argent",IF(F14=3,"Bronze",""))) -> Bronze | I14: =IF(H14=0,"",RANK(H14,H$12:H$17,0)) | J14: =IF(I14="",0,VLOOKUP(I14,Pointage[#All],2,FALSE)*J$10) -> 0 | L14: =IF(K14=0,"",RANK(K14,K$12:K$17,0)) | M14: =IF(L14="",0,VLOOKUP(L14,Pointage[#All],2,FALSE)*M$10) -> 0 | O14: =IF(N14=0,"",RANK(N14,N$12:N$17,0)) | P14: =IF(O14="",0,VLOOKUP(O14,Pointage[#All],2,FALSE)*P$10) -> 0 | Q14: =IF(J14="","",J14+M14+P14) -> 0 | S14: =IF(R14=0,"",RANK(R14,R$12:R$17,0)) | T14: =IF(S14="",0,VLOOKUP(S14,Pointage[#All],2,FALSE)*T$10) -> 0 | V14: =IF(U14=0,"",RANK(U14,U$12:U$17,0)) | W14: =IF(V14="",0,VLOOKUP(V14,Pointage[#All],2,FALSE)*W$10) -> 0 | Y14: =IF(X14=0,"",RANK(X14,X$12:X$17,0)) | Z14: =IF(Y14="",0,VLOOKUP(Y14,Pointage[#All],2,FALSE)*Z$10) -> 0 | AA14: =IF(T14="","",T14+W14+Z14) -> 0 | AC14: =IF(AB14=0,"",RANK(AB14,AB$12:AB$17,0)) | AD14: =IF(AC14="",0,VLOOKUP(AC14,Pointage[#All],2,FALSE)*AD$10) -> 0 | AF14: =IF(AE14=0,"",RANK(AE14,AE$12:AE$17,0)) | AG14: =IF(AF14="",0,VLOOKUP(AF14,Pointage[#All],2,FALSE)*AG$10) -> 0 | AI14: =IF(AH14=0,"",RANK(AH14,AH$12:AH$17,0)) | AJ14: =IF(AI14="",0,VLOOKUP(AI14,Pointage[#All],2,FALSE)*AJ$10) -> 0 | AK14: =IF(AD14="","",AD14+AG14+AJ14) -> 0 | AM14: =IF(AL14=0,"",RANK(AL14,AL$12:AL$17,0)) | AN14: =IF(AM14="",0,VLOOKUP(AM14,Pointage[#All],2,FALSE)*AN$10) -> 0 | AP14: =IF(AO14=0,"",RANK(AO14,AO$12:AO$17,0)) | AQ14: =IF(AP14="",0,VLOOKUP(AP14,Pointage[#All],2,FALSE)*AQ$10) -> 0 | AS14: =IF(AR14=0,"",RANK(AR14,AR$12:AR$17,0)) | AT14: =IF(AS14="",0,VLOOKUP(AS14,Pointage[#All],2,FALSE)*AT$10) -> 0 | AU14: =IF(AN14="","",AN14+AQ14+AT14) -> 0 | AV14: 61.88 | AW14: =IF(AV14=0,"",RANK(AV14,AV$12:AV$17,0)) -> 1 | AX14: =IF(AW14="",0,VLOOKUP(AW14,Pointage[#All],2,FALSE)*AX$10) -> 18 | AZ14: =IF(AY14=0,"",RANK(AY14,AY$12:AY$17,0)) | BA14: =IF(AZ14="",0,VLOOKUP(AZ14,Pointage[#All],2,FALSE)*BA$10) -> 0 | BC14: =IF(BB14=0,"",RANK(BB14,BB$12:BB$17,0)) | BD14: =IF(BC14="",0,VLOOKUP(BC14,Pointage[#All],2,FALSE)*BD$10) -> 0 | BE14: =IF(AX14="","",AX14+BA14+BD14) -> 18 | BF14: 60.937 | BG14: =IF(BF14=0,"",RANK(BF14,BF$12:BF$17,0)) -> 3 | BH14: =IF(BG14="",0,VLOOKUP(BG14,Pointage[#All],2,FALSE)*BH$10) -> 12 | BI14: 55.937 | BJ14: 3 | BK14: =IF(BJ14="",0,VLOOKUP(BJ14,Pointage[#All],2,FALSE)*BK$10) -> 12 | BM14: =IF(BL14=0,"",RANK(BL14,BL$12:BL$17,0)) | BN14: =IF(BM14="",0,VLOOKUP(BM14,Pointage[#All],2,FALSE)*BN$10) -> 0 | BO14: =IF(BH14="","",BH14+BK14+BN14)*1.25 -> 30
B15: Jade | C15: Paré | D15: Croquette | E15: =Q15+AA15++AK15+AU15+BO15+BE15 -> 22 | F15: =IF(E15=0,"",RANK(E15,E$12:E$17,0)) -> 4 | G15: =IF(F15=1,"Or",IF(F15=2,"Argent",IF(F15=3,"Bronze",""))) | I15: =IF(H15=0,"",RANK(H15,H$12:H$17,0)) | J15: =IF(I15="",0,VLOOKUP(I15,Pointage[#All],2,FALSE)*J$10) -> 0 | L15: =IF(K15=0,"",RANK(K15,K$12:K$17,0)) | M15: =IF(L15="",0,VLOOKUP(L15,Pointage[#All],2,FALSE)*M$10) -> 0 | O15: =IF(N15=0,"",RANK(N15,N$12:N$17,0)) | P15: =IF(O15="",0,VLOOKUP(O15,Pointage[#All],2,FALSE)*P$10) -> 0 | Q15: =IF(J15="","",J15+M15+P15) -> 0 | S15: =IF(R15=0,"",RANK(R15,R$12:R$17,0)) | T15: =IF(S15="",0,VLOOKUP(S15,Pointage[#All],2,FALSE)*T$10) -> 0 | V15: =IF(U15=0,"",RANK(U15,U$12:U$17,0)) | W15: =IF(V15="",0,VLOOKUP(V15,Pointage[#All],2,FALSE)*W$10) -> 0 | Y15: =IF(X15=0,"",RANK(X15,X$12:X$17,0)) | Z15: =IF(Y15="",0,VLOOKUP(Y15,Pointage[#All],2,FALSE)*Z$10) -> 0 | AA15: =IF(T15="","",T15+W15+Z15) -> 0 | AC15: =IF(AB15=0,"",RANK(AB15,AB$12:AB$17,0)) | AD15: =IF(AC15="",0,VLOOKUP(AC15,Pointage[#All],2,FALSE)*AD$10) -> 0 | AF15: =IF(AE15=0,"",RANK(AE15,AE$12:AE$17,0)) | AG15: =IF(AF15="",0,VLOOKUP(AF15,Pointage[#All],2,FALSE)*AG$10) -> 0 | AI15: =IF(AH15=0,"",RANK(AH15,AH$12:AH$17,0)) | AJ15: =IF(AI15="",0,VLOOKUP(AI15,Pointage[#All],2,FALSE)*AJ$10) -> 0 | AK15: =IF(AD15="","",AD15+AG15+AJ15) -> 0 | AM15: =IF(AL15=0,"",RANK(AL15,AL$12:AL$17,0)) | AN15: =IF(AM15="",0,VLOOKUP(AM15,Pointage[#All],2,FALSE)*AN$10) -> 0 | AP15: =IF(AO15=0,"",RANK(AO15,AO$12:AO$17,0)) | AQ15: =IF(AP15="",0,VLOOKUP(AP15,Pointage[#All],2,FALSE)*AQ$10) -> 0 | AS15: =IF(AR15=0,"",RANK(AR15,AR$12:AR$17,0)) | AT15: =IF(AS15="",0,VLOOKUP(AS15,Pointage[#All],2,FALSE)*AT$10) -> 0 | AU15: =IF(AN15="","",AN15+AQ15+AT15) -> 0 | AV15: 56.25 | AW15: =IF(AV15=0,"",RANK(AV15,AV$12:AV$17,0)) -> 3 | AX15: =IF(AW15="",0,VLOOKUP(AW15,Pointage[#All],2,FALSE)*AX$10) -> 12 | AY15: 48.75 | AZ15: =IF(AY15=0,"",RANK(AY15,AY$12:AY$17,0)) -> 2 | BA15: =IF(AZ15="",0,VLOOKUP(AZ15,Pointage[#All],2,FALSE)*BA$10) -> 10 | BC15: =IF(BB15=0,"",RANK(BB15,BB$12:BB$17,0)) | BD15: =IF(BC15="",0,VLOOKUP(BC15,Pointage[#All],2,FALSE)*BD$10) -> 0 | BE15: =IF(AX15="","",AX15+BA15+BD15) -> 22 | BH15: =IF(BG15="",0,VLOOKUP(BG15,Pointage[#All],2,FALSE)*BH$10) -> 0 | BK15: =IF(BJ15="",0,VLOOKUP(BJ15,Pointage[#All],2,FALSE)*BK$10) -> 0 | BM15: =IF(BL15=0,"",RANK(BL15,BL$12:BL$17,0)) | BN15: =IF(BM15="",0,VLOOKUP(BM15,Pointage[#All],2,FALSE)*BN$10) -> 0 | BO15: =IF(BH15="","",BH15+BK15+BN15)*1.25 -> 0
E16: =Q16+AA16++AK16+AU16+BO16 -> 0 | F16: =IF(E16=0,"",RANK(E16,E$12:E$17,0)) | G16: =IF(F16=1,"Or",IF(F16=2,"Argent",IF(F16=3,"Bronze",""))) | I16: =IF(H16=0,"",RANK(H16,H$12:H$17,0)) | J16: =IF(I16="",0,VLOOKUP(I16,Pointage[#All],2,FALSE)*J$10) -> 0 | L16: =IF(K16=0,"",RANK(K16,K$12:K$17,0)) | M16: =IF(L16="",0,VLOOKUP(L16,Pointage[#All],2,FALSE)*M$10) -> 0 | O16: =IF(N16=0,"",RANK(N16,N$12:N$17,0)) | P16: =IF(O16="",0,VLOOKUP(O16,Pointage[#All],2,FALSE)*P$10) -> 0 | Q16: =IF(J16="","",J16+M16+P16) -> 0 | S16: =IF(R16=0,"",RANK(R16,R$12:R$17,0)) | T16: =IF(S16="",0,VLOOKUP(S16,Pointage[#All],2,FALSE)*T$10) -> 0 | V16: =IF(U16=0,"",RANK(U16,U$12:U$17,0)) | W16: =IF(V16="",0,VLOOKUP(V16,Pointage[#All],2,FALSE)*W$10) -> 0 | Y16: =IF(X16=0,"",RANK(X16,X$12:X$17,0)) | Z16: =IF(Y16="",0,VLOOKUP(Y16,Pointage[#All],2,FALSE)*Z$10) -> 0 | AA16: =IF(T16="","",T16+W16+Z16) -> 0 | AC16: =IF(AB16=0,"",RANK(AB16,AB$12:AB$17,0)) | AD16: =IF(AC16="",0,VLOOKUP(AC16,Pointage[#All],2,FALSE)*AD$10) -> 0 | AF16: =IF(AE16=0,"",RANK(AE16,AE$12:AE$17,0)) | AG16: =IF(AF16="",0,VLOOKUP(AF16,Pointage[#All],2,FALSE)*AG$10) -> 0 | AI16: =IF(AH16=0,"",RANK(AH16,AH$12:AH$17,0)) | AJ16: =IF(AI16="",0,VLOOKUP(AI16,Pointage[#All],2,FALSE)*AJ$10) -> 0 | AK16: =IF(AD16="","",AD16+AG16+AJ16) -> 0 | AM16: =IF(AL16=0,"",RANK(AL16,AL$12:AL$17,0)) | AN16: =IF(AM16="",0,VLOOKUP(AM16,Pointage[#All],2,FALSE)*AN$10) -> 0 | AP16: =IF(AO16=0,"",RANK(AO16,AO$12:AO$17,0)) | AQ16: =IF(AP16="",0,VLOOKUP(AP16,Pointage[#All],2,FALSE)*AQ$10) -> 0 | AS16: =IF(AR16=0,"",RANK(AR16,AR$12:AR$17,0)) | AT16: =IF(AS16="",0,VLOOKUP(AS16,Pointage[#All],2,FALSE)*AT$10) -> 0 | AU16: =IF(AN16="","",AN16+AQ16+AT16) -> 0 | AW16: =IF(AV16=0,"",RANK(AV16,AV$12:AV$17,0)) | AX16: =IF(AW16="",0,VLOOKUP(AW16,Pointage[#All],2,FALSE)*AX$10) -> 0 | AZ16: =IF(AY16=0,"",RANK(AY16,AY$12:AY$17,0)) | BA16: =IF(AZ16="",0,VLOOKUP(AZ16,Pointage[#All],2,FALSE)*BA$10) -> 0 | BC16: =IF(BB16=0,"",RANK(BB16,BB$12:BB$17,0)) | BD16: =IF(BC16="",0,VLOOKUP(BC16,Pointage[#All],2,FALSE)*BD$10) -> 0 | BE16: =IF(AX16="","",AX16+BA16+BD16) -> 0 | BH16: =IF(BG16="",0,VLOOKUP(BG16,Pointage[#All],2,FALSE)*BH$10) -> 0 | BK16: =IF(BJ16="",0,VLOOKUP(BJ16,Pointage[#All],2,FALSE)*BK$10) -> 0 | BM16: =IF(BL16=0,"",RANK(BL16,BL$12:BL$17,0)) | BN16: =IF(BM16="",0,VLOOKUP(BM16,Pointage[#All],2,FALSE)*BN$10) -> 0 | BO16: =IF(BH16="","",BH16+BK16+BN16)*1.25 -> 0
E17: =Q17+AA17++AK17+AU17+BO17 -> 0 | F17: =IF(E17=0,"",RANK(E17,E$12:E$17,0)) | G17: =IF(F17=1,"Or",IF(F17=2,"Argent",IF(F17=3,"Bronze",""))) | I17: =IF(H17=0,"",RANK(H17,H$12:H$17,0)) | J17: =IF(I17="",0,VLOOKUP(I17,Pointage[#All],2,FALSE)*J$10) -> 0 | L17: =IF(K17=0,"",RANK(K17,K$12:K$17,0)) | M17: =IF(L17="",0,VLOOKUP(L17,Pointage[#All],2,FALSE)*M$10) -> 0 | O17: =IF(N17=0,"",RANK(N17,N$12:N$17,0)) | P17: =IF(O17="",0,VLOOKUP(O17,Pointage[#All],2,FALSE)*P$10) -> 0 | Q17: =IF(J17="","",J17+M17+P17) -> 0 | S17: =IF(R17=0,"",RANK(R17,R$12:R$17,0)) | T17: =IF(S17="",0,VLOOKUP(S17,Pointage[#All],2,FALSE)*T$10) -> 0 | V17: =IF(U17=0,"",RANK(U17,U$12:U$17,0)) | W17: =IF(V17="",0,VLOOKUP(V17,Pointage[#All],2,FALSE)*W$10) -> 0 | Y17: =IF(X17=0,"",RANK(X17,X$12:X$17,0)) | Z17: =IF(Y17="",0,VLOOKUP(Y17,Pointage[#All],2,FALSE)*Z$10) -> 0 | AA17: =IF(T17="","",T17+W17+Z17) -> 0 | AC17: =IF(AB17=0,"",RANK(AB17,AB$12:AB$17,0)) | AD17: =IF(AC17="",0,VLOOKUP(AC17,Pointage[#All],2,FALSE)*AD$10) -> 0 | AF17: =IF(AE17=0,"",RANK(AE17,AE$12:AE$17,0)) | AG17: =IF(AF17="",0,VLOOKUP(AF17,Pointage[#All],2,FALSE)*AG$10) -> 0 | AI17: =IF(AH17=0,"",RANK(AH17,AH$12:AH$17,0)) | AJ17: =IF(AI17="",0,VLOOKUP(AI17,Pointage[#All],2,FALSE)*AJ$10) -> 0 | AK17: =IF(AD17="","",AD17+AG17+AJ17) -> 0 | AM17: =IF(AL17=0,"",RANK(AL17,AL$12:AL$17,0)) | AN17: =IF(AM17="",0,VLOOKUP(AM17,Pointage[#All],2,FALSE)*AN$10) -> 0 | AP17: =IF(AO17=0,"",RANK(AO17,AO$12:AO$17,0)) | AQ17: =IF(AP17="",0,VLOOKUP(AP17,Pointage[#All],2,FALSE)*AQ$10) -> 0 | AS17: =IF(AR17=0,"",RANK(AR17,AR$12:AR$17,0)) | AT17: =IF(AS17="",0,VLOOKUP(AS17,Pointage[#All],2,FALSE)*AT$10) -> 0 | AU17: =IF(AN17="","",AN17+AQ17+AT17) -> 0 | AW17: =IF(AV17=0,"",RANK(AV17,AV$12:AV$17,0)) | AX17: =IF(AW17="",0,VLOOKUP(AW17,Pointage[#All],2,FALSE)*AX$10) -> 0 | AZ17: =IF(AY17=0,"",RANK(AY17,AY$12:AY$17,0)) | BA17: =IF(AZ17="",0,VLOOKUP(AZ17,Pointage[#All],2,FALSE)*BA$10) -> 0 | BC17: =IF(BB17=0,"",RANK(BB17,BB$12:BB$17,0)) | BD17: =IF(BC17="",0,VLOOKUP(BC17,Pointage[#All],2,FALSE)*BD$10) -> 0 | BE17: =IF(AX17="","",AX17+BA17+BD17) -> 0 | BH17: =IF(BG17="",0,VLOOKUP(BG17,Pointage[#All],2,FALSE)*BH$10) -> 0 | BK17: =IF(BJ17="",0,VLOOKUP(BJ17,Pointage[#All],2,FALSE)*BK$10) -> 0 | BM17: =IF(BL17=0,"",RANK(BL17,BL$12:BL$17,0)) | BN17: =IF(BM17="",0,VLOOKUP(BM17,Pointage[#All],2,FALSE)*BN$10) -> 0 | BO17: =IF(BH17="","",BH17+BK17+BN17)*1.25 -> 0
A18: Initiation Adulte | H18: Reprise 1 | I18: Nbr de cavalier | J18: 1 | K18: Reprise 2 | L18: Nbr de cavalier | M18: 1 | N18: Reprise 3 | O18: Nbr de cavalier | P18: 1 | Q18: TOTAL POINT | R18: Reprise 1 | S18: Nbr de cavalier | U18: Reprise 2 | V18: Nbr de cavalier | X18: Reprise 3 | Y18: Nbr de cavalier | AA18: TOTAL POINT | AB18: Reprise 1 | AC18: Nbr de cavalier | AD18: 1 | AE18: Reprise 2 | AF18: Nbr de cavalier | AG18: 1 | AH18: Reprise 3 | AI18: Nbr de cavalier | AJ18: 1 | AK18: TOTAL POINT | AL18: Reprise 1 | AM18: Nbr de cavalier | AN18: 1 | AO18: Reprise 2 | AP18: Nbr de cavalier | AQ18: 1 | AR18: Reprise 3 | AS18: Nbr de cavalier | AT18: 1 | AU18: TOTAL POINT | AV18: Reprise 1 | AW18: Nbr de cavalier | AX18: 2 | AY18: Reprise 2 | AZ18: Nbr de cavalier | BA18: 2 | BB18: Reprise 3 | BC18: Nbr de cavalier | BD18: 1 | BE18: TOTAL POINT | BF18: Reprise 1 | BG18: Nbr de cavalier | BH18: 2 | BI18: Reprise 2 | BJ18: Nbr de cavalier | BK18: 2 | BL18: Reprise 3 | BM18: Nbr de cavalier | BN18: 2 | BO18: TOTAL POINT
H19: Résultats | I19: Position | J19: Points | K19: Résultats | L19: Position | M19: Points | N19: Résultats | O19: Position | P19: Points | R19: Résultats | S19: Position | T19: Points | U19: Résultats | V19: Position | W19: Points | X19: Résultats | Y19: Position | Z19: Points | AB19: Résultats | AC19: Position | AD19: Points | AE19: Résultats | AF19: Position | AG19: Points | AH19: Résultats | AI19: Position | AJ19: Points | AL19: Résultats | AM19: Position | AN19: Points | AO19: Résultats | AP19: Position | AQ19: Points | AR19: Résultats | AS19: Position | AT19: Points | AV19: Résultats | AW19: Position | AX19: Points | AY19: Résultats | AZ19: Position | BA19: Points | BB19: Résultats | BC19: Position | BD19: Points | BF19: Résultats | BG19: Position | BH19: Points | BI19: Résultats | BJ19: Position | BK19: Points | BL19: Résultats | BM19: Position | BN19: Points
B20: Megane | C20: Vaskelis | D20: Midnight Socks | E20: =Q20+AA20++AK20+AU20+BO20+BE20 -> 18 | F20: =IF(E20=0,"",RANK(E20,E$20:E$26,0)) -> 5 | G20: =IF(F20=1,"Or",IF(F20=2,"Argent",IF(F20=3,"Bronze",""))) | H20: 62.187 | I20: =IF(H20=0,"",RANK(H20,H$20:H$26,0)) -> 1 | J20: =IF(I20="",0,VLOOKUP(I20,Pointage[#All],2,FALSE)*J$18) -> 6 | K20: 60.937 | L20: =IF(K20=0,"",RANK(K20,K$20:K$26,0)) -> 1 | M20: =IF(L20="",0,VLOOKUP(L20,Pointage[#All],2,FALSE)*M$18) -> 6 | N20: 61.25 | O20: =IF(N20=0,"",RANK(N20,N$20:N$26,0)) -> 1 | P20: =IF(O20="",0,VLOOKUP(O20,Pointage[#All],2,FALSE)*P$18) -> 6 | Q20: =IF(J20="","",J20+M20+P20) -> 18 | S20: =IF(R20=0,"",RANK(R20,R$20:R$26,0)) | T20: =IF(S20="",0,VLOOKUP(S20,Pointage[#All],2,FALSE)*T$18) -> 0 | V20: =IF(U20=0,"",RANK(U20,U$20:U$26,0)) | W20: =IF(V20="",0,VLOOKUP(V20,Pointage[#All],2,FALSE)*W$18) -> 0 | Y20: =IF(X20=0,"",RANK(X20,X$20:X$26,0)) | Z20: =IF(Y20="",0,VLOOKUP(Y20,Pointage[#All],2,FALSE)*Z$18) -> 0 | AA20: =IF(T20="","",T20+W20+Z20) -> 0 | AC20: =IF(AB20=0,"",RANK(AB20,AB$20:AB$26,0)) | AD20: =IF(AC20="",0,VLOOKUP(AC20,Pointage[#All],2,FALSE)*AD$18) -> 0 | AF20: =IF(AE20=0,"",RANK(AE20,AE$20:AE$26,0)) | AG20: =IF(AF20="",0,VLOOKUP(AF20,Pointage[#All],2,FALSE)*AG$18) -> 0 | AI20: =IF(AH20=0,"",RANK(AH20,AH$20:AH$26,0)) | AJ20: =IF(AI20="",0,VLOOKUP(AI20,Pointage[#All],2,FALSE)*AJ$18) -> 0 | AK20: =IF(AD20="","",AD20+AG20+AJ20) -> 0 | AM20: =IF(AL20=0,"",RANK(AL20,AL$20:AL$26,0)) | AN20: =IF(AM20="",0,VLOOKUP(AM20,Pointage[#All],2,FALSE)*AN$18) -> 0 | AP20: =IF(AO20=0,"",RANK(AO20,AO$20:AO$26,0)) | AQ20: =IF(AP20="",0,VLOOKUP(AP20,Pointage[#All],2,FALSE)*AQ$18) -> 0 | AS20: =IF(AR20=0,"",RANK(AR20,AR$20:AR$26,0)) | AT20: =IF(AS20="",0,VLOOKUP(AS20,Pointage[#All],2,FALSE)*AT$18) -> 0 | AU20: =IF(AN20="","",AN20+AQ20+AT20) -> 0 | AW20: =IF(AV20=0,"",RANK(AV20,AV$20:AV$26,0)) | AX20: =IF(AW20="",0,VLOOKUP(AW20,Pointage[#All],2,FALSE)*AX$18) -> 0 | AZ20: =IF(AY20=0,"",RANK(AY20,AY$20:AY$26,0)) | BA20: =IF(AZ20="",0,VLOOKUP(AZ20,Pointage[#All],2,FALSE)*BA$18) -> 0 | BC20: =IF(BB20=0,"",RANK(BB20,BB$20:BB$26,0)) | BD20: =IF(BC20="",0,VLOOKUP(BC20,Pointage[#All],2,FALSE)*BD$18) -> 0 | BE20: =IF(AX20="","",AX20+BA20+BD20) -> 0 | BG20: =IF(BF20=0,"",RANK(BF20,BF$20:BF$26,0)) | BH20: =IF(BG20="",0,VLOOKUP(BG20,Pointage[#All],2,FALSE)*BH$18) -> 0 | BJ20: =IF(BI20=0,"",RANK(BI20,BI$20:BI$26,0)) | BK20: =IF(BJ20="",0,VLOOKUP(BJ20,Pointage[#All],2,FALSE)*BK$18) -> 0 | BM20: =IF(BL20=0,"",RANK(BL20,BL$20:BL$26,0)) | BN20: =IF(BM20="",0,VLOOKUP(BM20,Pointage[#All],2,FALSE)*BN$18) -> 0 | BO20: =IF(BH20="","",BH20+BK20+BN20)*1.25 -> 0
B21: Audrey-Ann | C21: Morin | D21: Calypso | E21: =Q21+AA21++AK21+AU21+BO21+BE21 -> 18 | F21: =IF(E21=0,"",RANK(E21,E$20:E$26,0)) -> 5 | G21: =IF(F21=1,"Or",IF(F21=2,"Argent",IF(F21=3,"Bronze",""))) | I21: =IF(H21=0,"",RANK(H21,H$20:H$26,0)) | J21: =IF(I21="",0,VLOOKUP(I21,Pointage[#All],2,FALSE)*J$18) -> 0 | L21: =IF(K21=0,"",RANK(K21,K$20:K$26,0)) | M21: =IF(L21="",0,VLOOKUP(L21,Pointage[#All],2,FALSE)*M$18) -> 0 | O21: =IF(N21=0,"",RANK(N21,N$20:N$26,0)) | P21: =IF(O21="",0,VLOOKUP(O21,Pointage[#All],2,FALSE)*P$18) -> 0 | Q21: =IF(J21="","",J21+M21+P21) -> 0 | S21: =IF(R21=0,"",RANK(R21,R$20:R$26,0)) | T21: =IF(S21="",0,VLOOKUP(S21,Pointage[#All],2,FALSE)*T$18) -> 0 | V21: =IF(U21=0,"",RANK(U21,U$20:U$26,0)) | W21: =IF(V21="",0,VLOOKUP(V21,Pointage[#All],2,FALSE)*W$18) -> 0 | Y21: =IF(X21=0,"",RANK(X21,X$20:X$26,0)) | Z21: =IF(Y21="",0,VLOOKUP(Y21,Pointage[#All],2,FALSE)*Z$18) -> 0 | AA21: =IF(T21="","",T21+W21+Z21) -> 0 | AB21: 65.31 | AC21: =IF(AB21=0,"",RANK(AB21,AB$20:AB$26,0)) -> 1 | AD21: =IF(AC21="",0,VLOOKUP(AC21,Pointage[#All],2,FALSE)*AD$18) -> 6 | AE21: 64.69 | AF21: =IF(AE21=0,"",RANK(AE21,AE$20:AE$26,0)) -> 1 | AG21: =IF(AF21="",0,VLOOKUP(AF21,Pointage[#All],2,FALSE)*AG$18) -> 6 | AH21: 60 | AI21: =IF(AH21=0,"",RANK(AH21,AH$20:AH$26,0)) -> 1 | AJ21: =IF(AI21="",0,VLOOKUP(AI21,Pointage[#All],2,FALSE)*AJ$18) -> 6 | AK21: =IF(AD21="","",AD21+AG21+AJ21) -> 18 | AM21: =IF(AL21=0,"",RANK(AL21,AL$20:AL$26,0)) | AN21: =IF(AM21="",0,VLOOKUP(AM21,Pointage[#All],2,FALSE)*AN$18) -> 0 | AP21: =IF(AO21=0,"",RANK(AO21,AO$20:AO$26,0)) | AQ21: =IF(AP21="",0,VLOOKUP(AP21,Pointage[#All],2,FALSE)*AQ$18) -> 0 | AS21: =IF(AR21=0,"",RANK(AR21,AR$20:AR$26,0)) | AT21: =IF(AS21="",0,VLOOKUP(AS21,Pointage[#All],2,FALSE)*AT$18) -> 0 | AU21: =IF(AN21="","",AN21+AQ21+AT21) -> 0 | AW21: =IF(AV21=0,"",RANK(AV21,AV$20:AV$26,0)) | AX21: =IF(AW21="",0,VLOOKUP(AW21,Pointage[#All],2,FALSE)*AX$18) -> 0 | AZ21: =IF(AY21=0,"",RANK(AY21,AY$20:AY$26,0)) | BA21: =IF(AZ21="",0,VLOOKUP(AZ21,Pointage[#All],2,FALSE)*BA$18) -> 0 | BC21: =IF(BB21=0,"",RANK(BB21,BB$20:BB$26,0)) | BD21: =IF(BC21="",0,VLOOKUP(BC21,Pointage[#All],2,FALSE)*BD$18) -> 0 | BE21: =IF(AX21="","",AX21+BA21+BD21) -> 0 | BG21: =IF(BF21=0,"",RANK(BF21,BF$20:BF$26,0)) | BH21: =IF(BG21="",0,VLOOKUP(BG21,Pointage[#All],2,FALSE)*BH$18) -> 0 | BJ21: =IF(BI21=0,"",RANK(BI21,BI$20:BI$26,0)) | BK21: =IF(BJ21="",0,VLOOKUP(BJ21,Pointage[#All],2,FALSE)*BK$18) -> 0 | BM21: =IF(BL21=0,"",RANK(BL21,BL$20:BL$26,0)) | BN21: =IF(BM21="",0,VLOOKUP(BM21,Pointage[#All],2,FALSE)*BN$18) -> 0 | BO21: =IF(BH21="","",BH21+BK21+BN21)*1.25 -> 0
B22: Véronique | C22: Corriveau | D22: Lockwood | E22: =Q22+AA22++AK22+AU22+BO22+BE22 -> 18 | F22: =IF(E22=0,"",RANK(E22,E$20:E$26,0)) -> 5 | G22: =IF(F22=1,"Or",IF(F22=2,"Argent",IF(F22=3,"Bronze",""))) | I22: =IF(H22=0,"",RANK(H22,H$20:H$26,0)) | J22: =IF(I22="",0,VLOOKUP(I22,Pointage[#All],2,FALSE)*J$18) -> 0 | L22: =IF(K22=0,"",RANK(K22,K$20:K$26,0)) | M22: =IF(L22="",0,VLOOKUP(L22,Pointage[#All],2,FALSE)*M$18) -> 0 | O22: =IF(N22=0,"",RANK(N22,N$20:N$26,0)) | P22: =IF(O22="",0,VLOOKUP(O22,Pointage[#All],2,FALSE)*P$18) -> 0 | Q22: =IF(J22="","",J22+M22+P22) -> 0 | S22: =IF(R22=0,"",RANK(R22,R$20:R$26,0)) | T22: =IF(S22="",0,VLOOKUP(S22,Pointage[#All],2,FALSE)*T$18) -> 0 | V22: =IF(U22=0,"",RANK(U22,U$20:U$26,0)) | W22: =IF(V22="",0,VLOOKUP(V22,Pointage[#All],2,FALSE)*W$18) -> 0 | Y22: =IF(X22=0,"",RANK(X22,X$20:X$26,0)) | Z22: =IF(Y22="",0,VLOOKUP(Y22,Pointage[#All],2,FALSE)*Z$18) -> 0 | AA22: =IF(T22="","",T22+W22+Z22) -> 0 | AC22: =IF(AB22=0,"",RANK(AB22,AB$20:AB$26,0)) | AD22: =IF(AC22="",0,VLOOKUP(AC22,Pointage[#All],2,FALSE)*AD$18) -> 0 | AF22: =IF(AE22=0,"",RANK(AE22,AE$20:AE$26,0)) | AG22: =IF(AF22="",0,VLOOKUP(AF22,Pointage[#All],2,FALSE)*AG$18) -> 0 | AI22: =IF(AH22=0,"",RANK(AH22,AH$20:AH$26,0)) | AJ22: =IF(AI22="",0,VLOOKUP(AI22,Pointage[#All],2,FALSE)*AJ$18) -> 0 | AK22: =IF(AD22="","",AD22+AG22+AJ22) -> 0 | AL22: 65.31 | AM22: =IF(AL22=0,"",RANK(AL22,AL$20:AL$26,0)) -> 1 | AN22: =IF(AM22="",0,VLOOKUP(AM22,Pointage[#All],2,FALSE)*AN$18) -> 6 | AO22: 66.25 | AP22: =IF(AO22=0,"",RANK(AO22,AO$20:AO$26,0)) -> 1 | AQ22: =IF(AP22="",0,VLOOKUP(AP22,Pointage[#All],2,FALSE)*AQ$18) -> 6 | AR22: 66.75 | AS22: =IF(AR22=0,"",RANK(AR22,AR$20:AR$26,0)) -> 1 | AT22: =IF(AS22="",0,VLOOKUP(AS22,Pointage[#All],2,FALSE)*AT$18) -> 6 | AU22: =IF(AN22="","",AN22+AQ22+AT22) -> 18 | AW22: =IF(AV22=0,"",RANK(AV22,AV$20:AV$26,0)) | AX22: =IF(AW22="",0,VLOOKUP(AW22,Pointage[#All],2,FALSE)*AX$18) -> 0 | AZ22: =IF(AY22=0,"",RANK(AY22,AY$20:AY$26,0)) | BA22: =IF(AZ22="",0,VLOOKUP(AZ22,Pointage[#All],2,FALSE)*BA$18) -> 0 | BC22: =IF(BB22=0,"",RANK(BB22,BB$20:BB$26,0)) | BD22: =IF(BC22="",0,VLOOKUP(BC22,Pointage[#All],2,FALSE)*BD$18) -> 0 | BE22: =IF(AX22="","",AX22+BA22+BD22) -> 0 | BG22: =IF(BF22=0,"",RANK(BF22,BF$20:BF$26,0)) | BH22: =IF(BG22="",0,VLOOKUP(BG22,Pointage[#All],2,FALSE)*BH$18) -> 0 | BJ22: =IF(BI22=0,"",RANK(BI22,BI$20:BI$26,0)) | BK22: =IF(BJ22="",0,VLOOKUP(BJ22,Pointage[#All],2,FALSE)*BK$18) -> 0 | BM22: =IF(BL22=0,"",RANK(BL22,BL$20:BL$26,0)) | BN22: =IF(BM22="",0,VLOOKUP(BM22,Pointage[#All],2,FALSE)*BN$18) -> 0 | BO22: =IF(BH22="","",BH22+BK22+BN22)*1.25 -> 0
B23: Jodianne | C23: Couture | D23: Jetdor D'Astra | E23: =Q23+AA23++AK23+AU23+BO23+BE23 -> 30 | F23: =IF(E23=0,"",RANK(E23,E$20:E$26,0)) -> 3 | G23: =IF(F23=1,"Or",IF(F23=2,"Argent",IF(F23=3,"Bronze",""))) -> Bronze | I23: =IF(H23=0,"",RANK(H23,H$20:H$26,0)) | J23: =IF(I23="",0,VLOOKUP(I23,Pointage[#All],2,FALSE)*J$18) -> 0 | L23: =IF(K23=0,"",RANK(K23,K$20:K$26,0)) | M23: =IF(L23="",0,VLOOKUP(L23,Pointage[#All],2,FALSE)*M$18) -> 0 | O23: =IF(N23=0,"",RANK(N23,N$20:N$26,0)) | P23: =IF(O23="",0,VLOOKUP(O23,Pointage[#All],2,FALSE)*P$18) -> 0 | Q23: =IF(J23="","",J23+M23+P23) -> 0 | S23: =IF(R23=0,"",RANK(R23,R$20:R$26,0)) | T23: =IF(S23="",0,VLOOKUP(S23,Pointage[#All],2,FALSE)*T$18) -> 0 | V23: =IF(U23=0,"",RANK(U23,U$20:U$26,0)) | W23: =IF(V23="",0,VLOOKUP(V23,Pointage[#All],2,FALSE)*W$18) -> 0 | Y23: =IF(X23=0,"",RANK(X23,X$20:X$26,0)) | Z23: =IF(Y23="",0,VLOOKUP(Y23,Pointage[#All],2,FALSE)*Z$18) -> 0 | AA23: =IF(T23="","",T23+W23+Z23) -> 0 | AC23: =IF(AB23=0,"",RANK(AB23,AB$20:AB$26,0)) | AD23: =IF(AC23="",0,VLOOKUP(AC23,Pointage[#All],2,FALSE)*AD$18) -> 0 | AF23: =IF(AE23=0,"",RANK(AE23,AE$20:AE$26,0)) | AG23: =IF(AF23="",0,VLOOKUP(AF23,Pointage[#All],2,FALSE)*AG$18) -> 0 | AI23: =IF(AH23=0,"",RANK(AH23,AH$20:AH$26,0)) | AJ23: =IF(AI23="",0,VLOOKUP(AI23,Pointage[#All],2,FALSE)*AJ$18) -> 0 | AK23: =IF(AD23="","",AD23+AG23+AJ23) -> 0 | AM23: =IF(AL23=0,"",RANK(AL23,AL$20:AL$26,0)) | AN23: =IF(AM23="",0,VLOOKUP(AM23,Pointage[#All],2,FALSE)*AN$18) -> 0 | AP23: =IF(AO23=0,"",RANK(AO23,AO$20:AO$26,0)) | AQ23: =IF(AP23="",0,VLOOKUP(AP23,Pointage[#All],2,FALSE)*AQ$18) -> 0 | AS23: =IF(AR23=0,"",RANK(AR23,AR$20:AR$26,0)) | AT23: =IF(AS23="",0,VLOOKUP(AS23,Pointage[#All],2,FALSE)*AT$18) -> 0 | AU23: =IF(AN23="","",AN23+AQ23+AT23) -> 0 | AV23: 66.25 | AW23: =IF(AV23=0,"",RANK(AV23,AV$20:AV$26,0)) -> 1 | AX23: =IF(AW23="",0,VLOOKUP(AW23,Pointage[#All],2,FALSE)*AX$18) -> 12 | AY23: 64.06 | AZ23: =IF(AY23=0,"",RANK(AY23,AY$20:AY$26,0)) -> 1 | BA23: =IF(AZ23="",0,VLOOKUP(AZ23,Pointage[#All],2,FALSE)*BA$18) -> 12 | BB23: 60.5 | BC23: =IF(BB23=0,"",RANK(BB23,BB$20:BB$26,0)) -> 1 | BD23: =IF(BC23="",0,VLOOKUP(BC23,Pointage[#All],2,FALSE)*BD$18) -> 6 | BE23: =IF(AX23="","",AX23+BA23+BD23) -> 30 | BG23: =IF(BF23=0,"",RANK(BF23,BF$20:BF$26,0)) | BH23: =IF(BG23="",0,VLOOKUP(BG23,Pointage[#All],2,FALSE)*BH$18) -> 0 | BJ23: =IF(BI23=0,"",RANK(BI23,BI$20:BI$26,0)) | BK23: =IF(BJ23="",0,VLOOKUP(BJ23,Pointage[#All],2,FALSE)*BK$18) -> 0 | BM23: =IF(BL23=0,"",RANK(BL23,BL$20:BL$26,0)) | BN23: =IF(BM23="",0,VLOOKUP(BM23,Pointage[#All],2,FALSE)*BN$18) -> 0 | BO23: =IF(BH23="","",BH23+BK23+BN23)*1.25 -> 0
B24: Marie-Chantal | C24: Spooner | D24: Croquette | E24: =Q24+AA24++AK24+AU24+BO24+BE24 -> 20 | F24: =IF(E24=0,"",RANK(E24,E$20:E$26,0)) -> 4 | G24: =IF(F24=1,"Or",IF(F24=2,"Argent",IF(F24=3,"Bronze",""))) | I24: =IF(H24=0,"",RANK(H24,H$20:H$26,0)) | J24: =IF(I24="",0,VLOOKUP(I24,Pointage[#All],2,FALSE)*J$18) -> 0 | L24: =IF(K24=0,"",RANK(K24,K$20:K$26,0)) | M24: =IF(L24="",0,VLOOKUP(L24,Pointage[#All],2,FALSE)*M$18) -> 0 | O24: =IF(N24=0,"",RANK(N24,N$20:N$26,0)) | P24: =IF(O24="",0,VLOOKUP(O24,Pointage[#All],2,FALSE)*P$18) -> 0 | Q24: =IF(J24="","",J24+M24+P24) -> 0 | S24: =IF(R24=0,"",RANK(R24,R$20:R$26,0)) | T24: =IF(S24="",0,VLOOKUP(S24,Pointage[#All],2,FALSE)*T$18) -> 0 | V24: =IF(U24=0,"",RANK(U24,U$20:U$26,0)) | W24: =IF(V24="",0,VLOOKUP(V24,Pointage[#All],2,FALSE)*W$18) -> 0 | Y24: =IF(X24=0,"",RANK(X24,X$20:X$26,0)) | Z24: =IF(Y24="",0,VLOOKUP(Y24,Pointage[#All],2,FALSE)*Z$18) -> 0 | AA24: =IF(T24="","",T24+W24+Z24) -> 0 | AC24: =IF(AB24=0,"",RANK(AB24,AB$20:AB$26,0)) | AD24: =IF(AC24="",0,VLOOKUP(AC24,Pointage[#All],2,FALSE)*AD$18) -> 0 | AF24: =IF(AE24=0,"",RANK(AE24,AE$20:AE$26,0)) | AG24: =IF(AF24="",0,VLOOKUP(AF24,Pointage[#All],2,FALSE)*AG$18) -> 0 | AI24: =IF(AH24=0,"",RANK(AH24,AH$20:AH$26,0)) | AJ24: =IF(AI24="",0,VLOOKUP(AI24,Pointage[#All],2,FALSE)*AJ$18) -> 0 | AK24: =IF(AD24="","",AD24+AG24+AJ24) -> 0 | AM24: =IF(AL24=0,"",RANK(AL24,AL$20:AL$26,0)) | AN24: =IF(AM24="",0,VLOOKUP(AM24,Pointage[#All],2,FALSE)*AN$18) -> 0 | AP24: =IF(AO24=0,"",RANK(AO24,AO$20:AO$26,0)) | AQ24: =IF(AP24="",0,VLOOKUP(AP24,Pointage[#All],2,FALSE)*AQ$18) -> 0 | AS24: =IF(AR24=0,"",RANK(AR24,AR$20:AR$26,0)) | AT24: =IF(AS24="",0,VLOOKUP(AS24,Pointage[#All],2,FALSE)*AT$18) -> 0 | AU24: =IF(AN24="","",AN24+AQ24+AT24) -> 0 | AV24: 51.88 | AW24: =IF(AV24=0,"",RANK(AV24,AV$20:AV$26,0)) -> 2 | AX24: =IF(AW24="",0,VLOOKUP(AW24,Pointage[#All],2,FALSE)*AX$18) -> 10 | AY24: 46.88 | AZ24: =IF(AY24=0,"",RANK(AY24,AY$20:AY$26,0)) -> 2 | BA24: =IF(AZ24="",0,VLOOKUP(AZ24,Pointage[#All],2,FALSE)*BA$18) -> 10 | BC24: =IF(BB24=0,"",RANK(BB24,BB$20:BB$26,0)) | BD24: =IF(BC24="",0,VLOOKUP(BC24,Pointage[#All],2,FALSE)*BD$18) -> 0 | BE24: =IF(AX24="","",AX24+BA24+BD24) -> 20 | BG24: =IF(BF24=0,"",RANK(BF24,BF$20:BF$26,0)) | BH24: =IF(BG24="",0,VLOOKUP(BG24,Pointage[#All],2,FALSE)*BH$18) -> 0 | BJ24: =IF(BI24=0,"",RANK(BI24,BI$20:BI$26,0)) | BK24: =IF(BJ24="",0,VLOOKUP(BJ24,Pointage[#All],2,FALSE)*BK$18) -> 0 | BM24: =IF(BL24=0,"",RANK(BL24,BL$20:BL$26,0)) | BN24: =IF(BM24="",0,VLOOKUP(BM24,Pointage[#All],2,FALSE)*BN$18) -> 0 | BO24: =IF(BH24="","",BH24+BK24+BN24)*1.25 -> 0
B25: Eve | C25: Fontain | D25: Weiser | E25: =Q25+AA25++AK25+AU25+BO25 -> 37.5 | F25: =IF(E25=0,"",RANK(E25,E$20:E$26,0)) -> 2 | G25: =IF(F25=1,"Or",IF(F25=2,"Argent",IF(F25=3,"Bronze",""))) -> Argent | I25: =IF(H25=0,"",RANK(H25,H$20:H$26,0)) | J25: =IF(I25="",0,VLOOKUP(I25,Pointage[#All],2,FALSE)*J$18) -> 0 | L25: =IF(K25=0,"",RANK(K25,K$20:K$26,0)) | M25: =IF(L25="",0,VLOOKUP(L25,Pointage[#All],2,FALSE)*M$18) -> 0 | O25: =IF(N25=0,"",RANK(N25,N$20:N$26,0)) | P25: =IF(O25="",0,VLOOKUP(O25,Pointage[#All],2,FALSE)*P$18) -> 0 | Q25: =IF(J25="","",J25+M25+P25) -> 0 | S25: =IF(R25=0,"",RANK(R25,R$20:R$26,0)) | T25: =IF(S25="",0,VLOOKUP(S25,Pointage[#All],2,FALSE)*T$18) -> 0 | V25: =IF(U25=0,"",RANK(U25,U$20:U$26,0)) | W25: =IF(V25="",0,VLOOKUP(V25,Pointage[#All],2,FALSE)*W$18) -> 0 | Y25: =IF(X25=0,"",RANK(X25,X$20:X$26,0)) | Z25: =IF(Y25="",0,VLOOKUP(Y25,Pointage[#All],2,FALSE)*Z$18) -> 0 | AA25: =IF(T25="","",T25+W25+Z25) -> 0 | AC25: =IF(AB25=0,"",RANK(AB25,AB$20:AB$26,0)) | AD25: =IF(AC25="",0,VLOOKUP(AC25,Pointage[#All],2,FALSE)*AD$18) -> 0 | AF25: =IF(AE25=0,"",RANK(AE25,AE$20:AE$26,0)) | AG25: =IF(AF25="",0,VLOOKUP(AF25,Pointage[#All],2,FALSE)*AG$18) -> 0 | AI25: =IF(AH25=0,"",RANK(AH25,AH$20:AH$26,0)) | AJ25: =IF(AI25="",0,VLOOKUP(AI25,Pointage[#All],2,FALSE)*AJ$18) -> 0 | AK25: =IF(AD25="","",AD25+AG25+AJ25) -> 0 | AM25: =IF(AL25=0,"",RANK(AL25,AL$20:AL$26,0)) | AN25: =IF(AM25="",0,VLOOKUP(AM25,Pointage[#All],2,FALSE)*AN$18) -> 0 | AP25: =IF(AO25=0,"",RANK(AO25,AO$20:AO$26,0)) | AQ25: =IF(AP25="",0,VLOOKUP(AP25,Pointage[#All],2,FALSE)*AQ$18) -> 0 | AS25: =IF(AR25=0,"",RANK(AR25,AR$20:AR$26,0)) | AT25: =IF(AS25="",0,VLOOKUP(AS25,Pointage[#All],2,FALSE)*AT$18) -> 0 | AU25: =IF(AN25="","",AN25+AQ25+AT25) -> 0 | AW25: =IF(AV25=0,"",RANK(AV25,AV$20:AV$26,0)) | AX25: =IF(AW25="",0,VLOOKUP(AW25,Pointage[#All],2,FALSE)*AX$18) -> 0 | AZ25: =IF(AY25=0,"",RANK(AY25,AY$20:AY$26,0)) | BA25: =IF(AZ25="",0,VLOOKUP(AZ25,Pointage[#All],2,FALSE)*BA$18) -> 0 | BC25: =IF(BB25=0,"",RANK(BB25,BB$20:BB$26,0)) | BD25: =IF(BC25="",0,VLOOKUP(BC25,Pointage[#All],2,FALSE)*BD$18) -> 0 | BE25: =IF(AX25="","",AX25+BA25+BD25) -> 0 | BF25: 61.562 | BG25: =IF(BF25=0,"",RANK(BF25,BF$20:BF$26,0)) -> 2 | BH25: =IF(BG25="",0,VLOOKUP(BG25,Pointage[#All],2,FALSE)*BH$18) -> 10 | BI25: 59.062 | BJ25: =IF(BI25=0,"",RANK(BI25,BI$20:BI$26,0)) -> 2 | BK25: =IF(BJ25="",0,VLOOKUP(BJ25,Pointage[#All],2,FALSE)*BK$18) -> 10 | BL25: 55 | BM25: =IF(BL25=0,"",RANK(BL25,BL$20:BL$26,0)) -> 2 | BN25: =IF(BM25="",0,VLOOKUP(BM25,Pointage[#All],2,FALSE)*BN$18) -> 10 | BO25: =IF(BH25="","",BH25+BK25+BN25)*1.25 -> 37.5
B26: France | C26: Allard | D26: George W | E26: =Q26+AA26++AK26+AU26+BO26 -> 45 | F26: =IF(E26=0,"",RANK(E26,E$20:E$26,0)) -> 1 | G26: =IF(F26=1,"Or",IF(F26=2,"Argent",IF(F26=3,"Bronze",""))) -> Or | I26: =IF(H26=0,"",RANK(H26,H$20:H$26,0)) | J26: =IF(I26="",0,VLOOKUP(I26,Pointage[#All],2,FALSE)*J$18) -> 0 | L26: =IF(K26=0,"",RANK(K26,K$20:K$26,0)) | M26: =IF(L26="",0,VLOOKUP(L26,Pointage[#All],2,FALSE)*M$18) -> 0 | O26: =IF(N26=0,"",RANK(N26,N$20:N$26,0)) | P26: =IF(O26="",0,VLOOKUP(O26,Pointage[#All],2,FALSE)*P$18) -> 0 | Q26: =IF(J26="","",J26+M26+P26) -> 0 | S26: =IF(R26=0,"",RANK(R26,R$20:R$26,0)) | T26: =IF(S26="",0,VLOOKUP(S26,Pointage[#All],2,FALSE)*T$18) -> 0 | V26: =IF(U26=0,"",RANK(U26,U$20:U$26,0)) | W26: =IF(V26="",0,VLOOKUP(V26,Pointage[#All],2,FALSE)*W$18) -> 0 | Y26: =IF(X26=0,"",RANK(X26,X$20:X$26,0)) | Z26: =IF(Y26="",0,VLOOKUP(Y26,Pointage[#All],2,FALSE)*Z$18) -> 0 | AA26: =IF(T26="","",T26+W26+Z26) -> 0 | AC26: =IF(AB26=0,"",RANK(AB26,AB$20:AB$26,0)) | AD26: =IF(AC26="",0,VLOOKUP(AC26,Pointage[#All],2,FALSE)*AD$18) -> 0 | AF26: =IF(AE26=0,"",RANK(AE26,AE$20:AE$26,0)) | AG26: =IF(AF26="",0,VLOOKUP(AF26,Pointage[#All],2,FALSE)*AG$18) -> 0 | AI26: =IF(AH26=0,"",RANK(AH26,AH$20:AH$26,0)) | AJ26: =IF(AI26="",0,VLOOKUP(AI26,Pointage[#All],2,FALSE)*AJ$18) -> 0 | AK26: =IF(AD26="","",AD26+AG26+AJ26) -> 0 | AM26: =IF(AL26=0,"",RANK(AL26,AL$20:AL$26,0)) | AN26: =IF(AM26="",0,VLOOKUP(AM26,Pointage[#All],2,FALSE)*AN$18) -> 0 | AP26: =IF(AO26=0,"",RANK(AO26,AO$20:AO$26,0)) | AQ26: =IF(AP26="",0,VLOOKUP(AP26,Pointage[#All],2,FALSE)*AQ$18) -> 0 | AS26: =IF(AR26=0,"",RANK(AR26,AR$20:AR$26,0)) | AT26: =IF(AS26="",0,VLOOKUP(AS26,Pointage[#All],2,FALSE)*AT$18) -> 0 | AU26: =IF(AN26="","",AN26+AQ26+AT26) -> 0 | AW26: =IF(AV26=0,"",RANK(AV26,AV$20:AV$26,0)) | AX26: =IF(AW26="",0,VLOOKUP(AW26,Pointage[#All],2,FALSE)*AX$18) -> 0 | AZ26: =IF(AY26=0,"",RANK(AY26,AY$20:AY$26,0)) | BA26: =IF(AZ26="",0,VLOOKUP(AZ26,Pointage[#All],2,FALSE)*BA$18) -> 0 | BC26: =IF(BB26=0,"",RANK(BB26,BB$20:BB$26,0)) | BD26: =IF(BC26="",0,VLOOKUP(BC26,Pointage[#All],2,FALSE)*BD$18) -> 0 | BE26: =IF(AX26="","",AX26+BA26+BD26) -> 0 | BF26: 68.75 | BG26: =IF(BF26=0,"",RANK(BF26,BF$20:BF$26,0)) -> 1 | BH26: =IF(BG26="",0,VLOOKUP(BG26,Pointage[#All],2,FALSE)*BH$18) -> 12 | BI26: 68.437 | BJ26: =IF(BI26=0,"",RANK(BI26,BI$20:BI$26,0)) -> 1 | BK26: =IF(BJ26="",0,VLOOKUP(BJ26,Pointage[#All],2,FALSE)*BK$18) -> 12 | BL26: 66.75 | BM26: =IF(BL26=0,"",RANK(BL26,BL$20:BL$26,0)) -> 1 | BN26: =IF(BM26="",0,VLOOKUP(BM26,Pointage[#All],2,FALSE)*BN$18) -> 12 | BO26: =IF(BH26="","",BH26+BK26+BN26)*1.25 -> 45
A27: Initiation Ouvert | H27: Reprise 1 | I27: Nbr de cavalier | K27: Reprise 2 | L27: Nbr de cavalier | N27: Reprise 3 | O27: Nbr de cavalier | Q27: TOTAL POINT | R27: Reprise 1 | S27: Nbr de cavalier | U27: Reprise 2 | V27: Nbr de cavalier | X27: Reprise 3 | Y27: Nbr de cavalier | AA27: TOTAL POINT | AB27: Reprise 1 | AC27: Nbr de cavalier | AE27: Reprise 2 | AF27: Nbr de cavalier | AH27: Reprise 3 | AI27: Nbr de cavalier | AK27: TOTAL POINT | AL27: Reprise 1 | AM27: Nbr de cavalier | AO27: Reprise 2 | AP27: Nbr de cavalier | AR27: Reprise 3 | AS27: Nbr de cavalier | AU27: TOTAL POINT | AV27: Reprise 1 | AW27: Nbr de cavalier | AY27: Reprise 2 | AZ27: Nbr de cavalier | BB27: Reprise 3 | BC27: Nbr de cavalier | BE27: TOTAL POINT | BF27: Reprise 1 | BG27: Nbr de cavalier | BI27: Reprise 2 | BJ27: Nbr de cavalier | BL27: Reprise 3 | BM27: Nbr de cavalier | BO27: TOTAL POINT
H28: Résultats | I28: Position | J28: Points | K28: Résultats | L28: Position | M28: Points | N28: Résultats | O28: Position | P28: Points | R28: Résultats | S28: Position | T28: Points | U28: Résultats | V28: Position | W28: Points | X28: Résultats | Y28: Position | Z28: Points | AB28: Résultats | AC28: Position | AD28: Points | AE28: Résultats | AF28: Position | AG28: Points | AH28: Résultats | AI28: Position | AJ28: Points | AL28: Résultats | AM28: Position | AN28: Points | AO28: Résultats | AP28: Position | AQ28: Points | AR28: Résultats | AS28: Position | AT28: Points | AV28: Résultats | AW28: Position | AX28: Points | AY28: Résultats | AZ28: Position | BA28: Points | BB28: Résultats | BC28: Position | BD28: Points | BF28: Résultats | BG28: Position | BH28: Points | BI28: Résultats | BJ28: Position | BK28: Points | BL28: Résultats | BM28: Position | BN28: Points
